Workbook
Name все_основные: праздники!$K$33:$L$71
Name все_переносы: праздники!$O$33:$P$71
Name выходные: праздники!$A$2:$A$14
Name месяцы: календарь!$X$2:$Z$14
Name переносы: праздники!$A$15:$A$28
Name праздники: календарь!$AA$1:$AG$24

Sheet планер
A1: понедельник | C1: вторник | E1: среда | G1: четверг | I1: пятница | K1: суббота | M1: воскресенье | O1: пн | P1: вт | Q1: ср | R1: чт | S1: пт | T1: сб | U1: вс | V1: =TODAY()+7*M25 -> 41655 | AB1: =YEAR(V1) -> 2014 | AF1: Для Пасхи
A2: =$V$1-WEEKDAY($V$1,3)+0 -> 41652 | C2: =$V$1-WEEKDAY($V$1,3)+1 -> 41653 | E2: =$V$1-WEEKDAY($V$1,3)+2 -> 41654 | G2: =$V$1-WEEKDAY($V$1,3)+3 -> 41655 | I2: =$V$1-WEEKDAY($V$1,3)+4 -> 41656 | K2: =$V$1-WEEKDAY($V$1,3)+5 -> 41657 | M2: =$V$1-WEEKDAY($V$1,3)+6 -> 41658 | O2: =VLOOKUP(MONTH( V2 ),X3:Y14,2) -> Декабрь | T2: =YEAR(V2) -> 2013 | V2: =DATE(YEAR(V1),MONTH(V1)+W2,IF(DAY(V1)>VLOOKUP(MONTH(V1)+W2,X2:Z14,3),VLOOKUP(MONTH(V1)+W2,X2:Z14,3),DAY(V1))) -> 41624 | W2: -1 | X2: 0 | Y2: Декабрь | Z2: 31 | AA2: =CONCATENATE(DAY(AD2),".",MONTH(AD2)) -> 1.1 | AB2: 1 | AC2: 1 | AD2: =DATE($AB$1,AC2,AB2) -> 41640 | AE2: Новый год | AF2: а | AG2: =MOD(AB1,19) -> 0
O3: =IF(OR( 1 <WEEKDAY(EOMONTH(V2,-1)+1,2), 1 >DAY(EOMONTH(V2,0))+WEEKDAY(EOMONTH(V2,-1)+1,3)),"", 1 -WEEKDAY(EOMONTH(V2,-1)+1,2)+1) | P3: =IF(OR( 2 <WEEKDAY(EOMONTH(V2,-1)+1,2), 2 >DAY(EOMONTH(V2,0))+WEEKDAY(EOMONTH(V2,-1)+1,3)),"", 2 -WEEKDAY(EOMONTH(V2,-1)+1,2)+1) | Q3: =IF(OR( 3 <WEEKDAY(EOMONTH(V2,-1)+1,2), 3 >DAY(EOMONTH(V2,0))+WEEKDAY(EOMONTH(V2,-1)+1,3)),"", 3 -WEEKDAY(EOMONTH(V2,-1)+1,2)+1) | R3: =IF(OR( 4 <WEEKDAY(EOMONTH(V2,-1)+1,2), 4 >DAY(EOMONTH(V2,0))+WEEKDAY(EOMONTH(V2,-1)+1,3)),"", 4 -WEEKDAY(EOMONTH(V2,-1)+1,2)+1) | S3: =IF(OR( 5 <WEEKDAY(EOMONTH(V2,-1)+1,2), 5 >DAY(EOMONTH(V2,0))+WEEKDAY(EOMONTH(V2,-1)+1,3)),"", 5 -WEEKDAY(EOMONTH(V2,-1)+1,2)+1) | T3: =IF(OR( 6 <WEEKDAY(EOMONTH(V2,-1)+1,2), 6 >DAY(EOMONTH(V2,0))+WEEKDAY(EOMONTH(V2,-1)+1,3)),"", 6 -WEEKDAY(EOMONTH(V2,-1)+1,2)+1) | U3: =IF(OR( 7 <WEEKDAY(EOMONTH(V2,-1)+1,2), 7 >DAY(EOMONTH(V2,0))+WEEKDAY(EOMONTH(V2,-1)+1,3)),"", 7 -WEEKDAY(EOMONTH(V2,-1)+1,2)+1) -> 1 | X3: 1 | Y3: Январь | Z3: 31 | AA3: =CONCATENATE(DAY(AD3),".",MONTH(AD3)) -> 7.1 | AB3: 7 | AC3: 1 | AD3: =DATE($AB$1,AC3,AB3) -> 41646 | AE3: Рождество Христово | AF3: б | AG3: =MOD(AB1,4) -> 2
O4: =IF(OR( 8 <WEEKDAY(EOMONTH(V2,-1)+1,2), 8 >DAY(EOMONTH(V2,0))+WEEKDAY(EOMONTH(V2,-1)+1,3)),"", 8 -WEEKDAY(EOMONTH(V2,-1)+1,2)+1) -> 2 | P4: =IF(OR( 9 <WEEKDAY(EOMONTH(V2,-1)+1,2), 9 >DAY(EOMONTH(V2,0))+WEEKDAY(EOMONTH(V2,-1)+1,3)),"", 9 -WEEKDAY(EOMONTH(V2,-1)+1,2)+1) -> 3 | Q4: =IF(OR( 10 <WEEKDAY(EOMONTH(V2,-1)+1,2), 10 >DAY(EOMONTH(V2,0))+WEEKDAY(EOMONTH(V2,-1)+1,3)),"", 10 -WEEKDAY(EOMONTH(V2,-1)+1,2)+1) -> 4 | R4: =IF(OR( 11 <WEEKDAY(EOMONTH(V2,-1)+1,2), 11 >DAY(EOMONTH(V2,0))+WEEKDAY(EOMONTH(V2,-1)+1,3)),"", 11 -WEEKDAY(EOMONTH(V2,-1)+1,2)+1) -> 5 | S4: =IF(OR( 12 <WEEKDAY(EOMONTH(V2,-1)+1,2), 12 >DAY(EOMONTH(V2,0))+WEEKDAY(EOMONTH(V2,-1)+1,3)),"", 12 -WEEKDAY(EOMONTH(V2,-1)+1,2)+1) -> 6 | T4: =IF(OR( 13 <WEEKDAY(EOMONTH(V2,-1)+1,2), 13 >DAY(EOMONTH(V2,0))+WEEKDAY(EOMONTH(V2,-1)+1,3)),"", 13 -WEEKDAY(EOMONTH(V2,-1)+1,2)+1) -> 7 | U4: =IF(OR( 14 <WEEKDAY(EOMONTH(V2,-1)+1,2), 14 >DAY(EOMONTH(V2,0))+WEEKDAY(EOMONTH(V2,-1)+1,3)),"", 14 -WEEKDAY(EOMONTH(V2,-1)+1,2)+1) -> 8 | X4: 2 | Y4: Февраль | Z4: 28 | AA4: =CONCATENATE(DAY(AD4),".",MONTH(AD4)) -> 8.3 | AB4: 8 | AC4: 3 | AD4: =DATE($AB$1,AC4,AB4) -> 41706 | AE4: Женский день | AF4: в | AG4: =MOD(AB1,7) -> 5
A5: 8 | B5: 00 | C5: =A5 -> 8 | D5: 00 | E5: =C5 -> 8 | F5: 00 | G5: =E5 -> 8 | H5: 00 | I5: =G5 -> 8 | J5: 00 | K5: =A5+3 -> 11 | M5: =K5 -> 11 | O5: =IF(OR( 15 <WEEKDAY(EOMONTH(V2,-1)+1,2), 15 >DAY(EOMONTH(V2,0))+WEEKDAY(EOMONTH(V2,-1)+1,3)),"", 15 -WEEKDAY(EOMONTH(V2,-1)+1,2)+1) -> 9 | P5: =IF(OR( 16 <WEEKDAY(EOMONTH(V2,-1)+1,2), 16 >DAY(EOMONTH(V2,0))+WEEKDAY(EOMONTH(V2,-1)+1,3)),"", 16 -WEEKDAY(EOMONTH(V2,-1)+1,2)+1) -> 10 | Q5: =IF(OR( 17 <WEEKDAY(EOMONTH(V2,-1)+1,2), 17 >DAY(EOMONTH(V2,0))+WEEKDAY(EOMONTH(V2,-1)+1,3)),"", 17 -WEEKDAY(EOMONTH(V2,-1)+1,2)+1) -> 11 | R5: =IF(OR( 18 <WEEKDAY(EOMONTH(V2,-1)+1,2), 18 >DAY(EOMONTH(V2,0))+WEEKDAY(EOMONTH(V2,-1)+1,3)),"", 18 -WEEKDAY(EOMONTH(V2,-1)+1,2)+1) -> 12 | S5: =IF(OR( 19 <WEEKDAY(EOMONTH(V2,-1)+1,2), 19 >DAY(EOMONTH(V2,0))+WEEKDAY(EOMONTH(V2,-1)+1,3)),"", 19 -WEEKDAY(EOMONTH(V2,-1)+1,2)+1) -> 13 | T5: =IF(OR( 20 <WEEKDAY(EOMONTH(V2,-1)+1,2), 20 >DAY(EOMONTH(V2,0))+WEEKDAY(EOMONTH(V2,-1)+1,3)),"", 20 -WEEKDAY(EOMONTH(V2,-1)+1,2)+1) -> 14 | U5: =IF(OR( 21 <WEEKDAY(EOMONTH(V2,-1)+1,2), 21 >DAY(EOMONTH(V2,0))+WEEKDAY(EOMONTH(V2,-1)+1,3)),"", 21 -WEEKDAY(EOMONTH(V2,-1)+1,2)+1) -> 15 | X5: 3 | Y5: Март | Z5: 31 | AA5: =CONCATENATE(DAY(AD5),".",MONTH(AD5)) -> 1.5 | AB5: 1 | AC5: 5 | AD5: =DATE($AB$1,AC5,AB5) -> 41760 | AE5: День солидарности трудящихся | AF5: г | AG5: =MOD(19*AG2+15,30) -> 15
B6: 30 | D6: 30 | F6: 30 | H6: 30 | J6: 30 | K6: =IF(K5>=23,K5-24,K5)+1 -> 12 | M6: =IF(M5>=23,M5-24,M5)+1 -> 12 | O6: =IF(OR( 22 <WEEKDAY(EOMONTH(V2,-1)+1,2), 22 >DAY(EOMONTH(V2,0))+WEEKDAY(EOMONTH(V2,-1)+1,3)),"", 22 -WEEKDAY(EOMONTH(V2,-1)+1,2)+1) -> 16 | P6: =IF(OR( 23 <WEEKDAY(EOMONTH(V2,-1)+1,2), 23 >DAY(EOMONTH(V2,0))+WEEKDAY(EOMONTH(V2,-1)+1,3)),"", 23 -WEEKDAY(EOMONTH(V2,-1)+1,2)+1) -> 17 | Q6: =IF(OR( 24 <WEEKDAY(EOMONTH(V2,-1)+1,2), 24 >DAY(EOMONTH(V2,0))+WEEKDAY(EOMONTH(V2,-1)+1,3)),"", 24 -WEEKDAY(EOMONTH(V2,-1)+1,2)+1) -> 18 | R6: =IF(OR( 25 <WEEKDAY(EOMONTH(V2,-1)+1,2), 25 >DAY(EOMONTH(V2,0))+WEEKDAY(EOMONTH(V2,-1)+1,3)),"", 25 -WEEKDAY(EOMONTH(V2,-1)+1,2)+1) -> 19 | S6: =IF(OR( 26 <WEEKDAY(EOMONTH(V2,-1)+1,2), 26 >DAY(EOMONTH(V2,0))+WEEKDAY(EOMONTH(V2,-1)+1,3)),"", 26 -WEEKDAY(EOMONTH(V2,-1)+1,2)+1) -> 20 | T6: =IF(OR( 27 <WEEKDAY(EOMONTH(V2,-1)+1,2), 27 >DAY(EOMONTH(V2,0))+WEEKDAY(EOMONTH(V2,-1)+1,3)),"", 27 -WEEKDAY(EOMONTH(V2,-1)+1,2)+1) -> 21 | U6: =IF(OR( 28 <WEEKDAY(EOMONTH(V2,-1)+1,2), 28 >DAY(EOMONTH(V2,0))+WEEKDAY(EOMONTH(V2,-1)+1,3)),"", 28 -WEEKDAY(EOMONTH(V2,-1)+1,2)+1) -> 22 | X6: 4 | Y6: Апрель | Z6: 30 | AA6: =CONCATENATE(DAY(AD6),".",MONTH(AD6)) -> 2.5 | AB6: 2 | AC6: 5 | AD6: =DATE($AB$1,AC6,AB6) -> 41761 | AE6: День солидарности трудящихся | AF6: д | AG6: =MOD(2*AG3+4*AG4+6*AG5+6,7) -> 1
A7: =IF(A5>=23,A5-24,A5)+1 -> 9 | B7: 00 | C7: =IF(C5>=23,C5-24,C5)+1 -> 9 | D7: 00 | E7: =IF(E5>=23,E5-24,E5)+1 -> 9 | F7: 00 | G7: =IF(G5>=23,G5-24,G5)+1 -> 9 | H7: 00 | I7: =IF(I5>=23,I5-24,I5)+1 -> 9 | J7: 00 | K7: =IF(K6>=23,K6-24,K6)+1 -> 13 | M7: =IF(M6>=23,M6-24,M6)+1 -> 13 | O7: =IF(OR( 29 <WEEKDAY(EOMONTH(V2,-1)+1,2), 29 >DAY(EOMONTH(V2,0))+WEEKDAY(EOMONTH(V2,-1)+1,3)),"", 29 -WEEKDAY(EOMONTH(V2,-1)+1,2)+1) -> 23 | P7: =IF(OR( 30 <WEEKDAY(EOMONTH(V2,-1)+1,2), 30 >DAY(EOMONTH(V2,0))+WEEKDAY(EOMONTH(V2,-1)+1,3)),"", 30 -WEEKDAY(EOMONTH(V2,-1)+1,2)+1) -> 24 | Q7: =IF(OR( 31 <WEEKDAY(EOMONTH(V2,-1)+1,2), 31 >DAY(EOMONTH(V2,0))+WEEKDAY(EOMONTH(V2,-1)+1,3)),"", 31 -WEEKDAY(EOMONTH(V2,-1)+1,2)+1) -> 25 | R7: =IF(OR( 32 <WEEKDAY(EOMONTH(V2,-1)+1,2), 32 >DAY(EOMONTH(V2,0))+WEEKDAY(EOMONTH(V2,-1)+1,3)),"", 32 -WEEKDAY(EOMONTH(V2,-1)+1,2)+1) -> 26 | S7: =IF(OR( 33 <WEEKDAY(EOMONTH(V2,-1)+1,2), 33 >DAY(EOMONTH(V2,0))+WEEKDAY(EOMONTH(V2,-1)+1,3)),"", 33 -WEEKDAY(EOMONTH(V2,-1)+1,2)+1) -> 27 | T7: =IF(OR( 34 <WEEKDAY(EOMONTH(V2,-1)+1,2), 34 >DAY(EOMONTH(V2,0))+WEEKDAY(EOMONTH(V2,-1)+1,3)),"", 34 -WEEKDAY(EOMONTH(V2,-1)+1,2)+1) -> 28 | U7: =IF(OR( 35 <WEEKDAY(EOMONTH(V2,-1)+1,2), 35 >DAY(EOMONTH(V2,0))+WEEKDAY(EOMONTH(V2,-1)+1,3)),"", 35 -WEEKDAY(EOMONTH(V2,-1)+1,2)+1) -> 29 | X7: 5 | Y7: Май | Z7: 31 | AA7: =CONCATENATE(DAY(AD7),".",MONTH(AD7)) -> 9.5 | AB7: 9 | AC7: 5 | AD7: =DATE($AB$1,AC7,AB7) -> 41768 | AE7: День Победы
B8: 30 | D8: 30 | F8: 30 | H8: 30 | J8: 30 | K8: =IF(K7>=23,K7-24,K7)+1 -> 14 | M8: =IF(M7>=23,M7-24,M7)+1 -> 14 | O8: =IF(OR( 36 <WEEKDAY(EOMONTH(V2,-1)+1,2), 36 >DAY(EOMONTH(V2,0))+WEEKDAY(EOMONTH(V2,-1)+1,3)),"", 36 -WEEKDAY(EOMONTH(V2,-1)+1,2)+1) -> 30 | P8: =IF(OR( 37 <WEEKDAY(EOMONTH(V2,-1)+1,2), 37 >DAY(EOMONTH(V2,0))+WEEKDAY(EOMONTH(V2,-1)+1,3)),"", 37 -WEEKDAY(EOMONTH(V2,-1)+1,2)+1) -> 31 | Q8: =IF(OR( 38 <WEEKDAY(EOMONTH(V2,-1)+1,2), 38 >DAY(EOMONTH(V2,0))+WEEKDAY(EOMONTH(V2,-1)+1,3)),"", 38 -WEEKDAY(EOMONTH(V2,-1)+1,2)+1) | R8: =IF(OR( 39 <WEEKDAY(EOMONTH(V2,-1)+1,2), 39 >DAY(EOMONTH(V2,0))+WEEKDAY(EOMONTH(V2,-1)+1,3)),"", 39 -WEEKDAY(EOMONTH(V2,-1)+1,2)+1) | S8: =IF(OR( 40 <WEEKDAY(EOMONTH(V2,-1)+1,2), 40 >DAY(EOMONTH(V2,0))+WEEKDAY(EOMONTH(V2,-1)+1,3)),"", 40 -WEEKDAY(EOMONTH(V2,-1)+1,2)+1) | T8: =IF(OR( 41 <WEEKDAY(EOMONTH(V2,-1)+1,2), 41 >DAY(EOMONTH(V2,0))+WEEKDAY(EOMONTH(V2,-1)+1,3)),"", 41 -WEEKDAY(EOMONTH(V2,-1)+1,2)+1) | U8: =IF(OR( 42 <WEEKDAY(EOMONTH(V2,-1)+1,2), 42 >DAY(EOMONTH(V2,0))+WEEKDAY(EOMONTH(V2,-1)+1,3)),"", 42 -WEEKDAY(EOMONTH(V2,-1)+1,2)+1) | X8: 6 | Y8: Июнь | Z8: 30 | AA8: =CONCATENATE(DAY(AD8),".",MONTH(AD8)) -> 28.6 | AB8: 28 | AC8: 6 | AD8: =DATE($AB$1,AC8,AB8) -> 41818 | AE8: День Конституции Украины
A9: =IF(A7>=23,A7-24,A7)+1 -> 10 | B9: 00 | C9: =IF(C7>=23,C7-24,C7)+1 -> 10 | D9: 00 | E9: =IF(E7>=23,E7-24,E7)+1 -> 10 | F9: 00 | G9: =IF(G7>=23,G7-24,G7)+1 -> 10 | H9: 00 | I9: =IF(I7>=23,I7-24,I7)+1 -> 10 | J9: 00 | K9: =IF(K8>=23,K8-24,K8)+1 -> 15 | M9: =IF(M8>=23,M8-24,M8)+1 -> 15 | O9: =VLOOKUP(MONTH(V9),X3:Y14,2) -> Январь | T9: =YEAR(V9) -> 2014 | V9: =DATE(YEAR(V1),MONTH(V1)+W9,IF(DAY(V1)>VLOOKUP(MONTH(V1)+W9,X2:Z14,3),VLOOKUP(MONTH(V1)+W9,X2:Z14,3),DAY(V1))) -> 41655 | W9: 0 | X9: 7 | Y9: Июль | Z9: 31 | AA9: =CONCATENATE(DAY(AD9),".",MONTH(AD9)) -> 24.8 | AB9: 24 | AC9: 8 | AD9: =DATE($AB$1,AC9,AB9) -> 41875 | AE9: День независимости Украины
B10: 30 | D10: 30 | F10: 30 | H10: 30 | J10: 30 | K10: =IF(K9>=23,K9-24,K9)+1 -> 16 | M10: =IF(M9>=23,M9-24,M9)+1 -> 16 | O10: =IF(OR( 1 <WEEKDAY(EOMONTH(V9,-1)+1,2), 1 >DAY(EOMONTH(V9,0))+WEEKDAY(EOMONTH(V9,-1)+1,3)),"", 1 -WEEKDAY(EOMONTH(V9,-1)+1,2)+1) | P10: =IF(OR( 2 <WEEKDAY(EOMONTH(V9,-1)+1,2), 2 >DAY(EOMONTH(V9,0))+WEEKDAY(EOMONTH(V9,-1)+1,3)),"", 2 -WEEKDAY(EOMONTH(V9,-1)+1,2)+1) | Q10: =IF(OR( 3 <WEEKDAY(EOMONTH(V9,-1)+1,2), 3 >DAY(EOMONTH(V9,0))+WEEKDAY(EOMONTH(V9,-1)+1,3)),"", 3 -WEEKDAY(EOMONTH(V9,-1)+1,2)+1) -> 1 | R10: =IF(OR( 4 <WEEKDAY(EOMONTH(V9,-1)+1,2), 4 >DAY(EOMONTH(V9,0))+WEEKDAY(EOMONTH(V9,-1)+1,3)),"", 4 -WEEKDAY(EOMONTH(V9,-1)+1,2)+1) -> 2 | S10: =IF(OR( 5 <WEEKDAY(EOMONTH(V9,-1)+1,2), 5 >DAY(EOMONTH(V9,0))+WEEKDAY(EOMONTH(V9,-1)+1,3)),"", 5 -WEEKDAY(EOMONTH(V9,-1)+1,2)+1) -> 3 | T10: =IF(OR( 6 <WEEKDAY(EOMONTH(V9,-1)+1,2), 6 >DAY(EOMONTH(V9,0))+WEEKDAY(EOMONTH(V9,-1)+1,3)),"", 6 -WEEKDAY(EOMONTH(V9,-1)+1,2)+1) -> 4 | U10: =IF(OR( 7 <WEEKDAY(EOMONTH(V9,-1)+1,2), 7 >DAY(EOMONTH(V9,0))+WEEKDAY(EOMONTH(V9,-1)+1,3)),"", 7 -WEEKDAY(EOMONTH(V9,-1)+1,2)+1) -> 5 | X10: 8 | Y10: Август | Z10: 31 | AA10: =CONCATENATE(DAY(AD10),".",MONTH(AD10)) -> 20.4 | AB10: =IF(AG5+AG6<9,22+AG5+AG6,AG5+AG6-9)+13 -> 20 | AC10: =IF(AG5+AG6<9,3,4) -> 4 | AD10: =DATE($AB$1,AC10,AB10) -> 41749 | AE10: Пасха
A11: =IF(A9>=23,A9-24,A9)+1 -> 11 | B11: 00 | C11: =IF(C9>=23,C9-24,C9)+1 -> 11 | D11: 00 | E11: =IF(E9>=23,E9-24,E9)+1 -> 11 | F11: 00 | G11: =IF(G9>=23,G9-24,G9)+1 -> 11 | H11: 00 | I11: =IF(I9>=23,I9-24,I9)+1 -> 11 | J11: 00 | K11: =IF(K10>=23,K10-24,K10)+1 -> 17 | M11: =IF(M10>=23,M10-24,M10)+1 -> 17 | O11: =IF(OR( 8 <WEEKDAY(EOMONTH(V9,-1)+1,2), 8 >DAY(EOMONTH(V9,0))+WEEKDAY(EOMONTH(V9,-1)+1,3)),"", 8 -WEEKDAY(EOMONTH(V9,-1)+1,2)+1) -> 6 | P11: =IF(OR( 9 <WEEKDAY(EOMONTH(V9,-1)+1,2), 9 >DAY(EOMONTH(V9,0))+WEEKDAY(EOMONTH(V9,-1)+1,3)),"", 9 -WEEKDAY(EOMONTH(V9,-1)+1,2)+1) -> 7 | Q11: =IF(OR( 10 <WEEKDAY(EOMONTH(V9,-1)+1,2), 10 >DAY(EOMONTH(V9,0))+WEEKDAY(EOMONTH(V9,-1)+1,3)),"", 10 -WEEKDAY(EOMONTH(V9,-1)+1,2)+1) -> 8 | R11: =IF(OR( 11 <WEEKDAY(EOMONTH(V9,-1)+1,2), 11 >DAY(EOMONTH(V9,0))+WEEKDAY(EOMONTH(V9,-1)+1,3)),"", 11 -WEEKDAY(EOMONTH(V9,-1)+1,2)+1) -> 9 | S11: =IF(OR( 12 <WEEKDAY(EOMONTH(V9,-1)+1,2), 12 >DAY(EOMONTH(V9,0))+WEEKDAY(EOMONTH(V9,-1)+1,3)),"", 12 -WEEKDAY(EOMONTH(V9,-1)+1,2)+1) -> 10 | T11: =IF(OR( 13 <WEEKDAY(EOMONTH(V9,-1)+1,2), 13 >DAY(EOMONTH(V9,0))+WEEKDAY(EOMONTH(V9,-1)+1,3)),"", 13 -WEEKDAY(EOMONTH(V9,-1)+1,2)+1) -> 11 | U11: =IF(OR( 14 <WEEKDAY(EOMONTH(V9,-1)+1,2), 14 >DAY(EOMONTH(V9,0))+WEEKDAY(EOMONTH(V9,-1)+1,3)),"", 14 -WEEKDAY(EOMONTH(V9,-1)+1,2)+1) -> 12 | X11: 9 | Y11: Сентябрь | Z11: 30 | AA11: =CONCATENATE(DAY(AD11),".",MONTH(AD11)) -> 8.6 | AB11: =AB10+49 -> 69 | AC11: =AC10 -> 4 | AD11: =DATE($AB$1,AC11,AB11) -> 41798 | AE11: Троица
B12: 30 | D12: 30 | F12: 30 | H12: 30 | J12: 30 | K12: =IF(K11>=23,K11-24,K11)+1 -> 18 | M12: =IF(M11>=23,M11-24,M11)+1 -> 18 | O12: =IF(OR( 15 <WEEKDAY(EOMONTH(V9,-1)+1,2), 15 >DAY(EOMONTH(V9,0))+WEEKDAY(EOMONTH(V9,-1)+1,3)),"", 15 -WEEKDAY(EOMONTH(V9,-1)+1,2)+1) -> 13 | P12: =IF(OR( 16 <WEEKDAY(EOMONTH(V9,-1)+1,2), 16 >DAY(EOMONTH(V9,0))+WEEKDAY(EOMONTH(V9,-1)+1,3)),"", 16 -WEEKDAY(EOMONTH(V9,-1)+1,2)+1) -> 14 | Q12: =IF(OR( 17 <WEEKDAY(EOMONTH(V9,-1)+1,2), 17 >DAY(EOMONTH(V9,0))+WEEKDAY(EOMONTH(V9,-1)+1,3)),"", 17 -WEEKDAY(EOMONTH(V9,-1)+1,2)+1) -> 15 | R12: =IF(OR( 18 <WEEKDAY(EOMONTH(V9,-1)+1,2), 18 >DAY(EOMONTH(V9,0))+WEEKDAY(EOMONTH(V9,-1)+1,3)),"", 18 -WEEKDAY(EOMONTH(V9,-1)+1,2)+1) -> 16 | S12: =IF(OR( 19 <WEEKDAY(EOMONTH(V9,-1)+1,2), 19 >DAY(EOMONTH(V9,0))+WEEKDAY(EOMONTH(V9,-1)+1,3)),"", 19 -WEEKDAY(EOMONTH(V9,-1)+1,2)+1) -> 17 | T12: =IF(OR( 20 <WEEKDAY(EOMONTH(V9,-1)+1,2), 20 >DAY(EOMONTH(V9,0))+WEEKDAY(EOMONTH(V9,-1)+1,3)),"", 20 -WEEKDAY(EOMONTH(V9,-1)+1,2)+1) -> 18 | U12: =IF(OR( 21 <WEEKDAY(EOMONTH(V9,-1)+1,2), 21 >DAY(EOMONTH(V9,0))+WEEKDAY(EOMONTH(V9,-1)+1,3)),"", 21 -WEEKDAY(EOMONTH(V9,-1)+1,2)+1) -> 19 | X12: 10 | Y12: Октябрь | Z12: 31
A13: =IF(A11>=23,A11-24,A11)+1 -> 12 | B13: 00 | C13: =IF(C11>=23,C11-24,C11)+1 -> 12 | D13: 00 | E13: =IF(E11>=23,E11-24,E11)+1 -> 12 | F13: 00 | G13: =IF(G11>=23,G11-24,G11)+1 -> 12 | H13: 00 | I13: =IF(I11>=23,I11-24,I11)+1 -> 12 | J13: 00 | K13: =IF(K12>=23,K12-24,K12)+1 -> 19 | M13: =IF(M12>=23,M12-24,M12)+1 -> 19 | O13: =IF(OR( 22 <WEEKDAY(EOMONTH(V9,-1)+1,2), 22 >DAY(EOMONTH(V9,0))+WEEKDAY(EOMONTH(V9,-1)+1,3)),"", 22 -WEEKDAY(EOMONTH(V9,-1)+1,2)+1) -> 20 | P13: =IF(OR( 23 <WEEKDAY(EOMONTH(V9,-1)+1,2), 23 >DAY(EOMONTH(V9,0))+WEEKDAY(EOMONTH(V9,-1)+1,3)),"", 23 -WEEKDAY(EOMONTH(V9,-1)+1,2)+1) -> 21 | Q13: =IF(OR( 24 <WEEKDAY(EOMONTH(V9,-1)+1,2), 24 >DAY(EOMONTH(V9,0))+WEEKDAY(EOMONTH(V9,-1)+1,3)),"", 24 -WEEKDAY(EOMONTH(V9,-1)+1,2)+1) -> 22 | R13: =IF(OR( 25 <WEEKDAY(EOMONTH(V9,-1)+1,2), 25 >DAY(EOMONTH(V9,0))+WEEKDAY(EOMONTH(V9,-1)+1,3)),"", 25 -WEEKDAY(EOMONTH(V9,-1)+1,2)+1) -> 23 | S13: =IF(OR( 26 <WEEKDAY(EOMONTH(V9,-1)+1,2), 26 >DAY(EOMONTH(V9,0))+WEEKDAY(EOMONTH(V9,-1)+1,3)),"", 26 -WEEKDAY(EOMONTH(V9,-1)+1,2)+1) -> 24 | T13: =IF(OR( 27 <WEEKDAY(EOMONTH(V9,-1)+1,2), 27 >DAY(EOMONTH(V9,0))+WEEKDAY(EOMONTH(V9,-1)+1,3)),"", 27 -WEEKDAY(EOMONTH(V9,-1)+1,2)+1) -> 25 | U13: =IF(OR( 28 <WEEKDAY(EOMONTH(V9,-1)+1,2), 28 >DAY(EOMONTH(V9,0))+WEEKDAY(EOMONTH(V9,-1)+1,3)),"", 28 -WEEKDAY(EOMONTH(V9,-1)+1,2)+1) -> 26 | X13: 11 | Y13: Ноябрь | Z13: 30 | AE13: Переносы
B14: 30 | D14: 30 | F14: 30 | H14: 30 | J14: 30 | K14: =IF(K13>=23,K13-24,K13)+1 -> 20 | M14: =IF(M13>=23,M13-24,M13)+1 -> 20 | O14: =IF(OR( 29 <WEEKDAY(EOMONTH(V9,-1)+1,2), 29 >DAY(EOMONTH(V9,0))+WEEKDAY(EOMONTH(V9,-1)+1,3)),"", 29 -WEEKDAY(EOMONTH(V9,-1)+1,2)+1) -> 27 | P14: =IF(OR( 30 <WEEKDAY(EOMONTH(V9,-1)+1,2), 30 >DAY(EOMONTH(V9,0))+WEEKDAY(EOMONTH(V9,-1)+1,3)),"", 30 -WEEKDAY(EOMONTH(V9,-1)+1,2)+1) -> 28 | Q14: =IF(OR( 31 <WEEKDAY(EOMONTH(V9,-1)+1,2), 31 >DAY(EOMONTH(V9,0))+WEEKDAY(EOMONTH(V9,-1)+1,3)),"", 31 -WEEKDAY(EOMONTH(V9,-1)+1,2)+1) -> 29 | R14: =IF(OR( 32 <WEEKDAY(EOMONTH(V9,-1)+1,2), 32 >DAY(EOMONTH(V9,0))+WEEKDAY(EOMONTH(V9,-1)+1,3)),"", 32 -WEEKDAY(EOMONTH(V9,-1)+1,2)+1) -> 30 | S14: =IF(OR( 33 <WEEKDAY(EOMONTH(V9,-1)+1,2), 33 >DAY(EOMONTH(V9,0))+WEEKDAY(EOMONTH(V9,-1)+1,3)),"", 33 -WEEKDAY(EOMONTH(V9,-1)+1,2)+1) -> 31 | T14: =IF(OR( 34 <WEEKDAY(EOMONTH(V9,-1)+1,2), 34 >DAY(EOMONTH(V9,0))+WEEKDAY(EOMONTH(V9,-1)+1,3)),"", 34 -WEEKDAY(EOMONTH(V9,-1)+1,2)+1) | U14: =IF(OR( 35 <WEEKDAY(EOMONTH(V9,-1)+1,2), 35 >DAY(EOMONTH(V9,0))+WEEKDAY(EOMONTH(V9,-1)+1,3)),"", 35 -WEEKDAY(EOMONTH(V9,-1)+1,2)+1) | X14: 12 | Y14: Декабрь | Z14: 31 | AA14: =IFERROR(CONCATENATE(DAY(AD14),".",MONTH(AD14)),"") | AD14: =IF(WEEKDAY(AD2,2)>5,AD2+(8-WEEKDAY(AD2,2)),"") | AE14: Новый год
A15: =IF(A13>=23,A13-24,A13)+1 -> 13 | B15: 00 | C15: =IF(C13>=23,C13-24,C13)+1 -> 13 | D15: 00 | E15: =IF(E13>=23,E13-24,E13)+1 -> 13 | F15: 00 | G15: =IF(G13>=23,G13-24,G13)+1 -> 13 | H15: 00 | I15: =IF(I13>=23,I13-24,I13)+1 -> 13 | J15: 00 | K15: =IF(K14>=23,K14-24,K14)+1 -> 21 | M15: =IF(M14>=23,M14-24,M14)+1 -> 21 | O15: =IF(OR( 36 <WEEKDAY(EOMONTH(V9,-1)+1,2), 36 >DAY(EOMONTH(V9,0))+WEEKDAY(EOMONTH(V9,-1)+1,3)),"", 36 -WEEKDAY(EOMONTH(V9,-1)+1,2)+1) | P15: =IF(OR( 37 <WEEKDAY(EOMONTH(V9,-1)+1,2), 37 >DAY(EOMONTH(V9,0))+WEEKDAY(EOMONTH(V9,-1)+1,3)),"", 37 -WEEKDAY(EOMONTH(V9,-1)+1,2)+1) | Q15: =IF(OR( 38 <WEEKDAY(EOMONTH(V9,-1)+1,2), 38 >DAY(EOMONTH(V9,0))+WEEKDAY(EOMONTH(V9,-1)+1,3)),"", 38 -WEEKDAY(EOMONTH(V9,-1)+1,2)+1) | R15: =IF(OR( 39 <WEEKDAY(EOMONTH(V9,-1)+1,2), 39 >DAY(EOMONTH(V9,0))+WEEKDAY(EOMONTH(V9,-1)+1,3)),"", 39 -WEEKDAY(EOMONTH(V9,-1)+1,2)+1) | S15: =IF(OR( 40 <WEEKDAY(EOMONTH(V9,-1)+1,2), 40 >DAY(EOMONTH(V9,0))+WEEKDAY(EOMONTH(V9,-1)+1,3)),"", 40 -WEEKDAY(EOMONTH(V9,-1)+1,2)+1) | T15: =IF(OR( 41 <WEEKDAY(EOMONTH(V9,-1)+1,2), 41 >DAY(EOMONTH(V9,0))+WEEKDAY(EOMONTH(V9,-1)+1,3)),"", 41 -WEEKDAY(EOMONTH(V9,-1)+1,2)+1) | U15: =IF(OR( 42 <WEEKDAY(EOMONTH(V9,-1)+1,2), 42 >DAY(EOMONTH(V9,0))+WEEKDAY(EOMONTH(V9,-1)+1,3)),"", 42 -WEEKDAY(EOMONTH(V9,-1)+1,2)+1) | AA15: =IFERROR(CONCATENATE(DAY(AD15),".",MONTH(AD15)),"") | AD15: =IF(WEEKDAY(AD3,2)>5,AD3+(8-WEEKDAY(AD3,2)),"") | AE15: Рождество Христово
B16: 30 | D16: 30 | F16: 30 | H16: 30 | J16: 30 | K16: =IF(K15>=23,K15-24,K15)+1 -> 22 | M16: =IF(M15>=23,M15-24,M15)+1 -> 22 | O16: =VLOOKUP(MONTH(V16),X3:Y14,2) -> Февраль | T16: =YEAR(V16) -> 2014 | V16: =DATE(YEAR(V1),MONTH(V1)+W16,IF(DAY(V1)>VLOOKUP(MONTH(V1)+W16,X2:Z14,3),VLOOKUP(MONTH(V1)+W16,X2:Z14,3),DAY(V1))) -> 41686 | W16: 1 | AA16: =IFERROR(CONCATENATE(DAY(AD16),".",MONTH(AD16)),"") -> 10.3 | AD16: =IF(WEEKDAY(AD4,2)>5,AD4+(8-WEEKDAY(AD4,2)),"") -> 41708 | AE16: Женский день
A17: =IF(A15>=23,A15-24,A15)+1 -> 14 | B17: 00 | C17: =IF(C15>=23,C15-24,C15)+1 -> 14 | D17: 00 | E17: =IF(E15>=23,E15-24,E15)+1 -> 14 | F17: 00 | G17: =IF(G15>=23,G15-24,G15)+1 -> 14 | H17: 00 | I17: =IF(I15>=23,I15-24,I15)+1 -> 14 | J17: 00 | K17: =IF(K16>=23,K16-24,K16)+1 -> 23 | M17: =IF(M16>=23,M16-24,M16)+1 -> 23 | O17: =IF(OR( 1 <WEEKDAY(EOMONTH(V16,-1)+1,2), 1 >DAY(EOMONTH(V16,0))+WEEKDAY(EOMONTH(V16,-1)+1,3)),"", 1 -WEEKDAY(EOMONTH(V16,-1)+1,2)+1) | P17: =IF(OR( 2 <WEEKDAY(EOMONTH(V16,-1)+1,2), 2 >DAY(EOMONTH(V16,0))+WEEKDAY(EOMONTH(V16,-1)+1,3)),"", 2 -WEEKDAY(EOMONTH(V16,-1)+1,2)+1) | Q17: =IF(OR( 3 <WEEKDAY(EOMONTH(V16,-1)+1,2), 3 >DAY(EOMONTH(V16,0))+WEEKDAY(EOMONTH(V16,-1)+1,3)),"", 3 -WEEKDAY(EOMONTH(V16,-1)+1,2)+1) | R17: =IF(OR( 4 <WEEKDAY(EOMONTH(V16,-1)+1,2), 4 >DAY(EOMONTH(V16,0))+WEEKDAY(EOMONTH(V16,-1)+1,3)),"", 4 -WEEKDAY(EOMONTH(V16,-1)+1,2)+1) | S17: =IF(OR( 5 <WEEKDAY(EOMONTH(V16,-1)+1,2), 5 >DAY(EOMONTH(V16,0))+WEEKDAY(EOMONTH(V16,-1)+1,3)),"", 5 -WEEKDAY(EOMONTH(V16,-1)+1,2)+1) | T17: =IF(OR( 6 <WEEKDAY(EOMONTH(V16,-1)+1,2), 6 >DAY(EOMONTH(V16,0))+WEEKDAY(EOMONTH(V16,-1)+1,3)),"", 6 -WEEKDAY(EOMONTH(V16,-1)+1,2)+1) -> 1 | U17: =IF(OR( 7 <WEEKDAY(EOMONTH(V16,-1)+1,2), 7 >DAY(EOMONTH(V16,0))+WEEKDAY(EOMONTH(V16,-1)+1,3)),"", 7 -WEEKDAY(EOMONTH(V16,-1)+1,2)+1) -> 2 | AA17: =IFERROR(CONCATENATE(DAY(AD17),".",MONTH(AD17)),"") | AD17: =IF(WEEKDAY(AD5,2)>5,AD5+(8-WEEKDAY(AD5,2)),"") | AE17: День солидарности трудящихся
B18: 30 | D18: 30 | F18: 30 | H18: 30 | J18: 30 | K18: =IFERROR(INDIRECT(ADDRESS(MATCH(CONCATENATE(DAY(K$2),".",MONTH(K$2)),$AA$2:$AA$12,0)+1,31)),"Дела на день") -> Дела на день | M18: =IFERROR(INDIRECT(ADDRESS(MATCH(CONCATENATE(DAY(M$2),".",MONTH(M$2)),$AA$2:$AA$12,0)+1,31)),"Дела на день") -> Дела на день | O18: =IF(OR( 8 <WEEKDAY(EOMONTH(V16,-1)+1,2), 8 >DAY(EOMONTH(V16,0))+WEEKDAY(EOMONTH(V16,-1)+1,3)),"", 8 -WEEKDAY(EOMONTH(V16,-1)+1,2)+1) -> 3 | P18: =IF(OR( 9 <WEEKDAY(EOMONTH(V16,-1)+1,2), 9 >DAY(EOMONTH(V16,0))+WEEKDAY(EOMONTH(V16,-1)+1,3)),"", 9 -WEEKDAY(EOMONTH(V16,-1)+1,2)+1) -> 4 | Q18: =IF(OR( 10 <WEEKDAY(EOMONTH(V16,-1)+1,2), 10 >DAY(EOMONTH(V16,0))+WEEKDAY(EOMONTH(V16,-1)+1,3)),"", 10 -WEEKDAY(EOMONTH(V16,-1)+1,2)+1) -> 5 | R18: =IF(OR( 11 <WEEKDAY(EOMONTH(V16,-1)+1,2), 11 >DAY(EOMONTH(V16,0))+WEEKDAY(EOMONTH(V16,-1)+1,3)),"", 11 -WEEKDAY(EOMONTH(V16,-1)+1,2)+1) -> 6 | S18: =IF(OR( 12 <WEEKDAY(EOMONTH(V16,-1)+1,2), 12 >DAY(EOMONTH(V16,0))+WEEKDAY(EOMONTH(V16,-1)+1,3)),"", 12 -WEEKDAY(EOMONTH(V16,-1)+1,2)+1) -> 7 | T18: =IF(OR( 13 <WEEKDAY(EOMONTH(V16,-1)+1,2), 13 >DAY(EOMONTH(V16,0))+WEEKDAY(EOMONTH(V16,-1)+1,3)),"", 13 -WEEKDAY(EOMONTH(V16,-1)+1,2)+1) -> 8 | U18: =IF(OR( 14 <WEEKDAY(EOMONTH(V16,-1)+1,2), 14 >DAY(EOMONTH(V16,0))+WEEKDAY(EOMONTH(V16,-1)+1,3)),"", 14 -WEEKDAY(EOMONTH(V16,-1)+1,2)+1) -> 9 | AA18: =IFERROR(CONCATENATE(DAY(AD18),".",MONTH(AD18)),"") | AD18: =IF(WEEKDAY(AD6,2)>5,AD6+(8-WEEKDAY(AD6,2)),"") | AE18: День солидарности трудящихся
A19: =IF(A17>=23,A17-24,A17)+1 -> 15 | B19: 00 | C19: =IF(C17>=23,C17-24,C17)+1 -> 15 | D19: 00 | E19: =IF(E17>=23,E17-24,E17)+1 -> 15 | F19: 00 | G19: =IF(G17>=23,G17-24,G17)+1 -> 15 | H19: 00 | I19: =IF(I17>=23,I17-24,I17)+1 -> 15 | J19: 00 | O19: =IF(OR( 15 <WEEKDAY(EOMONTH(V16,-1)+1,2), 15 >DAY(EOMONTH(V16,0))+WEEKDAY(EOMONTH(V16,-1)+1,3)),"", 15 -WEEKDAY(EOMONTH(V16,-1)+1,2)+1) -> 10 | P19: =IF(OR( 16 <WEEKDAY(EOMONTH(V16,-1)+1,2), 16 >DAY(EOMONTH(V16,0))+WEEKDAY(EOMONTH(V16,-1)+1,3)),"", 16 -WEEKDAY(EOMONTH(V16,-1)+1,2)+1) -> 11 | Q19: =IF(OR( 17 <WEEKDAY(EOMONTH(V16,-1)+1,2), 17 >DAY(EOMONTH(V16,0))+WEEKDAY(EOMONTH(V16,-1)+1,3)),"", 17 -WEEKDAY(EOMONTH(V16,-1)+1,2)+1) -> 12 | R19: =IF(OR( 18 <WEEKDAY(EOMONTH(V16,-1)+1,2), 18 >DAY(EOMONTH(V16,0))+WEEKDAY(EOMONTH(V16,-1)+1,3)),"", 18 -WEEKDAY(EOMONTH(V16,-1)+1,2)+1) -> 13 | S19: =IF(OR( 19 <WEEKDAY(EOMONTH(V16,-1)+1,2), 19 >DAY(EOMONTH(V16,0))+WEEKDAY(EOMONTH(V16,-1)+1,3)),"", 19 -WEEKDAY(EOMONTH(V16,-1)+1,2)+1) -> 14 | T19: =IF(OR( 20 <WEEKDAY(EOMONTH(V16,-1)+1,2), 20 >DAY(EOMONTH(V16,0))+WEEKDAY(EOMONTH(V16,-1)+1,3)),"", 20 -WEEKDAY(EOMONTH(V16,-1)+1,2)+1) -> 15 | U19: =IF(OR( 21 <WEEKDAY(EOMONTH(V16,-1)+1,2), 21 >DAY(EOMONTH(V16,0))+WEEKDAY(EOMONTH(V16,-1)+1,3)),"", 21 -WEEKDAY(EOMONTH(V16,-1)+1,2)+1) -> 16 | AA19: =IFERROR(CONCATENATE(DAY(AD19),".",MONTH(AD19)),"") | AD19: =IF(WEEKDAY(AD7,2)>5,AD7+(8-WEEKDAY(AD7,2)),"") | AE19: День Победы
B20: 30 | D20: 30 | F20: 30 | H20: 30 | J20: 30 | O20: =IF(OR( 22 <WEEKDAY(EOMONTH(V16,-1)+1,2), 22 >DAY(EOMONTH(V16,0))+WEEKDAY(EOMONTH(V16,-1)+1,3)),"", 22 -WEEKDAY(EOMONTH(V16,-1)+1,2)+1) -> 17 | P20: =IF(OR( 23 <WEEKDAY(EOMONTH(V16,-1)+1,2), 23 >DAY(EOMONTH(V16,0))+WEEKDAY(EOMONTH(V16,-1)+1,3)),"", 23 -WEEKDAY(EOMONTH(V16,-1)+1,2)+1) -> 18 | Q20: =IF(OR( 24 <WEEKDAY(EOMONTH(V16,-1)+1,2), 24 >DAY(EOMONTH(V16,0))+WEEKDAY(EOMONTH(V16,-1)+1,3)),"", 24 -WEEKDAY(EOMONTH(V16,-1)+1,2)+1) -> 19 | R20: =IF(OR( 25 <WEEKDAY(EOMONTH(V16,-1)+1,2), 25 >DAY(EOMONTH(V16,0))+WEEKDAY(EOMONTH(V16,-1)+1,3)),"", 25 -WEEKDAY(EOMONTH(V16,-1)+1,2)+1) -> 20 | S20: =IF(OR( 26 <WEEKDAY(EOMONTH(V16,-1)+1,2), 26 >DAY(EOMONTH(V16,0))+WEEKDAY(EOMONTH(V16,-1)+1,3)),"", 26 -WEEKDAY(EOMONTH(V16,-1)+1,2)+1) -> 21 | T20: =IF(OR( 27 <WEEKDAY(EOMONTH(V16,-1)+1,2), 27 >DAY(EOMONTH(V16,0))+WEEKDAY(EOMONTH(V16,-1)+1,3)),"", 27 -WEEKDAY(EOMONTH(V16,-1)+1,2)+1) -> 22 | U20: =IF(OR( 28 <WEEKDAY(EOMONTH(V16,-1)+1,2), 28 >DAY(EOMONTH(V16,0))+WEEKDAY(EOMONTH(V16,-1)+1,3)),"", 28 -WEEKDAY(EOMONTH(V16,-1)+1,2)+1) -> 23 | AA20: =IFERROR(CONCATENATE(DAY(AD20),".",MONTH(AD20)),"") -> 30.6 | AD20: =IF(WEEKDAY(AD8,2)>5,AD8+(8-WEEKDAY(AD8,2)),"") -> 41820 | AE20: День Конституции Украины
A21: =IF(A19>=23,A19-24,A19)+1 -> 16 | B21: 00 | C21: =IF(C19>=23,C19-24,C19)+1 -> 16 | D21: 00 | E21: =IF(E19>=23,E19-24,E19)+1 -> 16 | F21: 00 | G21: =IF(G19>=23,G19-24,G19)+1 -> 16 | H21: 00 | I21: =IF(I19>=23,I19-24,I19)+1 -> 16 | J21: 00 | O21: =IF(OR( 29 <WEEKDAY(EOMONTH(V16,-1)+1,2), 29 >DAY(EOMONTH(V16,0))+WEEKDAY(EOMONTH(V16,-1)+1,3)),"", 29 -WEEKDAY(EOMONTH(V16,-1)+1,2)+1) -> 24 | P21: =IF(OR( 30 <WEEKDAY(EOMONTH(V16,-1)+1,2), 30 >DAY(EOMONTH(V16,0))+WEEKDAY(EOMONTH(V16,-1)+1,3)),"", 30 -WEEKDAY(EOMONTH(V16,-1)+1,2)+1) -> 25 | Q21: =IF(OR( 31 <WEEKDAY(EOMONTH(V16,-1)+1,2), 31 >DAY(EOMONTH(V16,0))+WEEKDAY(EOMONTH(V16,-1)+1,3)),"", 31 -WEEKDAY(EOMONTH(V16,-1)+1,2)+1) -> 26 | R21: =IF(OR( 32 <WEEKDAY(EOMONTH(V16,-1)+1,2), 32 >DAY(EOMONTH(V16,0))+WEEKDAY(EOMONTH(V16,-1)+1,3)),"", 32 -WEEKDAY(EOMONTH(V16,-1)+1,2)+1) -> 27 | S21: =IF(OR( 33 <WEEKDAY(EOMONTH(V16,-1)+1,2), 33 >DAY(EOMONTH(V16,0))+WEEKDAY(EOMONTH(V16,-1)+1,3)),"", 33 -WEEKDAY(EOMONTH(V16,-1)+1,2)+1) -> 28 | T21: =IF(OR( 34 <WEEKDAY(EOMONTH(V16,-1)+1,2), 34 >DAY(EOMONTH(V16,0))+WEEKDAY(EOMONTH(V16,-1)+1,3)),"", 34 -WEEKDAY(EOMONTH(V16,-1)+1,2)+1) | U21: =IF(OR( 35 <WEEKDAY(EOMONTH(V16,-1)+1,2), 35 >DAY(EOMONTH(V16,0))+WEEKDAY(EOMONTH(V16,-1)+1,3)),"", 35 -WEEKDAY(EOMONTH(V16,-1)+1,2)+1) | AA21: =IFERROR(CONCATENATE(DAY(AD21),".",MONTH(AD21)),"") -> 25.8 | AD21: =IF(WEEKDAY(AD9,2)>5,AD9+(8-WEEKDAY(AD9,2)),"") -> 41876 | AE21: День независимости Украины
B22: 30 | D22: 30 | F22: 30 | H22: 30 | J22: 30 | O22: =IF(OR( 36 <WEEKDAY(EOMONTH(V16,-1)+1,2), 36 >DAY(EOMONTH(V16,0))+WEEKDAY(EOMONTH(V16,-1)+1,3)),"", 36 -WEEKDAY(EOMONTH(V16,-1)+1,2)+1) | P22: =IF(OR( 37 <WEEKDAY(EOMONTH(V16,-1)+1,2), 37 >DAY(EOMONTH(V16,0))+WEEKDAY(EOMONTH(V16,-1)+1,3)),"", 37 -WEEKDAY(EOMONTH(V16,-1)+1,2)+1) | Q22: =IF(OR( 38 <WEEKDAY(EOMONTH(V16,-1)+1,2), 38 >DAY(EOMONTH(V16,0))+WEEKDAY(EOMONTH(V16,-1)+1,3)),"", 38 -WEEKDAY(EOMONTH(V16,-1)+1,2)+1) | R22: =IF(OR( 39 <WEEKDAY(EOMONTH(V16,-1)+1,2), 39 >DAY(EOMONTH(V16,0))+WEEKDAY(EOMONTH(V16,-1)+1,3)),"", 39 -WEEKDAY(EOMONTH(V16,-1)+1,2)+1) | S22: =IF(OR( 40 <WEEKDAY(EOMONTH(V16,-1)+1,2), 40 >DAY(EOMONTH(V16,0))+WEEKDAY(EOMONTH(V16,-1)+1,3)),"", 40 -WEEKDAY(EOMONTH(V16,-1)+1,2)+1) | T22: =IF(OR( 41 <WEEKDAY(EOMONTH(V16,-1)+1,2), 41 >DAY(EOMONTH(V16,0))+WEEKDAY(EOMONTH(V16,-1)+1,3)),"", 41 -WEEKDAY(EOMONTH(V16,-1)+1,2)+1) | U22: =IF(OR( 42 <WEEKDAY(EOMONTH(V16,-1)+1,2), 42 >DAY(EOMONTH(V16,0))+WEEKDAY(EOMONTH(V16,-1)+1,3)),"", 42 -WEEKDAY(EOMONTH(V16,-1)+1,2)+1) | AA22: =IFERROR(CONCATENATE(DAY(AD22),".",MONTH(AD22)),"") -> 21.4 | AD22: =IF(WEEKDAY(AD10,2)>5,AD10+(8-WEEKDAY(AD10,2)),"") -> 41750 | AE22: Пасху
A23: =IF(A21>=23,A21-24,A21)+1 -> 17 | B23: 00 | C23: =IF(C21>=23,C21-24,C21)+1 -> 17 | D23: 00 | E23: =IF(E21>=23,E21-24,E21)+1 -> 17 | F23: 00 | G23: =IF(G21>=23,G21-24,G21)+1 -> 17 | H23: 00 | I23: =IF(I21>=23,I21-24,I21)+1 -> 17 | J23: 00 | M23: 1 | N23: закрасить сверху | O23: =VLOOKUP(MONTH( V23 ),X3:Y14,2) -> Март | T23: =YEAR(V23) -> 2014 | V23: =DATE(YEAR(V1),MONTH(V1)+W23,IF(DAY(V1)>VLOOKUP(MONTH(V1)+W23,X2:Z14,3),VLOOKUP(MONTH(V1)+W23,X2:Z14,3),DAY(V1))) -> 41714 | W23: 2 | AA23: =IFERROR(CONCATENATE(DAY(AD23),".",MONTH(AD23)),"") -> 9.6 | AD23: =IF(WEEKDAY(AD11,2)>5,AD11+(8-WEEKDAY(AD11,2)),"") -> 41799 | AE23: Троицу
B24: 30 | D24: 30 | F24: 30 | H24: 30 | J24: 30 | M24: 3 | N24: закрасить снизу | O24: =IF(OR( 1 <WEEKDAY(EOMONTH(V23,-1)+1,2), 1 >DAY(EOMONTH(V23,0))+WEEKDAY(EOMONTH(V23,-1)+1,3)),"", 1 -WEEKDAY(EOMONTH(V23,-1)+1,2)+1) | P24: =IF(OR( 2 <WEEKDAY(EOMONTH(V23,-1)+1,2), 2 >DAY(EOMONTH(V23,0))+WEEKDAY(EOMONTH(V23,-1)+1,3)),"", 2 -WEEKDAY(EOMONTH(V23,-1)+1,2)+1) | Q24: =IF(OR( 3 <WEEKDAY(EOMONTH(V23,-1)+1,2), 3 >DAY(EOMONTH(V23,0))+WEEKDAY(EOMONTH(V23,-1)+1,3)),"", 3 -WEEKDAY(EOMONTH(V23,-1)+1,2)+1) | R24: =IF(OR( 4 <WEEKDAY(EOMONTH(V23,-1)+1,2), 4 >DAY(EOMONTH(V23,0))+WEEKDAY(EOMONTH(V23,-1)+1,3)),"", 4 -WEEKDAY(EOMONTH(V23,-1)+1,2)+1) | S24: =IF(OR( 5 <WEEKDAY(EOMONTH(V23,-1)+1,2), 5 >DAY(EOMONTH(V23,0))+WEEKDAY(EOMONTH(V23,-1)+1,3)),"", 5 -WEEKDAY(EOMONTH(V23,-1)+1,2)+1) | T24: =IF(OR( 6 <WEEKDAY(EOMONTH(V23,-1)+1,2), 6 >DAY(EOMONTH(V23,0))+WEEKDAY(EOMONTH(V23,-1)+1,3)),"", 6 -WEEKDAY(EOMONTH(V23,-1)+1,2)+1) -> 1 | U24: =IF(OR( 7 <WEEKDAY(EOMONTH(V23,-1)+1,2), 7 >DAY(EOMONTH(V23,0))+WEEKDAY(EOMONTH(V23,-1)+1,3)),"", 7 -WEEKDAY(EOMONTH(V23,-1)+1,2)+1) -> 2
A25: =IF(A23>=23,A23-24,A23)+1 -> 18 | B25: 00 | C25: =IF(C23>=23,C23-24,C23)+1 -> 18 | D25: 00 | E25: =IF(E23>=23,E23-24,E23)+1 -> 18 | F25: 00 | G25: =IF(G23>=23,G23-24,G23)+1 -> 18 | H25: 00 | I25: =IF(I23>=23,I23-24,I23)+1 -> 18 | J25: 00 | M25: 0 | N25: сдвиг недели | O25: =IF(OR( 8 <WEEKDAY(EOMONTH(V23,-1)+1,2), 8 >DAY(EOMONTH(V23,0))+WEEKDAY(EOMONTH(V23,-1)+1,3)),"", 8 -WEEKDAY(EOMONTH(V23,-1)+1,2)+1) -> 3 | P25: =IF(OR( 9 <WEEKDAY(EOMONTH(V23,-1)+1,2), 9 >DAY(EOMONTH(V23,0))+WEEKDAY(EOMONTH(V23,-1)+1,3)),"", 9 -WEEKDAY(EOMONTH(V23,-1)+1,2)+1) -> 4 | Q25: =IF(OR( 10 <WEEKDAY(EOMONTH(V23,-1)+1,2), 10 >DAY(EOMONTH(V23,0))+WEEKDAY(EOMONTH(V23,-1)+1,3)),"", 10 -WEEKDAY(EOMONTH(V23,-1)+1,2)+1) -> 5 | R25: =IF(OR( 11 <WEEKDAY(EOMONTH(V23,-1)+1,2), 11 >DAY(EOMONTH(V23,0))+WEEKDAY(EOMONTH(V23,-1)+1,3)),"", 11 -WEEKDAY(EOMONTH(V23,-1)+1,2)+1) -> 6 | S25: =IF(OR( 12 <WEEKDAY(EOMONTH(V23,-1)+1,2), 12 >DAY(EOMONTH(V23,0))+WEEKDAY(EOMONTH(V23,-1)+1,3)),"", 12 -WEEKDAY(EOMONTH(V23,-1)+1,2)+1) -> 7 | T25: =IF(OR( 13 <WEEKDAY(EOMONTH(V23,-1)+1,2), 13 >DAY(EOMONTH(V23,0))+WEEKDAY(EOMONTH(V23,-1)+1,3)),"", 13 -WEEKDAY(EOMONTH(V23,-1)+1,2)+1) -> 8 | U25: =IF(OR( 14 <WEEKDAY(EOMONTH(V23,-1)+1,2), 14 >DAY(EOMONTH(V23,0))+WEEKDAY(EOMONTH(V23,-1)+1,3)),"", 14 -WEEKDAY(EOMONTH(V23,-1)+1,2)+1) -> 9
B26: 30 | D26: 30 | F26: 30 | H26: 30 | J26: 30 | K26: II важно не срочно | M26: I важно срочно | O26: =IF(OR( 15 <WEEKDAY(EOMONTH(V23,-1)+1,2), 15 >DAY(EOMONTH(V23,0))+WEEKDAY(EOMONTH(V23,-1)+1,3)),"", 15 -WEEKDAY(EOMONTH(V23,-1)+1,2)+1) -> 10 | P26: =IF(OR( 16 <WEEKDAY(EOMONTH(V23,-1)+1,2), 16 >DAY(EOMONTH(V23,0))+WEEKDAY(EOMONTH(V23,-1)+1,3)),"", 16 -WEEKDAY(EOMONTH(V23,-1)+1,2)+1) -> 11 | Q26: =IF(OR( 17 <WEEKDAY(EOMONTH(V23,-1)+1,2), 17 >DAY(EOMONTH(V23,0))+WEEKDAY(EOMONTH(V23,-1)+1,3)),"", 17 -WEEKDAY(EOMONTH(V23,-1)+1,2)+1) -> 12 | R26: =IF(OR( 18 <WEEKDAY(EOMONTH(V23,-1)+1,2), 18 >DAY(EOMONTH(V23,0))+WEEKDAY(EOMONTH(V23,-1)+1,3)),"", 18 -WEEKDAY(EOMONTH(V23,-1)+1,2)+1) -> 13 | S26: =IF(OR( 19 <WEEKDAY(EOMONTH(V23,-1)+1,2), 19 >DAY(EOMONTH(V23,0))+WEEKDAY(EOMONTH(V23,-1)+1,3)),"", 19 -WEEKDAY(EOMONTH(V23,-1)+1,2)+1) -> 14 | T26: =IF(OR( 20 <WEEKDAY(EOMONTH(V23,-1)+1,2), 20 >DAY(EOMONTH(V23,0))+WEEKDAY(EOMONTH(V23,-1)+1,3)),"", 20 -WEEKDAY(EOMONTH(V23,-1)+1,2)+1) -> 15 | U26: =IF(OR( 21 <WEEKDAY(EOMONTH(V23,-1)+1,2), 21 >DAY(EOMONTH(V23,0))+WEEKDAY(EOMONTH(V23,-1)+1,3)),"", 21 -WEEKDAY(EOMONTH(V23,-1)+1,2)+1) -> 16
A27: =IF(A25>=23,A25-24,A25)+1 -> 19 | B27: 00 | C27: =IF(C25>=23,C25-24,C25)+1 -> 19 | D27: 00 | E27: =IF(E25>=23,E25-24,E25)+1 -> 19 | F27: 00 | G27: =IF(G25>=23,G25-24,G25)+1 -> 19 | H27: 00 | I27: =IF(I25>=23,I25-24,I25)+1 -> 19 | J27: 00 | O27: =IF(OR( 22 <WEEKDAY(EOMONTH(V23,-1)+1,2), 22 >DAY(EOMONTH(V23,0))+WEEKDAY(EOMONTH(V23,-1)+1,3)),"", 22 -WEEKDAY(EOMONTH(V23,-1)+1,2)+1) -> 17 | P27: =IF(OR( 23 <WEEKDAY(EOMONTH(V23,-1)+1,2), 23 >DAY(EOMONTH(V23,0))+WEEKDAY(EOMONTH(V23,-1)+1,3)),"", 23 -WEEKDAY(EOMONTH(V23,-1)+1,2)+1) -> 18 | Q27: =IF(OR( 24 <WEEKDAY(EOMONTH(V23,-1)+1,2), 24 >DAY(EOMONTH(V23,0))+WEEKDAY(EOMONTH(V23,-1)+1,3)),"", 24 -WEEKDAY(EOMONTH(V23,-1)+1,2)+1) -> 19 | R27: =IF(OR( 25 <WEEKDAY(EOMONTH(V23,-1)+1,2), 25 >DAY(EOMONTH(V23,0))+WEEKDAY(EOMONTH(V23,-1)+1,3)),"", 25 -WEEKDAY(EOMONTH(V23,-1)+1,2)+1) -> 20 | S27: =IF(OR( 26 <WEEKDAY(EOMONTH(V23,-1)+1,2), 26 >DAY(EOMONTH(V23,0))+WEEKDAY(EOMONTH(V23,-1)+1,3)),"", 26 -WEEKDAY(EOMONTH(V23,-1)+1,2)+1) -> 21 | T27: =IF(OR( 27 <WEEKDAY(EOMONTH(V23,-1)+1,2), 27 >DAY(EOMONTH(V23,0))+WEEKDAY(EOMONTH(V23,-1)+1,3)),"", 27 -WEEKDAY(EOMONTH(V23,-1)+1,2)+1) -> 22 | U27: =IF(OR( 28 <WEEKDAY(EOMONTH(V23,-1)+1,2), 28 >DAY(EOMONTH(V23,0))+WEEKDAY(EOMONTH(V23,-1)+1,3)),"", 28 -WEEKDAY(EOMONTH(V23,-1)+1,2)+1) -> 23
B28: 30 | D28: 30 | F28: 30 | H28: 30 | J28: 30 | O28: =IF(OR( 29 <WEEKDAY(EOMONTH(V23,-1)+1,2), 29 >DAY(EOMONTH(V23,0))+WEEKDAY(EOMONTH(V23,-1)+1,3)),"", 29 -WEEKDAY(EOMONTH(V23,-1)+1,2)+1) -> 24 | P28: =IF(OR( 30 <WEEKDAY(EOMONTH(V23,-1)+1,2), 30 >DAY(EOMONTH(V23,0))+WEEKDAY(EOMONTH(V23,-1)+1,3)),"", 30 -WEEKDAY(EOMONTH(V23,-1)+1,2)+1) -> 25 | Q28: =IF(OR( 31 <WEEKDAY(EOMONTH(V23,-1)+1,2), 31 >DAY(EOMONTH(V23,0))+WEEKDAY(EOMONTH(V23,-1)+1,3)),"", 31 -WEEKDAY(EOMONTH(V23,-1)+1,2)+1) -> 26 | R28: =IF(OR( 32 <WEEKDAY(EOMONTH(V23,-1)+1,2), 32 >DAY(EOMONTH(V23,0))+WEEKDAY(EOMONTH(V23,-1)+1,3)),"", 32 -WEEKDAY(EOMONTH(V23,-1)+1,2)+1) -> 27 | S28: =IF(OR( 33 <WEEKDAY(EOMONTH(V23,-1)+1,2), 33 >DAY(EOMONTH(V23,0))+WEEKDAY(EOMONTH(V23,-1)+1,3)),"", 33 -WEEKDAY(EOMONTH(V23,-1)+1,2)+1) -> 28 | T28: =IF(OR( 34 <WEEKDAY(EOMONTH(V23,-1)+1,2), 34 >DAY(EOMONTH(V23,0))+WEEKDAY(EOMONTH(V23,-1)+1,3)),"", 34 -WEEKDAY(EOMONTH(V23,-1)+1,2)+1) -> 29 | U28: =IF(OR( 35 <WEEKDAY(EOMONTH(V23,-1)+1,2), 35 >DAY(EOMONTH(V23,0))+WEEKDAY(EOMONTH(V23,-1)+1,3)),"", 35 -WEEKDAY(EOMONTH(V23,-1)+1,2)+1) -> 30
A29: =IF(A27>=23,A27-24,A27)+1 -> 20 | B29: 00 | C29: =IF(C27>=23,C27-24,C27)+1 -> 20 | D29: 00 | E29: =IF(E27>=23,E27-24,E27)+1 -> 20 | F29: 00 | G29: =IF(G27>=23,G27-24,G27)+1 -> 20 | H29: 00 | I29: =IF(I27>=23,I27-24,I27)+1 -> 20 | J29: 00 | O29: =IF(OR( 36 <WEEKDAY(EOMONTH(V23,-1)+1,2), 36 >DAY(EOMONTH(V23,0))+WEEKDAY(EOMONTH(V23,-1)+1,3)),"", 36 -WEEKDAY(EOMONTH(V23,-1)+1,2)+1) -> 31 | P29: =IF(OR( 37 <WEEKDAY(EOMONTH(V23,-1)+1,2), 37 >DAY(EOMONTH(V23,0))+WEEKDAY(EOMONTH(V23,-1)+1,3)),"", 37 -WEEKDAY(EOMONTH(V23,-1)+1,2)+1) | Q29: =IF(OR( 38 <WEEKDAY(EOMONTH(V23,-1)+1,2), 38 >DAY(EOMONTH(V23,0))+WEEKDAY(EOMONTH(V23,-1)+1,3)),"", 38 -WEEKDAY(EOMONTH(V23,-1)+1,2)+1) | R29: =IF(OR( 39 <WEEKDAY(EOMONTH(V23,-1)+1,2), 39 >DAY(EOMONTH(V23,0))+WEEKDAY(EOMONTH(V23,-1)+1,3)),"", 39 -WEEKDAY(EOMONTH(V23,-1)+1,2)+1) | S29: =IF(OR( 40 <WEEKDAY(EOMONTH(V23,-1)+1,2), 40 >DAY(EOMONTH(V23,0))+WEEKDAY(EOMONTH(V23,-1)+1,3)),"", 40 -WEEKDAY(EOMONTH(V23,-1)+1,2)+1) | T29: =IF(OR( 41 <WEEKDAY(EOMONTH(V23,-1)+1,2), 41 >DAY(EOMONTH(V23,0))+WEEKDAY(EOMONTH(V23,-1)+1,3)),"", 41 -WEEKDAY(EOMONTH(V23,-1)+1,2)+1) | U29: =IF(OR( 42 <WEEKDAY(EOMONTH(V23,-1)+1,2), 42 >DAY(EOMONTH(V23,0))+WEEKDAY(EOMONTH(V23,-1)+1,3)),"", 42 -WEEKDAY(EOMONTH(V23,-1)+1,2)+1)
B30: 30 | D30: 30 | F30: 30 | H30: 30 | J30: 30 | O30: =VLOOKUP(MONTH( V30 ),X3:Y14,2) -> Апрель | T30: =YEAR(V30) -> 2014 | V30: =DATE(YEAR(V1),MONTH(V1)+W30,IF(DAY(V1)>VLOOKUP(MONTH(V1)+W30,X2:Z14,3),VLOOKUP(MONTH(V1)+W30,X2:Z14,3),DAY(V1))) -> 41745 | W30: 3
A31: =IFERROR(INDIRECT(ADDRESS(MATCH(CONCATENATE(DAY(A$2),".",MONTH(A$2)),$AA$2:$AA$12,0)+1,31)),IFERROR(CONCATENATE("Выходной за ",INDIRECT(ADDRESS(MATCH(CONCATENATE(DAY(A$2),".",MONTH(A$2)),$AA$14:$AA$24,0)+13,31))),"Дела на день")) -> Дела на день | C31: =IFERROR(INDIRECT(ADDRESS(MATCH(CONCATENATE(DAY(C$2),".",MONTH(C$2)),$AA$2:$AA$12,0)+1,31)),IFERROR(CONCATENATE("Выходной за ",INDIRECT(ADDRESS(MATCH(CONCATENATE(DAY(C$2),".",MONTH(C$2)),$AA$14:$AA$24,0)+13,31))),"Дела на день")) -> Дела на день | E31: =IFERROR(INDIRECT(ADDRESS(MATCH(CONCATENATE(DAY(E$2),".",MONTH(E$2)),$AA$2:$AA$12,0)+1,31)),IFERROR(CONCATENATE("Выходной за ",INDIRECT(ADDRESS(MATCH(CONCATENATE(DAY(E$2),".",MONTH(E$2)),$AA$14:$AA$24,0)+13,31))),"Дела на день")) -> Дела на день | G31: =IFERROR(INDIRECT(ADDRESS(MATCH(CONCATENATE(DAY(G$2),".",MONTH(G$2)),$AA$2:$AA$12,0)+1,31)),IFERROR(CONCATENATE("Выходной за ",INDIRECT(ADDRESS(MATCH(CONCATENATE(DAY(G$2),".",MONTH(G$2)),$AA$14:$AA$24,0)+13,31))),"Дела на день")) -> Дела на день | I31: =IFERROR(INDIRECT(ADDRESS(MATCH(CONCATENATE(DAY(I$2),".",MONTH(I$2)),$AA$2:$AA$12,0)+1,31)),IFERROR(CONCATENATE("Выходной за ",INDIRECT(ADDRESS(MATCH(CONCATENATE(DAY(I$2),".",MONTH(I$2)),$AA$14:$AA$24,0)+13,31))),"Дела на день")) -> Дела на день | O31: =IF(OR( 1 <WEEKDAY(EOMONTH(V30,-1)+1,2), 1 >DAY(EOMONTH(V30,0))+WEEKDAY(EOMONTH(V30,-1)+1,3)),"", 1 -WEEKDAY(EOMONTH(V30,-1)+1,2)+1) | P31: =IF(OR( 2 <WEEKDAY(EOMONTH(V30,-1)+1,2), 2 >DAY(EOMONTH(V30,0))+WEEKDAY(EOMONTH(V30,-1)+1,3)),"", 2 -WEEKDAY(EOMONTH(V30,-1)+1,2)+1) -> 1 | Q31: =IF(OR( 3 <WEEKDAY(EOMONTH(V30,-1)+1,2), 3 >DAY(EOMONTH(V30,0))+WEEKDAY(EOMONTH(V30,-1)+1,3)),"", 3 -WEEKDAY(EOMONTH(V30,-1)+1,2)+1) -> 2 | R31: =IF(OR( 4 <WEEKDAY(EOMONTH(V30,-1)+1,2), 4 >DAY(EOMONTH(V30,0))+WEEKDAY(EOMONTH(V30,-1)+1,3)),"", 4 -WEEKDAY(EOMONTH(V30,-1)+1,2)+1) -> 3 | S31: =IF(OR( 5 <WEEKDAY(EOMONTH(V30,-1)+1,2), 5 >DAY(EOMONTH(V30,0))+WEEKDAY(EOMONTH(V30,-1)+1,3)),"", 5 -WEEKDAY(EOMONTH(V30,-1)+1,2)+1) -> 4 | T31: =IF(OR( 6 <WEEKDAY(EOMONTH(V30,-1)+1,2), 6 >DAY(EOMONTH(V30,0))+WEEKDAY(EOMONTH(V30,-1)+1,3)),"", 6 -WEEKDAY(EOMONTH(V30,-1)+1,2)+1) -> 5 | U31: =IF(OR( 7 <WEEKDAY(EOMONTH(V30,-1)+1,2), 7 >DAY(EOMONTH(V30,0))+WEEKDAY(EOMONTH(V30,-1)+1,3)),"", 7 -WEEKDAY(EOMONTH(V30,-1)+1,2)+1) -> 6
O32: =IF(OR( 8 <WEEKDAY(EOMONTH(V30,-1)+1,2), 8 >DAY(EOMONTH(V30,0))+WEEKDAY(EOMONTH(V30,-1)+1,3)),"", 8 -WEEKDAY(EOMONTH(V30,-1)+1,2)+1) -> 7 | P32: =IF(OR( 9 <WEEKDAY(EOMONTH(V30,-1)+1,2), 9 >DAY(EOMONTH(V30,0))+WEEKDAY(EOMONTH(V30,-1)+1,3)),"", 9 -WEEKDAY(EOMONTH(V30,-1)+1,2)+1) -> 8 | Q32: =IF(OR( 10 <WEEKDAY(EOMONTH(V30,-1)+1,2), 10 >DAY(EOMONTH(V30,0))+WEEKDAY(EOMONTH(V30,-1)+1,3)),"", 10 -WEEKDAY(EOMONTH(V30,-1)+1,2)+1) -> 9 | R32: =IF(OR( 11 <WEEKDAY(EOMONTH(V30,-1)+1,2), 11 >DAY(EOMONTH(V30,0))+WEEKDAY(EOMONTH(V30,-1)+1,3)),"", 11 -WEEKDAY(EOMONTH(V30,-1)+1,2)+1) -> 10 | S32: =IF(OR( 12 <WEEKDAY(EOMONTH(V30,-1)+1,2), 12 >DAY(EOMONTH(V30,0))+WEEKDAY(EOMONTH(V30,-1)+1,3)),"", 12 -WEEKDAY(EOMONTH(V30,-1)+1,2)+1) -> 11 | T32: =IF(OR( 13 <WEEKDAY(EOMONTH(V30,-1)+1,2), 13 >DAY(EOMONTH(V30,0))+WEEKDAY(EOMONTH(V30,-1)+1,3)),"", 13 -WEEKDAY(EOMONTH(V30,-1)+1,2)+1) -> 12 | U32: =IF(OR( 14 <WEEKDAY(EOMONTH(V30,-1)+1,2), 14 >DAY(EOMONTH(V30,0))+WEEKDAY(EOMONTH(V30,-1)+1,3)),"", 14 -WEEKDAY(EOMONTH(V30,-1)+1,2)+1) -> 13
K33: IV не важно не срочно | M33: III не важно срочно | O33: =IF(OR( 15 <WEEKDAY(EOMONTH(V30,-1)+1,2), 15 >DAY(EOMONTH(V30,0))+WEEKDAY(EOMONTH(V30,-1)+1,3)),"", 15 -WEEKDAY(EOMONTH(V30,-1)+1,2)+1) -> 14 | P33: =IF(OR( 16 <WEEKDAY(EOMONTH(V30,-1)+1,2), 16 >DAY(EOMONTH(V30,0))+WEEKDAY(EOMONTH(V30,-1)+1,3)),"", 16 -WEEKDAY(EOMONTH(V30,-1)+1,2)+1) -> 15 | Q33: =IF(OR( 17 <WEEKDAY(EOMONTH(V30,-1)+1,2), 17 >DAY(EOMONTH(V30,0))+WEEKDAY(EOMONTH(V30,-1)+1,3)),"", 17 -WEEKDAY(EOMONTH(V30,-1)+1,2)+1) -> 16 | R33: =IF(OR( 18 <WEEKDAY(EOMONTH(V30,-1)+1,2), 18 >DAY(EOMONTH(V30,0))+WEEKDAY(EOMONTH(V30,-1)+1,3)),"", 18 -WEEKDAY(EOMONTH(V30,-1)+1,2)+1) -> 17 | S33: =IF(OR( 19 <WEEKDAY(EOMONTH(V30,-1)+1,2), 19 >DAY(EOMONTH(V30,0))+WEEKDAY(EOMONTH(V30,-1)+1,3)),"", 19 -WEEKDAY(EOMONTH(V30,-1)+1,2)+1) -> 18 | T33: =IF(OR( 20 <WEEKDAY(EOMONTH(V30,-1)+1,2), 20 >DAY(EOMONTH(V30,0))+WEEKDAY(EOMONTH(V30,-1)+1,3)),"", 20 -WEEKDAY(EOMONTH(V30,-1)+1,2)+1) -> 19 | U33: =IF(OR( 21 <WEEKDAY(EOMONTH(V30,-1)+1,2), 21 >DAY(EOMONTH(V30,0))+WEEKDAY(EOMONTH(V30,-1)+1,3)),"", 21 -WEEKDAY(EOMONTH(V30,-1)+1,2)+1) -> 20
O34: =IF(OR( 22 <WEEKDAY(EOMONTH(V30,-1)+1,2), 22 >DAY(EOMONTH(V30,0))+WEEKDAY(EOMONTH(V30,-1)+1,3)),"", 22 -WEEKDAY(EOMONTH(V30,-1)+1,2)+1) -> 21 | P34: =IF(OR( 23 <WEEKDAY(EOMONTH(V30,-1)+1,2), 23 >DAY(EOMONTH(V30,0))+WEEKDAY(EOMONTH(V30,-1)+1,3)),"", 23 -WEEKDAY(EOMONTH(V30,-1)+1,2)+1) -> 22 | Q34: =IF(OR( 24 <WEEKDAY(EOMONTH(V30,-1)+1,2), 24 >DAY(EOMONTH(V30,0))+WEEKDAY(EOMONTH(V30,-1)+1,3)),"", 24 -WEEKDAY(EOMONTH(V30,-1)+1,2)+1) -> 23 | R34: =IF(OR( 25 <WEEKDAY(EOMONTH(V30,-1)+1,2), 25 >DAY(EOMONTH(V30,0))+WEEKDAY(EOMONTH(V30,-1)+1,3)),"", 25 -WEEKDAY(EOMONTH(V30,-1)+1,2)+1) -> 24 | S34: =IF(OR( 26 <WEEKDAY(EOMONTH(V30,-1)+1,2), 26 >DAY(EOMONTH(V30,0))+WEEKDAY(EOMONTH(V30,-1)+1,3)),"", 26 -WEEKDAY(EOMONTH(V30,-1)+1,2)+1) -> 25 | T34: =IF(OR( 27 <WEEKDAY(EOMONTH(V30,-1)+1,2), 27 >DAY(EOMONTH(V30,0))+WEEKDAY(EOMONTH(V30,-1)+1,3)),"", 27 -WEEKDAY(EOMONTH(V30,-1)+1,2)+1) -> 26 | U34: =IF(OR( 28 <WEEKDAY(EOMONTH(V30,-1)+1,2), 28 >DAY(EOMONTH(V30,0))+WEEKDAY(EOMONTH(V30,-1)+1,3)),"", 28 -WEEKDAY(EOMONTH(V30,-1)+1,2)+1) -> 27
O35: =IF(OR( 29 <WEEKDAY(EOMONTH(V30,-1)+1,2), 29 >DAY(EOMONTH(V30,0))+WEEKDAY(EOMONTH(V30,-1)+1,3)),"", 29 -WEEKDAY(EOMONTH(V30,-1)+1,2)+1) -> 28 | P35: =IF(OR( 30 <WEEKDAY(EOMONTH(V30,-1)+1,2), 30 >DAY(EOMONTH(V30,0))+WEEKDAY(EOMONTH(V30,-1)+1,3)),"", 30 -WEEKDAY(EOMONTH(V30,-1)+1,2)+1) -> 29 | Q35: =IF(OR( 31 <WEEKDAY(EOMONTH(V30,-1)+1,2), 31 >DAY(EOMONTH(V30,0))+WEEKDAY(EOMONTH(V30,-1)+1,3)),"", 31 -WEEKDAY(EOMONTH(V30,-1)+1,2)+1) -> 30 | R35: =IF(OR( 32 <WEEKDAY(EOMONTH(V30,-1)+1,2), 32 >DAY(EOMONTH(V30,0))+WEEKDAY(EOMONTH(V30,-1)+1,3)),"", 32 -WEEKDAY(EOMONTH(V30,-1)+1,2)+1) | S35: =IF(OR( 33 <WEEKDAY(EOMONTH(V30,-1)+1,2), 33 >DAY(EOMONTH(V30,0))+WEEKDAY(EOMONTH(V30,-1)+1,3)),"", 33 -WEEKDAY(EOMONTH(V30,-1)+1,2)+1) | T35: =IF(OR( 34 <WEEKDAY(EOMONTH(V30,-1)+1,2), 34 >DAY(EOMONTH(V30,0))+WEEKDAY(EOMONTH(V30,-1)+1,3)),"", 34 -WEEKDAY(EOMONTH(V30,-1)+1,2)+1) | U35: =IF(OR( 35 <WEEKDAY(EOMONTH(V30,-1)+1,2), 35 >DAY(EOMONTH(V30,0))+WEEKDAY(EOMONTH(V30,-1)+1,3)),"", 35 -WEEKDAY(EOMONTH(V30,-1)+1,2)+1)
O36: =IF(OR( 36 <WEEKDAY(EOMONTH(V30,-1)+1,2), 36 >DAY(EOMONTH(V30,0))+WEEKDAY(EOMONTH(V30,-1)+1,3)),"", 36 -WEEKDAY(EOMONTH(V30,-1)+1,2)+1) | P36: =IF(OR( 37 <WEEKDAY(EOMONTH(V30,-1)+1,2), 37 >DAY(EOMONTH(V30,0))+WEEKDAY(EOMONTH(V30,-1)+1,3)),"", 37 -WEEKDAY(EOMONTH(V30,-1)+1,2)+1) | Q36: =IF(OR( 38 <WEEKDAY(EOMONTH(V30,-1)+1,2), 38 >DAY(EOMONTH(V30,0))+WEEKDAY(EOMONTH(V30,-1)+1,3)),"", 38 -WEEKDAY(EOMONTH(V30,-1)+1,2)+1) | R36: =IF(OR( 39 <WEEKDAY(EOMONTH(V30,-1)+1,2), 39 >DAY(EOMONTH(V30,0))+WEEKDAY(EOMONTH(V30,-1)+1,3)),"", 39 -WEEKDAY(EOMONTH(V30,-1)+1,2)+1) | S36: =IF(OR( 40 <WEEKDAY(EOMONTH(V30,-1)+1,2), 40 >DAY(EOMONTH(V30,0))+WEEKDAY(EOMONTH(V30,-1)+1,3)),"", 40 -WEEKDAY(EOMONTH(V30,-1)+1,2)+1) | T36: =IF(OR( 41 <WEEKDAY(EOMONTH(V30,-1)+1,2), 41 >DAY(EOMONTH(V30,0))+WEEKDAY(EOMONTH(V30,-1)+1,3)),"", 41 -WEEKDAY(EOMONTH(V30,-1)+1,2)+1) | U36: =IF(OR( 42 <WEEKDAY(EOMONTH(V30,-1)+1,2), 42 >DAY(EOMONTH(V30,0))+WEEKDAY(EOMONTH(V30,-1)+1,3)),"", 42 -WEEKDAY(EOMONTH(V30,-1)+1,2)+1)
O37: =VLOOKUP(MONTH( V37 ),X3:Y14,2) -> Май | T37: =YEAR(V37) -> 2014 | V37: =DATE(YEAR(V1),MONTH(V1)+W37,IF(DAY(V1)>VLOOKUP(MONTH(V1)+W37,X2:Z14,3),VLOOKUP(MONTH(V1)+W37,X2:Z14,3),DAY(V1))) -> 41775 | W37: 4
O38: =IF(OR( 1 <WEEKDAY(EOMONTH(V37,-1)+1,2), 1 >DAY(EOMONTH(V37,0))+WEEKDAY(EOMONTH(V37,-1)+1,3)),"", 1 -WEEKDAY(EOMONTH(V37,-1)+1,2)+1) | P38: =IF(OR( 2 <WEEKDAY(EOMONTH(V37,-1)+1,2), 2 >DAY(EOMONTH(V37,0))+WEEKDAY(EOMONTH(V37,-1)+1,3)),"", 2 -WEEKDAY(EOMONTH(V37,-1)+1,2)+1) | Q38: =IF(OR( 3 <WEEKDAY(EOMONTH(V37,-1)+1,2), 3 >DAY(EOMONTH(V37,0))+WEEKDAY(EOMONTH(V37,-1)+1,3)),"", 3 -WEEKDAY(EOMONTH(V37,-1)+1,2)+1) | R38: =IF(OR( 4 <WEEKDAY(EOMONTH(V37,-1)+1,2), 4 >DAY(EOMONTH(V37,0))+WEEKDAY(EOMONTH(V37,-1)+1,3)),"", 4 -WEEKDAY(EOMONTH(V37,-1)+1,2)+1) -> 1 | S38: =IF(OR( 5 <WEEKDAY(EOMONTH(V37,-1)+1,2), 5 >DAY(EOMONTH(V37,0))+WEEKDAY(EOMONTH(V37,-1)+1,3)),"", 5 -WEEKDAY(EOMONTH(V37,-1)+1,2)+1) -> 2 | T38: =IF(OR( 6 <WEEKDAY(EOMONTH(V37,-1)+1,2), 6 >DAY(EOMONTH(V37,0))+WEEKDAY(EOMONTH(V37,-1)+1,3)),"", 6 -WEEKDAY(EOMONTH(V37,-1)+1,2)+1) -> 3 | U38: =IF(OR( 7 <WEEKDAY(EOMONTH(V37,-1)+1,2), 7 >DAY(EOMONTH(V37,0))+WEEKDAY(EOMONTH(V37,-1)+1,3)),"", 7 -WEEKDAY(EOMONTH(V37,-1)+1,2)+1) -> 4
O39: =IF(OR( 8 <WEEKDAY(EOMONTH(V37,-1)+1,2), 8 >DAY(EOMONTH(V37,0))+WEEKDAY(EOMONTH(V37,-1)+1,3)),"", 8 -WEEKDAY(EOMONTH(V37,-1)+1,2)+1) -> 5 | P39: =IF(OR( 9 <WEEKDAY(EOMONTH(V37,-1)+1,2), 9 >DAY(EOMONTH(V37,0))+WEEKDAY(EOMONTH(V37,-1)+1,3)),"", 9 -WEEKDAY(EOMONTH(V37,-1)+1,2)+1) -> 6 | Q39: =IF(OR( 10 <WEEKDAY(EOMONTH(V37,-1)+1,2), 10 >DAY(EOMONTH(V37,0))+WEEKDAY(EOMONTH(V37,-1)+1,3)),"", 10 -WEEKDAY(EOMONTH(V37,-1)+1,2)+1) -> 7 | R39: =IF(OR( 11 <WEEKDAY(EOMONTH(V37,-1)+1,2), 11 >DAY(EOMONTH(V37,0))+WEEKDAY(EOMONTH(V37,-1)+1,3)),"", 11 -WEEKDAY(EOMONTH(V37,-1)+1,2)+1) -> 8 | S39: =IF(OR( 12 <WEEKDAY(EOMONTH(V37,-1)+1,2), 12 >DAY(EOMONTH(V37,0))+WEEKDAY(EOMONTH(V37,-1)+1,3)),"", 12 -WEEKDAY(EOMONTH(V37,-1)+1,2)+1) -> 9 | T39: =IF(OR( 13 <WEEKDAY(EOMONTH(V37,-1)+1,2), 13 >DAY(EOMONTH(V37,0))+WEEKDAY(EOMONTH(V37,-1)+1,3)),"", 13 -WEEKDAY(EOMONTH(V37,-1)+1,2)+1) -> 10 | U39: =IF(OR( 14 <WEEKDAY(EOMONTH(V37,-1)+1,2), 14 >DAY(EOMONTH(V37,0))+WEEKDAY(EOMONTH(V37,-1)+1,3)),"", 14 -WEEKDAY(EOMONTH(V37,-1)+1,2)+1) -> 11

Sheet планер 45-15
A1: понедельник | D1: =$N$1-WEEKDAY($N$1,3)+0 -> 41652 | E1: вторник | H1: =$N$1-WEEKDAY($N$1,3)+1 -> 41653 | I1: среда | L1: =$N$1-WEEKDAY($N$1,3)+2 -> 41654 | M1: 0 | N1: =TODAY()+7*M1 -> 41655 | O1: четверг | R1: =$N$1-WEEKDAY($N$1,3)+3 -> 41655 | S1: пятница | V1: =$N$1-WEEKDAY($N$1,3)+4 -> 41656 | W1: суббота | AB1: =$N$1-WEEKDAY($N$1,3)+5 -> 41657 | AF1: =YEAR($N$1) -> 2014 | AJ1: Для Пасхи
A2: =IFERROR(INDIRECT(ADDRESS(MATCH(CONCATENATE(DAY(D1),".",MONTH(D1)),$AE$2:$AE$12,0)+1,35)),IFERROR(CONCATENATE("Выходной за ",INDIRECT(ADDRESS(MATCH(CONCATENATE(DAY(D1),".",MONTH(D1)),$AE$14:$AE$24,0)+13,35))),"")) | E2: =IFERROR(INDIRECT(ADDRESS(MATCH(CONCATENATE(DAY(H1),".",MONTH(H1)),$AE$2:$AE$12,0)+1,35)),IFERROR(CONCATENATE("Выходной за ",INDIRECT(ADDRESS(MATCH(CONCATENATE(DAY(H1),".",MONTH(H1)),$AE$14:$AE$24,0)+13,35))),"")) | I2: =IFERROR(INDIRECT(ADDRESS(MATCH(CONCATENATE(DAY(L1),".",MONTH(L1)),$AE$2:$AE$12,0)+1,35)),IFERROR(CONCATENATE("Выходной за ",INDIRECT(ADDRESS(MATCH(CONCATENATE(DAY(L1),".",MONTH(L1)),$AE$14:$AE$24,0)+13,35))),"")) | O2: =IFERROR(INDIRECT(ADDRESS(MATCH(CONCATENATE(DAY(R1),".",MONTH(R1)),$AE$2:$AE$12,0)+1,35)),IFERROR(CONCATENATE("Выходной за ",INDIRECT(ADDRESS(MATCH(CONCATENATE(DAY(R1),".",MONTH(R1)),$AE$14:$AE$24,0)+13,35))),"")) | S2: =IFERROR(INDIRECT(ADDRESS(MATCH(CONCATENATE(DAY(V1),".",MONTH(V1)),$AE$2:$AE$12,0)+1,35)),IFERROR(CONCATENATE("Выходной за ",INDIRECT(ADDRESS(MATCH(CONCATENATE(DAY(V1),".",MONTH(V1)),$AE$14:$AE$24,0)+13,35))),"")) | W2: =IFERROR(INDIRECT(ADDRESS(MATCH(CONCATENATE(DAY(Z1),".",MONTH(Z1)),$AE$2:$AE$12,0)+1,35)),IFERROR(CONCATENATE("Выходной за ",INDIRECT(ADDRESS(MATCH(CONCATENATE(DAY(Z1),".",MONTH(Z1)),$AE$14:$AE$24,0)+13,35))),"")) | AE2: =CONCATENATE(AF2,".",AG2) -> 1.1 | AF2: 1 | AG2: 1 | AH2: =DATE(AF$1,AG2,AF2) -> 41640 | AI2: Новый год | AJ2: а | AK2: =MOD(AF1,19) -> 0
AE3: =CONCATENATE(AF3,".",AG3) -> 7.1 | AF3: 7 | AG3: 1 | AH3: =DATE(AF$1,AG3,AF3) -> 41646 | AI3: Рождество Христово | AJ3: б | AK3: =MOD(AF1,4) -> 2
AE4: =CONCATENATE(AF4,".",AG4) -> 8.3 | AF4: 8 | AG4: 3 | AH4: =DATE(AF$1,AG4,AF4) -> 41706 | AI4: Женский день | AJ4: в | AK4: =MOD(AF1,7) -> 5
A5: 9 | B5: 00 | E5: =$A5 -> 9 | F5: 00 | I5: =$A5 -> 9 | J5: 00 | O5: =$A5 -> 9 | P5: 00 | S5: =$A5 -> 9 | T5: 00 | W5: =$A5+3 -> 12 | X5: 00 | AE5: =CONCATENATE(AF5,".",AG5) -> 1.5 | AF5: 1 | AG5: 5 | AH5: =DATE(AF$1,AG5,AF5) -> 41760 | AI5: День солидарности трудящихся | AJ5: г | AK5: =MOD(19*AK2+15,30) -> 15
B6: 15 | F6: 15 | J6: 15 | P6: 15 | T6: 15 | X6: 15 | AE6: =CONCATENATE(AF6,".",AG6) -> 2.5 | AF6: 2 | AG6: 5 | AH6: =DATE(AF$1,AG6,AF6) -> 41761 | AI6: День солидарности трудящихся | AJ6: д | AK6: =MOD(2*AK3+4*AK4+6*AK5+6,7) -> 1
B7: 30 | F7: 30 | J7: 30 | P7: 30 | T7: 30 | X7: 30 | AE7: =CONCATENATE(AF7,".",AG7) -> 9.5 | AF7: 9 | AG7: 5 | AH7: =DATE(AF$1,AG7,AF7) -> 41768 | AI7: День Победы
B8: 45 | F8: 45 | J8: 45 | P8: 45 | T8: 45 | X8: 45 | AE8: =CONCATENATE(AF8,".",AG8) -> 28.6 | AF8: 28 | AG8: 6 | AH8: =DATE(AF$1,AG8,AF8) -> 41818 | AI8: День Конституции Украины
A9: =IF(A5>=23,A5-24,A5)+1 -> 10 | B9: 00 | E9: =IF(E5>=23,E5-24,E5)+1 -> 10 | F9: 00 | I9: =IF(I5>=23,I5-24,I5)+1 -> 10 | J9: 00 | O9: =IF(O5>=23,O5-24,O5)+1 -> 10 | P9: 00 | S9: =IF(S5>=23,S5-24,S5)+1 -> 10 | T9: 00 | W9: =IF(W5>=23,W5-24,W5)+1 -> 13 | X9: 00 | AE9: =CONCATENATE(AF9,".",AG9) -> 24.8 | AF9: 24 | AG9: 8 | AH9: =DATE(AF$1,AG9,AF9) -> 41875 | AI9: День независимости Украины
B10: 15 | F10: 15 | J10: 15 | P10: 15 | T10: 15 | X10: 15 | AE10: =CONCATENATE(DAY(AH10),".",MONTH(AH10)) -> 20.4 | AF10: =IF(AK5+AK6<9,22+AK5+AK6,AK5+AK6-9)+13 -> 20 | AG10: =IF(AK5+AK6<9,3,4) -> 4 | AH10: =DATE(AF$1,AG10,AF10) -> 41749 | AI10: Пасха
B11: 30 | F11: 30 | J11: 30 | P11: 30 | T11: 30 | X11: 30 | AE11: =CONCATENATE(DAY(AH11),".",MONTH(AH11)) -> 8.6 | AF11: =AF10+49 -> 69 | AG11: =AG10 -> 4 | AH11: =DATE(AF$1,AG11,AF11) -> 41798 | AI11: Троица
B12: 45 | F12: 45 | J12: 45 | P12: 45 | T12: 45 | X12: 45
A13: =IF(A9>=23,A9-24,A9)+1 -> 11 | B13: 00 | E13: =IF(E9>=23,E9-24,E9)+1 -> 11 | F13: 00 | I13: =IF(I9>=23,I9-24,I9)+1 -> 11 | J13: 00 | O13: =IF(O9>=23,O9-24,O9)+1 -> 11 | P13: 00 | S13: =IF(S9>=23,S9-24,S9)+1 -> 11 | T13: 00 | W13: =IF(W9>=23,W9-24,W9)+1 -> 14 | X13: 00 | AI13: Переносы
B14: 15 | F14: 15 | J14: 15 | P14: 15 | T14: 15 | X14: 15 | AE14: =IFERROR(CONCATENATE(DAY(AH14),".",MONTH(AH14)),"") | AH14: =IF(WEEKDAY(AH2,2)>5,AH2+(8-WEEKDAY(AH2,2)),"") | AI14: =AI2 -> Новый год
B15: 30 | F15: 30 | J15: 30 | P15: 30 | T15: 30 | X15: 30 | AE15: =IFERROR(CONCATENATE(DAY(AH15),".",MONTH(AH15)),"") | AH15: =IF(WEEKDAY(AH3,2)>5,AH3+(8-WEEKDAY(AH3,2)),"") | AI15: =AI3 -> Рождество Христово
B16: 45 | F16: 45 | J16: 45 | P16: 45 | T16: 45 | X16: 45 | AE16: =IFERROR(CONCATENATE(DAY(AH16),".",MONTH(AH16)),"") -> 10.3 | AH16: =IF(WEEKDAY(AH4,2)>5,AH4+(8-WEEKDAY(AH4,2)),"") -> 41708 | AI16: =AI4 -> Женский день
A17: =IF(A13>=23,A13-24,A13)+1 -> 12 | B17: 00 | E17: =IF(E13>=23,E13-24,E13)+1 -> 12 | F17: 00 | I17: =IF(I13>=23,I13-24,I13)+1 -> 12 | J17: 00 | O17: =IF(O13>=23,O13-24,O13)+1 -> 12 | P17: 00 | S17: =IF(S13>=23,S13-24,S13)+1 -> 12 | T17: 00 | W17: =IF(W13>=23,W13-24,W13)+1 -> 15 | X17: 00 | AE17: =IFERROR(CONCATENATE(DAY(AH17),".",MONTH(AH17)),"") | AH17: =IF(WEEKDAY(AH5,2)>5,AH5+2,"") | AI17: =AI5 -> День солидарности трудящихся
B18: 15 | F18: 15 | J18: 15 | P18: 15 | T18: 15 | X18: 15 | AE18: =IFERROR(CONCATENATE(DAY(AH18),".",MONTH(AH18)),"") | AH18: =IF(WEEKDAY(AH6,2)>5,AH6+2,"") | AI18: =AI6 -> День солидарности трудящихся
B19: 30 | F19: 30 | J19: 30 | P19: 30 | T19: 30 | X19: 30 | AE19: =IFERROR(CONCATENATE(DAY(AH19),".",MONTH(AH19)),"") | AH19: =IF(WEEKDAY(AH7,2)>5,AH7+(8-WEEKDAY(AH7,2)),"") | AI19: =AI7 -> День Победы
B20: 45 | F20: 45 | J20: 45 | P20: 45 | T20: 45 | X20: 45 | AE20: =IFERROR(CONCATENATE(DAY(AH20),".",MONTH(AH20)),"") -> 30.6 | AH20: =IF(WEEKDAY(AH8,2)>5,AH8+(8-WEEKDAY(AH8,2)),"") -> 41820 | AI20: =AI8 -> День Конституции Украины
A21: =IF(A17>=23,A17-24,A17)+1 -> 13 | B21: 00 | E21: =IF(E17>=23,E17-24,E17)+1 -> 13 | F21: 00 | I21: =IF(I17>=23,I17-24,I17)+1 -> 13 | J21: 00 | O21: =IF(O17>=23,O17-24,O17)+1 -> 13 | P21: 00 | S21: =IF(S17>=23,S17-24,S17)+1 -> 13 | T21: 00 | W21: =IF(W17>=23,W17-24,W17)+1 -> 16 | X21: 00 | AE21: =IFERROR(CONCATENATE(DAY(AH21),".",MONTH(AH21)),"") -> 25.8 | AH21: =IF(WEEKDAY(AH9,2)>5,AH9+(8-WEEKDAY(AH9,2)),"") -> 41876 | AI21: =AI9 -> День независимости Украины
B22: 15 | F22: 15 | J22: 15 | P22: 15 | T22: 15 | X22: 15 | AE22: =IFERROR(CONCATENATE(DAY(AH22),".",MONTH(AH22)),"") -> 21.4 | AH22: =IF(WEEKDAY(AH10,2)>5,AH10+(8-WEEKDAY(AH10,2)),"") -> 41750 | AI22: Пасху
B23: 30 | F23: 30 | J23: 30 | P23: 30 | T23: 30 | X23: 30 | AE23: =IFERROR(CONCATENATE(DAY(AH23),".",MONTH(AH23)),"") -> 9.6 | AH23: =IF(WEEKDAY(AH11,2)>5,AH11+(8-WEEKDAY(AH11,2)),"") -> 41799 | AI23: Троицу
B24: 45 | F24: 45 | J24: 45 | P24: 45 | T24: 45 | X24: 45
A25: =IF(A21>=23,A21-24,A21)+1 -> 14 | B25: 00 | E25: =IF(E21>=23,E21-24,E21)+1 -> 14 | F25: 00 | I25: =IF(I21>=23,I21-24,I21)+1 -> 14 | J25: 00 | O25: =IF(O21>=23,O21-24,O21)+1 -> 14 | P25: 00 | S25: =IF(S21>=23,S21-24,S21)+1 -> 14 | T25: 00
B26: 15 | F26: 15 | J26: 15 | P26: 15 | T26: 15
B27: 30 | F27: 30 | J27: 30 | P27: 30 | T27: 30
B28: 45 | F28: 45 | J28: 45 | P28: 45 | T28: 45
A30: =IF(A25>=23,A25-24,A25)+1 -> 15 | B30: 00 | E30: =IF(E25>=23,E25-24,E25)+1 -> 15 | F30: 00 | I30: =IF(I25>=23,I25-24,I25)+1 -> 15 | J30: 00 | O30: =IF(O25>=23,O25-24,O25)+1 -> 15 | P30: 00 | S30: =IF(S25>=23,S25-24,S25)+1 -> 15 | T30: 00
B31: 15 | F31: 15 | J31: 15 | P31: 15 | T31: 15
B32: 30 | F32: 30 | J32: 30 | P32: 30 | T32: 30
B33: 45 | F33: 45 | J33: 45 | P33: 45 | T33: 45
A34: =IF(A30>=23,A30-24,A30)+1 -> 16 | B34: 00 | E34: =IF(E30>=23,E30-24,E30)+1 -> 16 | F34: 00 | I34: =IF(I30>=23,I30-24,I30)+1 -> 16 | J34: 00 | O34: =IF(O30>=23,O30-24,O30)+1 -> 16 | P34: 00 | S34: =IF(S30>=23,S30-24,S30)+1 -> 16 | T34: 00 | W34: воскресенье | AB34: =$N$1-WEEKDAY($N$1,3)+6 -> 41658
B35: 15 | F35: 15 | J35: 15 | P35: 15 | T35: 15 | W35: =IFERROR(INDIRECT(ADDRESS(MATCH(CONCATENATE(DAY(AB34),".",MONTH(AB34)),$AE$2:$AE$12,0)+1,35)),IFERROR(CONCATENATE("Выходной за ",INDIRECT(ADDRESS(MATCH(CONCATENATE(DAY(AB34),".",MONTH(AB34)),$AE$14:$AE$24,0)+13,35))),""))
B36: 30 | F36: 30 | J36: 30 | P36: 30 | T36: 30
B37: 45 | F37: 45 | J37: 45 | P37: 45 | T37: 45
A38: =IF(A34>=23,A34-24,A34)+1 -> 17 | B38: 00 | E38: =IF(E34>=23,E34-24,E34)+1 -> 17 | F38: 00 | I38: =IF(I34>=23,I34-24,I34)+1 -> 17 | J38: 00 | O38: =IF(O34>=23,O34-24,O34)+1 -> 17 | P38: 00 | S38: =IF(S34>=23,S34-24,S34)+1 -> 17 | T38: 00 | W38: =$A$5+3 -> 12 | X38: 00
B39: 15 | F39: 15 | J39: 15 | P39: 15 | T39: 15 | X39: 15
B40: 30 | F40: 30 | J40: 30 | P40: 30 | T40: 30 | X40: 30
B41: 45 | F41: 45 | J41: 45 | P41: 45 | T41: 45 | X41: 45
A42: =IF(A38>=23,A38-24,A38)+1 -> 18 | B42: 00 | E42: =IF(E38>=23,E38-24,E38)+1 -> 18 | F42: 00 | I42: =IF(I38>=23,I38-24,I38)+1 -> 18 | J42: 00 | O42: =IF(O38>=23,O38-24,O38)+1 -> 18 | P42: 00 | S42: =IF(S38>=23,S38-24,S38)+1 -> 18 | T42: 00 | W42: =IF(W38>=23,W38-24,W38)+1 -> 13 | X42: 00
B43: 15 | F43: 15 | J43: 15 | P43: 15 | T43: 15 | X43: 15
B44: 30 | F44: 30 | J44: 30 | P44: 30 | T44: 30 | X44: 30
B45: 45 | F45: 45 | J45: 45 | P45: 45 | T45: 45 | X45: 45
A46: =IF(A42>=23,A42-24,A42)+1 -> 19 | B46: 00 | E46: =IF(E42>=23,E42-24,E42)+1 -> 19 | F46: 00 | I46: =IF(I42>=23,I42-24,I42)+1 -> 19 | J46: 00 | O46: =IF(O42>=23,O42-24,O42)+1 -> 19 | P46: 00 | S46: =IF(S42>=23,S42-24,S42)+1 -> 19 | T46: 00 | W46: =IF(W42>=23,W42-24,W42)+1 -> 14 | X46: 00
B47: 15 | F47: 15 | J47: 15 | P47: 15 | T47: 15 | X47: 15
B48: 30 | F48: 30 | J48: 30 | P48: 30 | T48: 30 | X48: 30
B49: 45 | F49: 45 | J49: 45 | P49: 45 | T49: 45 | X49: 45
A50: =IF(A46>=23,A46-24,A46)+1 -> 20 | B50: 00 | E50: =IF(E46>=23,E46-24,E46)+1 -> 20 | F50: 00 | I50: =IF(I46>=23,I46-24,I46)+1 -> 20 | J50: 00 | O50: =IF(O46>=23,O46-24,O46)+1 -> 20 | P50: 00 | S50: =IF(S46>=23,S46-24,S46)+1 -> 20 | T50: 00
B51: 15 | F51: 15 | J51: 15 | P51: 15 | T51: 15
B52: 30 | F52: 30 | J52: 30 | P52: 30 | T52: 30
B53: 45 | F53: 45 | J53: 45 | P53: 45 | T53: 45 | W53: =TEXT($N$1,"[$-p]mmmm") -> Январь | AC53: =YEAR($N$1) -> 2014
W55: пн | X55: вт | Z55: ср | AA55: чт | AB55: пт | AC55: сб | AD55: вс
W56: =IF(1 < WEEKDAY(EOMONTH($N$1,-1)+1,2), DAY(EOMONTH($N$1,-1)) - WEEKDAY(EOMONTH($N$1,-1),2) + 1, IF(1 > DAY(EOMONTH($N$1,0)) + WEEKDAY(EOMONTH($N$1,-1)+1,3), 1 - WEEKDAY(EOMONTH($N$1,-1)+1,2) - DAY(EOMONTH($N$1,0)) + 1, 1 - WEEKDAY(EOMONTH($N$1,-1)+1,2)+1)) -> 30 | X56: =IF(2 < WEEKDAY(EOMONTH($N$1,-1)+1,2), DAY(EOMONTH($N$1,-1)) - WEEKDAY(EOMONTH($N$1,-1),2) + 2, IF(2 > DAY(EOMONTH($N$1,0)) + WEEKDAY(EOMONTH($N$1,-1)+1,3), 2 - WEEKDAY(EOMONTH($N$1,-1)+1,2) - DAY(EOMONTH($N$1,0)) + 1, 2 - WEEKDAY(EOMONTH($N$1,-1)+1,2)+1)) -> 31 | Z56: =IF(3 < WEEKDAY(EOMONTH($N$1,-1)+1,2), DAY(EOMONTH($N$1,-1)) - WEEKDAY(EOMONTH($N$1,-1),2) + 3, IF(3 > DAY(EOMONTH($N$1,0)) + WEEKDAY(EOMONTH($N$1,-1)+1,3), 3 - WEEKDAY(EOMONTH($N$1,-1)+1,2) - DAY(EOMONTH($N$1,0)) + 1, 3 - WEEKDAY(EOMONTH($N$1,-1)+1,2)+1)) -> 1 | AA56: =IF(4 < WEEKDAY(EOMONTH($N$1,-1)+1,2), DAY(EOMONTH($N$1,-1)) - WEEKDAY(EOMONTH($N$1,-1),2) + 4, IF(4 > DAY(EOMONTH($N$1,0)) + WEEKDAY(EOMONTH($N$1,-1)+1,3), 4 - WEEKDAY(EOMONTH($N$1,-1)+1,2) - DAY(EOMONTH($N$1,0)) + 1, 4 - WEEKDAY(EOMONTH($N$1,-1)+1,2)+1)) -> 2 | AB56: =IF(5 < WEEKDAY(EOMONTH($N$1,-1)+1,2), DAY(EOMONTH($N$1,-1)) - WEEKDAY(EOMONTH($N$1,-1),2) + 5, IF(5 > DAY(EOMONTH($N$1,0)) + WEEKDAY(EOMONTH($N$1,-1)+1,3), 5 - WEEKDAY(EOMONTH($N$1,-1)+1,2) - DAY(EOMONTH($N$1,0)) + 1, 5 - WEEKDAY(EOMONTH($N$1,-1)+1,2)+1)) -> 3 | AC56: =IF(6 < WEEKDAY(EOMONTH($N$1,-1)+1,2), DAY(EOMONTH($N$1,-1)) - WEEKDAY(EOMONTH($N$1,-1),2) + 6, IF(6 > DAY(EOMONTH($N$1,0)) + WEEKDAY(EOMONTH($N$1,-1)+1,3), 6 - WEEKDAY(EOMONTH($N$1,-1)+1,2) - DAY(EOMONTH($N$1,0)) + 1, 6 - WEEKDAY(EOMONTH($N$1,-1)+1,2)+1)) -> 4 | AD56: =IF(7 < WEEKDAY(EOMONTH($N$1,-1)+1,2), DAY(EOMONTH($N$1,-1)) - WEEKDAY(EOMONTH($N$1,-1),2) + 7, IF(7 > DAY(EOMONTH($N$1,0)) + WEEKDAY(EOMONTH($N$1,-1)+1,3), 7 - WEEKDAY(EOMONTH($N$1,-1)+1,2) - DAY(EOMONTH($N$1,0)) + 1, 7 - WEEKDAY(EOMONTH($N$1,-1)+1,2)+1)) -> 5
W58: =IF(8 < WEEKDAY(EOMONTH($N$1,-1)+1,2), DAY(EOMONTH($N$1,-1)) - WEEKDAY(EOMONTH($N$1,-1),2) + 8, IF(8 > DAY(EOMONTH($N$1,0)) + WEEKDAY(EOMONTH($N$1,-1)+1,3), 8 - WEEKDAY(EOMONTH($N$1,-1)+1,2) - DAY(EOMONTH($N$1,0)) + 1, 8 - WEEKDAY(EOMONTH($N$1,-1)+1,2)+1)) -> 6 | X58: =IF(9 < WEEKDAY(EOMONTH($N$1,-1)+1,2), DAY(EOMONTH($N$1,-1)) - WEEKDAY(EOMONTH($N$1,-1),2) + 9, IF(9 > DAY(EOMONTH($N$1,0)) + WEEKDAY(EOMONTH($N$1,-1)+1,3), 9 - WEEKDAY(EOMONTH($N$1,-1)+1,2) - DAY(EOMONTH($N$1,0)) + 1, 9 - WEEKDAY(EOMONTH($N$1,-1)+1,2)+1)) -> 7 | Z58: =IF(10 < WEEKDAY(EOMONTH($N$1,-1)+1,2), DAY(EOMONTH($N$1,-1)) - WEEKDAY(EOMONTH($N$1,-1),2) + 10, IF(10 > DAY(EOMONTH($N$1,0)) + WEEKDAY(EOMONTH($N$1,-1)+1,3), 10 - WEEKDAY(EOMONTH($N$1,-1)+1,2) - DAY(EOMONTH($N$1,0)) + 1, 10 - WEEKDAY(EOMONTH($N$1,-1)+1,2)+1)) -> 8 | AA58: =IF(11 < WEEKDAY(EOMONTH($N$1,-1)+1,2), DAY(EOMONTH($N$1,-1)) - WEEKDAY(EOMONTH($N$1,-1),2) + 11, IF(11 > DAY(EOMONTH($N$1,0)) + WEEKDAY(EOMONTH($N$1,-1)+1,3), 11 - WEEKDAY(EOMONTH($N$1,-1)+1,2) - DAY(EOMONTH($N$1,0)) + 1, 11 - WEEKDAY(EOMONTH($N$1,-1)+1,2)+1)) -> 9 | AB58: =IF(12 < WEEKDAY(EOMONTH($N$1,-1)+1,2), DAY(EOMONTH($N$1,-1)) - WEEKDAY(EOMONTH($N$1,-1),2) + 12, IF(12 > DAY(EOMONTH($N$1,0)) + WEEKDAY(EOMONTH($N$1,-1)+1,3), 12 - WEEKDAY(EOMONTH($N$1,-1)+1,2) - DAY(EOMONTH($N$1,0)) + 1, 12 - WEEKDAY(EOMONTH($N$1,-1)+1,2)+1)) -> 10 | AC58: =IF(13 < WEEKDAY(EOMONTH($N$1,-1)+1,2), DAY(EOMONTH($N$1,-1)) - WEEKDAY(EOMONTH($N$1,-1),2) + 13, IF(13 > DAY(EOMONTH($N$1,0)) + WEEKDAY(EOMONTH($N$1,-1)+1,3), 13 - WEEKDAY(EOMONTH($N$1,-1)+1,2) - DAY(EOMONTH($N$1,0)) + 1, 13 - WEEKDAY(EOMONTH($N$1,-1)+1,2)+1)) -> 11 | AD58: =IF(14 < WEEKDAY(EOMONTH($N$1,-1)+1,2), DAY(EOMONTH($N$1,-1)) - WEEKDAY(EOMONTH($N$1,-1),2) + 14, IF(14 > DAY(EOMONTH($N$1,0)) + WEEKDAY(EOMONTH($N$1,-1)+1,3), 14 - WEEKDAY(EOMONTH($N$1,-1)+1,2) - DAY(EOMONTH($N$1,0)) + 1, 14 - WEEKDAY(EOMONTH($N$1,-1)+1,2)+1)) -> 12
W60: =IF(15 < WEEKDAY(EOMONTH($N$1,-1)+1,2), DAY(EOMONTH($N$1,-1)) - WEEKDAY(EOMONTH($N$1,-1),2) + 15, IF(15 > DAY(EOMONTH($N$1,0)) + WEEKDAY(EOMONTH($N$1,-1)+1,3), 15 - WEEKDAY(EOMONTH($N$1,-1)+1,2) - DAY(EOMONTH($N$1,0)) + 1, 15 - WEEKDAY(EOMONTH($N$1,-1)+1,2)+1)) -> 13 | X60: =IF(16 < WEEKDAY(EOMONTH($N$1,-1)+1,2), DAY(EOMONTH($N$1,-1)) - WEEKDAY(EOMONTH($N$1,-1),2) + 16, IF(16 > DAY(EOMONTH($N$1,0)) + WEEKDAY(EOMONTH($N$1,-1)+1,3), 16 - WEEKDAY(EOMONTH($N$1,-1)+1,2) - DAY(EOMONTH($N$1,0)) + 1, 16 - WEEKDAY(EOMONTH($N$1,-1)+1,2)+1)) -> 14 | Z60: =IF(17 < WEEKDAY(EOMONTH($N$1,-1)+1,2), DAY(EOMONTH($N$1,-1)) - WEEKDAY(EOMONTH($N$1,-1),2) + 17, IF(17 > DAY(EOMONTH($N$1,0)) + WEEKDAY(EOMONTH($N$1,-1)+1,3), 17 - WEEKDAY(EOMONTH($N$1,-1)+1,2) - DAY(EOMONTH($N$1,0)) + 1, 17 - WEEKDAY(EOMONTH($N$1,-1)+1,2)+1)) -> 15 | AA60: =IF(18 < WEEKDAY(EOMONTH($N$1,-1)+1,2), DAY(EOMONTH($N$1,-1)) - WEEKDAY(EOMONTH($N$1,-1),2) + 18, IF(18 > DAY(EOMONTH($N$1,0)) + WEEKDAY(EOMONTH($N$1,-1)+1,3), 18 - WEEKDAY(EOMONTH($N$1,-1)+1,2) - DAY(EOMONTH($N$1,0)) + 1, 18 - WEEKDAY(EOMONTH($N$1,-1)+1,2)+1)) -> 16 | AB60: =IF(19 < WEEKDAY(EOMONTH($N$1,-1)+1,2), DAY(EOMONTH($N$1,-1)) - WEEKDAY(EOMONTH($N$1,-1),2) + 19, IF(19 > DAY(EOMONTH($N$1,0)) + WEEKDAY(EOMONTH($N$1,-1)+1,3), 19 - WEEKDAY(EOMONTH($N$1,-1)+1,2) - DAY(EOMONTH($N$1,0)) + 1, 19 - WEEKDAY(EOMONTH($N$1,-1)+1,2)+1)) -> 17 | AC60: =IF(20 < WEEKDAY(EOMONTH($N$1,-1)+1,2), DAY(EOMONTH($N$1,-1)) - WEEKDAY(EOMONTH($N$1,-1),2) + 20, IF(20 > DAY(EOMONTH($N$1,0)) + WEEKDAY(EOMONTH($N$1,-1)+1,3), 20 - WEEKDAY(EOMONTH($N$1,-1)+1,2) - DAY(EOMONTH($N$1,0)) + 1, 20 - WEEKDAY(EOMONTH($N$1,-1)+1,2)+1)) -> 18 | AD60: =IF(21 < WEEKDAY(EOMONTH($N$1,-1)+1,2), DAY(EOMONTH($N$1,-1)) - WEEKDAY(EOMONTH($N$1,-1),2) + 21, IF(21 > DAY(EOMONTH($N$1,0)) + WEEKDAY(EOMONTH($N$1,-1)+1,3), 21 - WEEKDAY(EOMONTH($N$1,-1)+1,2) - DAY(EOMONTH($N$1,0)) + 1, 21 - WEEKDAY(EOMONTH($N$1,-1)+1,2)+1)) -> 19
W62: =IF(22 < WEEKDAY(EOMONTH($N$1,-1)+1,2), DAY(EOMONTH($N$1,-1)) - WEEKDAY(EOMONTH($N$1,-1),2) + 22, IF(22 > DAY(EOMONTH($N$1,0)) + WEEKDAY(EOMONTH($N$1,-1)+1,3), 22 - WEEKDAY(EOMONTH($N$1,-1)+1,2) - DAY(EOMONTH($N$1,0)) + 1, 22 - WEEKDAY(EOMONTH($N$1,-1)+1,2)+1)) -> 20 | X62: =IF(23 < WEEKDAY(EOMONTH($N$1,-1)+1,2), DAY(EOMONTH($N$1,-1)) - WEEKDAY(EOMONTH($N$1,-1),2) + 23, IF(23 > DAY(EOMONTH($N$1,0)) + WEEKDAY(EOMONTH($N$1,-1)+1,3), 23 - WEEKDAY(EOMONTH($N$1,-1)+1,2) - DAY(EOMONTH($N$1,0)) + 1, 23 - WEEKDAY(EOMONTH($N$1,-1)+1,2)+1)) -> 21 | Z62: =IF(24 < WEEKDAY(EOMONTH($N$1,-1)+1,2), DAY(EOMONTH($N$1,-1)) - WEEKDAY(EOMONTH($N$1,-1),2) + 24, IF(24 > DAY(EOMONTH($N$1,0)) + WEEKDAY(EOMONTH($N$1,-1)+1,3), 24 - WEEKDAY(EOMONTH($N$1,-1)+1,2) - DAY(EOMONTH($N$1,0)) + 1, 24 - WEEKDAY(EOMONTH($N$1,-1)+1,2)+1)) -> 22 | AA62: =IF(25 < WEEKDAY(EOMONTH($N$1,-1)+1,2), DAY(EOMONTH($N$1,-1)) - WEEKDAY(EOMONTH($N$1,-1),2) + 25, IF(25 > DAY(EOMONTH($N$1,0)) + WEEKDAY(EOMONTH($N$1,-1)+1,3), 25 - WEEKDAY(EOMONTH($N$1,-1)+1,2) - DAY(EOMONTH($N$1,0)) + 1, 25 - WEEKDAY(EOMONTH($N$1,-1)+1,2)+1)) -> 23 | AB62: =IF(26 < WEEKDAY(EOMONTH($N$1,-1)+1,2), DAY(EOMONTH($N$1,-1)) - WEEKDAY(EOMONTH($N$1,-1),2) + 26, IF(26 > DAY(EOMONTH($N$1,0)) + WEEKDAY(EOMONTH($N$1,-1)+1,3), 26 - WEEKDAY(EOMONTH($N$1,-1)+1,2) - DAY(EOMONTH($N$1,0)) + 1, 26 - WEEKDAY(EOMONTH($N$1,-1)+1,2)+1)) -> 24 | AC62: =IF(27 < WEEKDAY(EOMONTH($N$1,-1)+1,2), DAY(EOMONTH($N$1,-1)) - WEEKDAY(EOMONTH($N$1,-1),2) + 27, IF(27 > DAY(EOMONTH($N$1,0)) + WEEKDAY(EOMONTH($N$1,-1)+1,3), 27 - WEEKDAY(EOMONTH($N$1,-1)+1,2) - DAY(EOMONTH($N$1,0)) + 1, 27 - WEEKDAY(EOMONTH($N$1,-1)+1,2)+1)) -> 25 | AD62: =IF(28 < WEEKDAY(EOMONTH($N$1,-1)+1,2), DAY(EOMONTH($N$1,-1)) - WEEKDAY(EOMONTH($N$1,-1),2) + 28, IF(28 > DAY(EOMONTH($N$1,0)) + WEEKDAY(EOMONTH($N$1,-1)+1,3), 28 - WEEKDAY(EOMONTH($N$1,-1)+1,2) - DAY(EOMONTH($N$1,0)) + 1, 28 - WEEKDAY(EOMONTH($N$1,-1)+1,2)+1)) -> 26
W64: =IF(29 < WEEKDAY(EOMONTH($N$1,-1)+1,2), DAY(EOMONTH($N$1,-1)) - WEEKDAY(EOMONTH($N$1,-1),2) + 29, IF(29 > DAY(EOMONTH($N$1,0)) + WEEKDAY(EOMONTH($N$1,-1)+1,3), 29 - WEEKDAY(EOMONTH($N$1,-1)+1,2) - DAY(EOMONTH($N$1,0)) + 1, 29 - WEEKDAY(EOMONTH($N$1,-1)+1,2)+1)) -> 27 | X64: =IF(30 < WEEKDAY(EOMONTH($N$1,-1)+1,2), DAY(EOMONTH($N$1,-1)) - WEEKDAY(EOMONTH($N$1,-1),2) + 30, IF(30 > DAY(EOMONTH($N$1,0)) + WEEKDAY(EOMONTH($N$1,-1)+1,3), 30 - WEEKDAY(EOMONTH($N$1,-1)+1,2) - DAY(EOMONTH($N$1,0)) + 1, 30 - WEEKDAY(EOMONTH($N$1,-1)+1,2)+1)) -> 28 | Z64: =IF(31 < WEEKDAY(EOMONTH($N$1,-1)+1,2), DAY(EOMONTH($N$1,-1)) - WEEKDAY(EOMONTH($N$1,-1),2) + 31, IF(31 > DAY(EOMONTH($N$1,0)) + WEEKDAY(EOMONTH($N$1,-1)+1,3), 31 - WEEKDAY(EOMONTH($N$1,-1)+1,2) - DAY(EOMONTH($N$1,0)) + 1, 31 - WEEKDAY(EOMONTH($N$1,-1)+1,2)+1)) -> 29 | AA64: =IF(32 < WEEKDAY(EOMONTH($N$1,-1)+1,2), DAY(EOMONTH($N$1,-1)) - WEEKDAY(EOMONTH($N$1,-1),2) + 32, IF(32 > DAY(EOMONTH($N$1,0)) + WEEKDAY(EOMONTH($N$1,-1)+1,3), 32 - WEEKDAY(EOMONTH($N$1,-1)+1,2) - DAY(EOMONTH($N$1,0)) + 1, 32 - WEEKDAY(EOMONTH($N$1,-1)+1,2)+1)) -> 30 | AB64: =IF(33 < WEEKDAY(EOMONTH($N$1,-1)+1,2), DAY(EOMONTH($N$1,-1)) - WEEKDAY(EOMONTH($N$1,-1),2) + 33, IF(33 > DAY(EOMONTH($N$1,0)) + WEEKDAY(EOMONTH($N$1,-1)+1,3), 33 - WEEKDAY(EOMONTH($N$1,-1)+1,2) - DAY(EOMONTH($N$1,0)) + 1, 33 - WEEKDAY(EOMONTH($N$1,-1)+1,2)+1)) -> 31 | AC64: =IF(34 < WEEKDAY(EOMONTH($N$1,-1)+1,2), DAY(EOMONTH($N$1,-1)) - WEEKDAY(EOMONTH($N$1,-1),2) + 34, IF(34 > DAY(EOMONTH($N$1,0)) + WEEKDAY(EOMONTH($N$1,-1)+1,3), 34 - WEEKDAY(EOMONTH($N$1,-1)+1,2) - DAY(EOMONTH($N$1,0)) + 1, 34 - WEEKDAY(EOMONTH($N$1,-1)+1,2)+1)) -> 1 | AD64: =IF(35 < WEEKDAY(EOMONTH($N$1,-1)+1,2), DAY(EOMONTH($N$1,-1)) - WEEKDAY(EOMONTH($N$1,-1),2) + 35, IF(35 > DAY(EOMONTH($N$1,0)) + WEEKDAY(EOMONTH($N$1,-1)+1,3), 35 - WEEKDAY(EOMONTH($N$1,-1)+1,2) - DAY(EOMONTH($N$1,0)) + 1, 35 - WEEKDAY(EOMONTH($N$1,-1)+1,2)+1)) -> 2
W66: =IF(36 < WEEKDAY(EOMONTH($N$1,-1)+1,2), DAY(EOMONTH($N$1,-1)) - WEEKDAY(EOMONTH($N$1,-1),2) + 36, IF(36 > DAY(EOMONTH($N$1,0)) + WEEKDAY(EOMONTH($N$1,-1)+1,3), 36 - WEEKDAY(EOMONTH($N$1,-1)+1,2) - DAY(EOMONTH($N$1,0)) + 1, 36 - WEEKDAY(EOMONTH($N$1,-1)+1,2)+1)) -> 3 | X66: =IF(37 < WEEKDAY(EOMONTH($N$1,-1)+1,2), DAY(EOMONTH($N$1,-1)) - WEEKDAY(EOMONTH($N$1,-1),2) + 37, IF(37 > DAY(EOMONTH($N$1,0)) + WEEKDAY(EOMONTH($N$1,-1)+1,3), 37 - WEEKDAY(EOMONTH($N$1,-1)+1,2) - DAY(EOMONTH($N$1,0)) + 1, 37 - WEEKDAY(EOMONTH($N$1,-1)+1,2)+1)) -> 4 | Z66: =IF(38 < WEEKDAY(EOMONTH($N$1,-1)+1,2), DAY(EOMONTH($N$1,-1)) - WEEKDAY(EOMONTH($N$1,-1),2) + 38, IF(38 > DAY(EOMONTH($N$1,0)) + WEEKDAY(EOMONTH($N$1,-1)+1,3), 38 - WEEKDAY(EOMONTH($N$1,-1)+1,2) - DAY(EOMONTH($N$1,0)) + 1, 38 - WEEKDAY(EOMONTH($N$1,-1)+1,2)+1)) -> 5 | AA66: =IF(39 < WEEKDAY(EOMONTH($N$1,-1)+1,2), DAY(EOMONTH($N$1,-1)) - WEEKDAY(EOMONTH($N$1,-1),2) + 39, IF(39 > DAY(EOMONTH($N$1,0)) + WEEKDAY(EOMONTH($N$1,-1)+1,3), 39 - WEEKDAY(EOMONTH($N$1,-1)+1,2) - DAY(EOMONTH($N$1,0)) + 1, 39 - WEEKDAY(EOMONTH($N$1,-1)+1,2)+1)) -> 6 | AB66: =IF(40 < WEEKDAY(EOMONTH($N$1,-1)+1,2), DAY(EOMONTH($N$1,-1)) - WEEKDAY(EOMONTH($N$1,-1),2) + 40, IF(40 > DAY(EOMONTH($N$1,0)) + WEEKDAY(EOMONTH($N$1,-1)+1,3), 40 - WEEKDAY(EOMONTH($N$1,-1)+1,2) - DAY(EOMONTH($N$1,0)) + 1, 40 - WEEKDAY(EOMONTH($N$1,-1)+1,2)+1)) -> 7 | AC66: =IF(41 < WEEKDAY(EOMONTH($N$1,-1)+1,2), DAY(EOMONTH($N$1,-1)) - WEEKDAY(EOMONTH($N$1,-1),2) + 41, IF(41 > DAY(EOMONTH($N$1,0)) + WEEKDAY(EOMONTH($N$1,-1)+1,3), 41 - WEEKDAY(EOMONTH($N$1,-1)+1,2) - DAY(EOMONTH($N$1,0)) + 1, 41 - WEEKDAY(EOMONTH($N$1,-1)+1,2)+1)) -> 8 | AD66: =IF(42 < WEEKDAY(EOMONTH($N$1,-1)+1,2), DAY(EOMONTH($N$1,-1)) - WEEKDAY(EOMONTH($N$1,-1),2) + 42, IF(42 > DAY(EOMONTH($N$1,0)) + WEEKDAY(EOMONTH($N$1,-1)+1,3), 42 - WEEKDAY(EOMONTH($N$1,-1)+1,2) - DAY(EOMONTH($N$1,0)) + 1, 42 - WEEKDAY(EOMONTH($N$1,-1)+1,2)+1)) -> 9

Sheet планер простая неделя
A1: =CONCATENATE("понедельник") -> понедельник | B1: вторник | C1: среда | F1: четверг | G1: пятница | J1: =TODAY()+E4*7 -> 41655
A2: =$J$1-WEEKDAY($J$1,3)+0 -> 41652 | B2: =$J$1-WEEKDAY($J$1,3)+1 -> 41653 | C2: =$J$1-WEEKDAY($J$1,3)+2 -> 41654 | F2: =$J$1-WEEKDAY($J$1,3)+3 -> 41655 | G2: =$J$1-WEEKDAY($J$1,3)+4 -> 41656
A3: =IFERROR(VLOOKUP(A2,праздники!$D$2:$E$14,2,FALSE),IFERROR(CONCATENATE("Выходной за ",VLOOKUP(A2,праздники!$D$15:$E$28,2,FALSE)),"")) | B3: =IFERROR(VLOOKUP(B2,праздники!$D$2:$E$14,2,FALSE),IFERROR(CONCATENATE("Выходной за ",VLOOKUP(B2,праздники!$D$15:$E$28,2,FALSE)),"")) | C3: =IFERROR(VLOOKUP(C2,праздники!$D$2:$E$14,2,FALSE),IFERROR(CONCATENATE("Выходной за ",VLOOKUP(C2,праздники!$D$15:$E$28,2,FALSE)),"")) | F3: =IFERROR(VLOOKUP(F2,праздники!$D$2:$E$14,2,FALSE),IFERROR(CONCATENATE("Выходной за ",VLOOKUP(F2,праздники!$D$15:$E$28,2,FALSE)),"")) | G3: =IFERROR(VLOOKUP(G2,праздники!$D$2:$E$14,2,FALSE),IFERROR(CONCATENATE("Выходной за ",VLOOKUP(G2,праздники!$D$15:$E$28,2,FALSE)),""))
A4: =IFERROR(VLOOKUP(C4,праздники!$D$2:$E$14,2,FALSE),IFERROR(CONCATENATE("Выходной за ",VLOOKUP(C4,праздники!$D$15:$E$28,2,FALSE)),"")) | C4: =$J$1-WEEKDAY($J$1,3)+6 -> 41658 | D4: воскресенье | E4: 0 | F4: =IFERROR(VLOOKUP(H4,праздники!$D$2:$E$14,2,FALSE),IFERROR(CONCATENATE("Выходной за ",VLOOKUP(H4,праздники!$D$15:$E$28,2,FALSE)),"")) | H4: =$J$1-WEEKDAY($J$1,3)+5 -> 41657 | I4: суббота

Sheet праздники
B1: =календарь!A1 -> 2014 | F1: Для Пасхи | I1: =B1-1 -> 2013 | M1: =B1+1 -> 2015
A2: =CONCATENATE(B2,".",C2) -> 1.1 | B2: 1 | C2: 1 | D2: =DATE($B$1,C2,B2) -> 41640 | E2: Новый год | F2: а | G2: =MOD(B1,19) -> 0 | I2: а | J2: =MOD(I1,19) -> 18 | K2: =IF(D2<>"",DATE(I$1,MONTH(D2),DAY(D2)),"") -> 41275 | L2: =IF(E2<>"",E2,"") -> Новый год | M2: а | N2: =MOD(M1,19) -> 1 | O2: =IF(D2<>"",DATE(M$1,MONTH(D2),DAY(D2)),"") -> 42005 | P2: =IF(E2<>"",E2,"") -> Новый год
A3: =CONCATENATE(B3,".",C3) -> 7.1 | B3: 7 | C3: 1 | D3: =DATE($B$1,C3,B3) -> 41646 | E3: Рождество Христово | F3: б | G3: =MOD(B1,4) -> 2 | I3: б | J3: =MOD(I1,4) -> 1 | K3: =IF(D3<>"",DATE(I$1,MONTH(D3),DAY(D3)),"") -> 41281 | L3: =IF(E3<>"",E3,"") -> Рождество Христово | M3: б | N3: =MOD(M1,4) -> 3 | O3: =IF(D3<>"",DATE(M$1,MONTH(D3),DAY(D3)),"") -> 42011 | P3: =IF(E3<>"",E3,"") -> Рождество Христово
A4: =CONCATENATE(B4,".",C4) -> 8.3 | B4: 8 | C4: 3 | D4: =DATE($B$1,C4,B4) -> 41706 | E4: Женский день | F4: в | G4: =MOD(B1,7) -> 5 | I4: в | J4: =MOD(I1,7) -> 4 | K4: =IF(D4<>"",DATE(I$1,MONTH(D4),DAY(D4)),"") -> 41341 | L4: =IF(E4<>"",E4,"") -> Женский день | M4: в | N4: =MOD(M1,7) -> 6 | O4: =IF(D4<>"",DATE(M$1,MONTH(D4),DAY(D4)),"") -> 42071 | P4: =IF(E4<>"",E4,"") -> Женский день
A5: =CONCATENATE(B5,".",C5) -> 1.5 | B5: 1 | C5: 5 | D5: =DATE($B$1,C5,B5) -> 41760 | E5: День солидарности трудящихся | F5: г | G5: =MOD(19*G2+15,30) -> 15 | I5: г | J5: =MOD(19*J2+15,30) -> 27 | K5: =IF(D5<>"",DATE(I$1,MONTH(D5),DAY(D5)),"") -> 41395 | L5: =IF(E5<>"",E5,"") -> День солидарности трудящихся | M5: г | N5: =MOD(19*N2+15,30) -> 4 | O5: =IF(D5<>"",DATE(M$1,MONTH(D5),DAY(D5)),"") -> 42125 | P5: =IF(E5<>"",E5,"") -> День солидарности трудящихся
A6: =CONCATENATE(B6,".",C6) -> 2.5 | B6: 2 | C6: 5 | D6: =DATE($B$1,C6,B6) -> 41761 | E6: День солидарности трудящихся | F6: д | G6: =MOD(2*G3+4*G4+6*G5+6,7) -> 1 | I6: д | J6: =MOD(2*J3+4*J4+6*J5+6,7) -> 4 | K6: =IF(D6<>"",DATE(I$1,MONTH(D6),DAY(D6)),"") -> 41396 | L6: =IF(E6<>"",E6,"") -> День солидарности трудящихся | M6: д | N6: =MOD(2*N3+4*N4+6*N5+6,7) -> 4 | O6: =IF(D6<>"",DATE(M$1,MONTH(D6),DAY(D6)),"") -> 42126 | P6: =IF(E6<>"",E6,"") -> День солидарности трудящихся
A7: =CONCATENATE(B7,".",C7) -> 9.5 | B7: 9 | C7: 5 | D7: =DATE($B$1,C7,B7) -> 41768 | E7: День Победы | K7: =IF(D7<>"",DATE(I$1,MONTH(D7),DAY(D7)),"") -> 41403 | L7: =IF(E7<>"",E7,"") -> День Победы | O7: =IF(D7<>"",DATE(M$1,MONTH(D7),DAY(D7)),"") -> 42133 | P7: =IF(E7<>"",E7,"") -> День Победы
A8: =CONCATENATE(B8,".",C8) -> 28.6 | B8: 28 | C8: 6 | D8: =DATE($B$1,C8,B8) -> 41818 | E8: День Конституции Украины | K8: =IF(D8<>"",DATE(I$1,MONTH(D8),DAY(D8)),"") -> 41453 | L8: =IF(E8<>"",E8,"") -> День Конституции Украины | O8: =IF(D8<>"",DATE(M$1,MONTH(D8),DAY(D8)),"") -> 42183 | P8: =IF(E8<>"",E8,"") -> День Конституции Украины
A9: =CONCATENATE(B9,".",C9) -> 24.8 | B9: 24 | C9: 8 | D9: =DATE($B$1,C9,B9) -> 41875 | E9: День независимости Украины | K9: =IF(D9<>"",DATE(I$1,MONTH(D9),DAY(D9)),"") -> 41510 | L9: =IF(E9<>"",E9,"") -> День независимости Украины | O9: =IF(D9<>"",DATE(M$1,MONTH(D9),DAY(D9)),"") -> 42240 | P9: =IF(E9<>"",E9,"") -> День независимости Украины
A10: =CONCATENATE(DAY(D10),".",MONTH(D10)) -> 20.4 | B10: =IF(G5+G6<9,22+G5+G6,G5+G6-9)+13 -> 20 | C10: =IF(G5+G6<9,3,4) -> 4 | D10: =DATE($B$1,C10,B10) -> 41749 | E10: Пасха | I10: =IF(J5+J6<9,22+J5+J6,J5+J6-9)+13 -> 35 | J10: =IF(J5+J6<9,3,4) -> 4 | K10: =DATE($I$1,J10,I10) -> 41399 | L10: =IF(E10<>"",E10,"") -> Пасха | M10: =IF(N5+N6<9,22+N5+N6,N5+N6-9)+13 -> 43 | N10: =IF(N5+N6<9,3,4) -> 3 | O10: =DATE($M$1,N10,M10) -> 42106 | P10: =IF(E10<>"",E10,"") -> Пасха
A11: =CONCATENATE(DAY(D11),".",MONTH(D11)) -> 8.6 | B11: =B10+49 -> 69 | C11: =C10 -> 4 | D11: =DATE($B$1,C11,B11) -> 41798 | E11: Троица | I11: =I10+49 -> 84 | J11: =J10 -> 4 | K11: =DATE($I$1,J11,I11) -> 41448 | L11: =IF(E11<>"",E11,"") -> Троица | M11: =M10+49 -> 92 | N11: =N10 -> 3 | O11: =DATE($M$1,N11,M11) -> 42155 | P11: =IF(E11<>"",E11,"") -> Троица
A12: =CONCATENATE(DAY(D12),".",MONTH(D12)) -> 25.5 | B12: =31-WEEKDAY(EOMONTH(DATE(B1,5,1),0),2) -> 25 | C12: 5 | D12: =DATE($B$1,C12,B12) -> 41784 | E12: День Киева | I12: =31-WEEKDAY(EOMONTH(DATE(I1,5,1),0),2) -> 26 | J12: 5 | K12: =DATE($I$1,J12,I12) -> 41420 | L12: =IF(E12<>"",E12,"") -> День Киева | M12: =31-WEEKDAY(EOMONTH(DATE(M1,5,1),0),2) -> 24 | N12: 5 | O12: =DATE($M$1,N12,M12) -> 42148 | P12: =IF(E12<>"",E12,"") -> День Киева
K13: =IF(D13<>"",DATE(I$1,MONTH(D13),DAY(D13)),"") | L13: =IF(E13<>"",E13,"") | P13: =IF(E13<>"",E13,"")
K14: =IF(D14<>"",DATE(I$1,MONTH(D14),DAY(D14)),"") | L14: =IF(E14<>"",E14,"") | P14: =IF(E14<>"",E14,"")
E15: Переносы | K15: =IF(D15<>"",DATE(I$1,MONTH(D15),DAY(D15)),"") | L15: =IF(E15<>"",E15,"") -> Переносы | P15: =IF(E15<>"",E15,"") -> Переносы
A16: =IFERROR(CONCATENATE(DAY(D16),".",MONTH(D16)),"") | D16: =IF(WEEKDAY(D2,2)>5,D2+(8-WEEKDAY(D2,2)),"") | E16: =E2 -> Новый год | K16: =IF(WEEKDAY(K2,2)>5,K2+(8-WEEKDAY(K2,2)),"") | L16: =IF(E16<>"",E16,"") -> Новый год | O16: =IF(WEEKDAY(O2,2)>5,O2+(8-WEEKDAY(O2,2)),"") | P16: =IF(E16<>"",E16,"") -> Новый год
A17: =IFERROR(CONCATENATE(DAY(D17),".",MONTH(D17)),"") | D17: =IF(WEEKDAY(D3,2)>5,D3+(8-WEEKDAY(D3,2)),"") | E17: =E3 -> Рождество Христово | K17: =IF(WEEKDAY(K3,2)>5,K3+(8-WEEKDAY(K3,2)),"") | L17: =IF(E17<>"",E17,"") -> Рождество Христово | O17: =IF(WEEKDAY(O3,2)>5,O3+(8-WEEKDAY(O3,2)),"") | P17: =IF(E17<>"",E17,"") -> Рождество Христово
A18: =IFERROR(CONCATENATE(DAY(D18),".",MONTH(D18)),"") -> 10.3 | D18: =IF(WEEKDAY(D4,2)>5,D4+(8-WEEKDAY(D4,2)),"") -> 41708 | E18: =E4 -> Женский день | K18: =IF(WEEKDAY(K4,2)>5,K4+(8-WEEKDAY(K4,2)),"") | L18: =IF(E18<>"",E18,"") -> Женский день | O18: =IF(WEEKDAY(O4,2)>5,O4+(8-WEEKDAY(O4,2)),"") -> 42072 | P18: =IF(E18<>"",E18,"") -> Женский день
A19: =IFERROR(CONCATENATE(DAY(D19),".",MONTH(D19)),"") | D19: =IF(WEEKDAY(D5,2)>5,D5+2,"") | E19: =E5 -> День солидарности трудящихся | K19: =IF(WEEKDAY(K5,2)>5,K5+2,"") | L19: =IF(E19<>"",E19,"") -> День солидарности трудящихся | O19: =IF(WEEKDAY(O5,2)>5,O5+2,"") | P19: =IF(E19<>"",E19,"") -> День солидарности трудящихся
A20: =IFERROR(CONCATENATE(DAY(D20),".",MONTH(D20)),"") | D20: =IF(WEEKDAY(D6,2)>5,D6+2,"") | E20: =E6 -> День солидарности трудящихся | K20: =IF(WEEKDAY(K6,2)>5,K6+2,"") | L20: =IF(E20<>"",E20,"") -> День солидарности трудящихся | O20: =IF(WEEKDAY(O6,2)>5,O6+2,"") -> 42128 | P20: =IF(E20<>"",E20,"") -> День солидарности трудящихся
A21: =IFERROR(CONCATENATE(DAY(D21),".",MONTH(D21)),"") | D21: =IF(WEEKDAY(D7,2)>5,D7+(8-WEEKDAY(D7,2)),"") | E21: =E7 -> День Победы | K21: =IF(WEEKDAY(K7,2)>5,K7+(8-WEEKDAY(K7,2)),"") | L21: =IF(E21<>"",E21,"") -> День Победы | O21: =IF(WEEKDAY(O7,2)>5,O7+(8-WEEKDAY(O7,2)),"") -> 42135 | P21: =IF(E21<>"",E21,"") -> День Победы
A22: =IFERROR(CONCATENATE(DAY(D22),".",MONTH(D22)),"") -> 30.6 | D22: =IF(WEEKDAY(D8,2)>5,D8+(8-WEEKDAY(D8,2)),"") -> 41820 | E22: =E8 -> День Конституции Украины | K22: =IF(WEEKDAY(K8,2)>5,K8+(8-WEEKDAY(K8,2)),"") | L22: =IF(E22<>"",E22,"") -> День Конституции Украины | O22: =IF(WEEKDAY(O8,2)>5,O8+(8-WEEKDAY(O8,2)),"") -> 42184 | P22: =IF(E22<>"",E22,"") -> День Конституции Украины
A23: =IFERROR(CONCATENATE(DAY(D23),".",MONTH(D23)),"") -> 25.8 | D23: =IF(WEEKDAY(D9,2)>5,D9+(8-WEEKDAY(D9,2)),"") -> 41876 | E23: =E9 -> День независимости Украины | K23: =IF(WEEKDAY(K9,2)>5,K9+(8-WEEKDAY(K9,2)),"") -> 41512 | L23: =IF(E23<>"",E23,"") -> День независимости Украины | O23: =IF(WEEKDAY(O9,2)>5,O9+(8-WEEKDAY(O9,2)),"") | P23: =IF(E23<>"",E23,"") -> День независимости Украины
A24: =IFERROR(CONCATENATE(DAY(D24),".",MONTH(D24)),"") -> 21.4 | D24: =IF(WEEKDAY(D10,2)>5,D10+(8-WEEKDAY(D10,2)),"") -> 41750 | E24: Пасху | K24: =IF(WEEKDAY(K10,2)>5,K10+(8-WEEKDAY(K10,2)),"") -> 41400 | L24: =IF(E24<>"",E24,"") -> Пасху | O24: =IF(WEEKDAY(O10,2)>5,O10+(8-WEEKDAY(O10,2)),"") -> 42107 | P24: =IF(E24<>"",E24,"") -> Пасху
A25: =IFERROR(CONCATENATE(DAY(D25),".",MONTH(D25)),"") -> 9.6 | D25: =IF(WEEKDAY(D11,2)>5,D11+(8-WEEKDAY(D11,2)),"") -> 41799 | E25: Троицу | K25: =IF(WEEKDAY(K11,2)>5,K11+(8-WEEKDAY(K11,2)),"") -> 41449 | L25: =IF(E25<>"",E25,"") -> Троицу | O25: =IF(WEEKDAY(O11,2)>5,O11+(8-WEEKDAY(O11,2)),"") -> 42156 | P25: =IF(E25<>"",E25,"") -> Троицу
L26: =IF(E26<>"",E26,"") | P26: =IF(E26<>"",E26,"")
L27: =IF(E27<>"",E27,"") | P27: =IF(E27<>"",E27,"")
L28: =IF(E28<>"",E28,"") | P28: =IF(E28<>"",E28,"")
K33: =D2 -> 41640 | L33: =E2 -> Новый год | O33: =D16 | P33: =E16 -> Новый год
K34: =D3 -> 41646 | L34: =E3 -> Рождество Христово | O34: =D17 | P34: =E17 -> Рождество Христово
K35: =D4 -> 41706 | L35: =E4 -> Женский день | O35: =D18 -> 41708 | P35: =E18 -> Женский день
K36: =D5 -> 41760 | L36: =E5 -> День солидарности трудящихся | O36: =D19 | P36: =E19 -> День солидарности трудящихся
K37: =D6 -> 41761 | L37: =E6 -> День солидарности трудящихся | O37: =D20 | P37: =E20 -> День солидарности трудящихся
K38: =D7 -> 41768 | L38: =E7 -> День Победы | O38: =D21 | P38: =E21 -> День Победы
K39: =D8 -> 41818 | L39: =E8 -> День Конституции Украины | O39: =D22 -> 41820 | P39: =E22 -> День Конституции Украины
K40: =D9 -> 41875 | L40: =E9 -> День независимости Украины | O40: =D23 -> 41876 | P40: =E23 -> День независимости Украины
K41: =D10 -> 41749 | L41: =E10 -> Пасха | O41: =D24 -> 41750 | P41: =E24 -> Пасху
K42: =D11 -> 41798 | L42: =E11 -> Троица | O42: =D25 -> 41799 | P42: =E25 -> Троицу
K43: =D12 -> 41784 | L43: =E12 -> День Киева
K46: =K2 -> 41275 | L46: =L2 -> Новый год | O46: =K16 | P46: =L16 -> Новый год
K47: =K3 -> 41281 | L47: =L3 -> Рождество Христово | O47: =K17 | P47: =L17 -> Рождество Христово
K48: =K4 -> 41341 | L48: =L4 -> Женский день | O48: =K18 | P48: =L18 -> Женский день
K49: =K5 -> 41395 | L49: =L5 -> День солидарности трудящихся | O49: =K19 | P49: =L19 -> День солидарности трудящихся
K50: =K6 -> 41396 | L50: =L6 -> День солидарности трудящихся | O50: =K20 | P50: =L20 -> День солидарности трудящихся
K51: =K7 -> 41403 | L51: =L7 -> День Победы | O51: =K21 | P51: =L21 -> День Победы
K52: =K8 -> 41453 | L52: =L8 -> День Конституции Украины | O52: =K22 | P52: =L22 -> День Конституции Украины
K53: =K9 -> 41510 | L53: =L9 -> День независимости Украины | O53: =K23 -> 41512 | P53: =L23 -> День независимости Украины
K54: =K10 -> 41399 | L54: =L10 -> Пасха | O54: =K24 -> 41400 | P54: =L24 -> Пасху
K55: =K11 -> 41448 | L55: =L11 -> Троица | O55: =K25 -> 41449 | P55: =L25 -> Троицу
K56: =K12 -> 41420 | L56: =L12 -> День Киева
K57: =K13 | L57: =L13
K58: =K14 | L58: =L14
K59: =O2 -> 42005 | L59: =P2 -> Новый год | O59: =O16 | P59: =P16 -> Новый год
K60: =O3 -> 42011 | L60: =P3 -> Рождество Христово | O60: =O17 | P60: =P17 -> Рождество Христово
K61: =O4 -> 42071 | L61: =P4 -> Женский день | O61: =O18 -> 42072 | P61: =P18 -> Женский день
K62: =O5 -> 42125 | L62: =P5 -> День солидарности трудящихся | O62: =O19 | P62: =P19 -> День солидарности трудящихся
K63: =O6 -> 42126 | L63: =P6 -> День солидарности трудящихся | O63: =O20 -> 42128 | P63: =P20 -> День солидарности трудящихся
K64: =O7 -> 42133 | L64: =P7 -> День Победы | O64: =O21 -> 42135 | P64: =P21 -> День Победы
K65: =O8 -> 42183 | L65: =P8 -> День Конституции Украины | O65: =O22 -> 42184 | P65: =P22 -> День Конституции Украины
K66: =O9 -> 42240 | L66: =P9 -> День независимости Украины | O66: =O23 | P66: =P23 -> День независимости Украины
K67: =O10 -> 42106 | L67: =P10 -> Пасха | O67: =O24 -> 42107 | P67: =P24 -> Пасху
K68: =O11 -> 42155 | L68: =P11 -> Троица | O68: =O25 -> 42156 | P68: =P25 -> Троицу
K69: =O12 -> 42148 | L69: =P12 -> День Киева

Sheet год
A1: =календарь!A1 -> 2014 | MZ1: =IF(YEAR(MZ2)=YEAR(MY2),"",YEAR(MZ2)) | NA1: =IF(YEAR(NA2)=YEAR(MZ2),"",YEAR(NA2)) | NB1: =IF(YEAR(NB2)=YEAR(NA2),"",YEAR(NB2)) -> 2015 | NC1: =IF(YEAR(NC2)=YEAR(NB2),"",YEAR(NC2)) | ND1: =IF(YEAR(ND2)=YEAR(NC2),"",YEAR(ND2))
A2: =DATEVALUE(CONCATENATE($A$1,"-01-01"))+A3 -> 41640 | B2: =DATEVALUE(CONCATENATE($A$1,"-01-01"))+B3 -> 41641 | C2: =DATEVALUE(CONCATENATE($A$1,"-01-01"))+C3 -> 41642 | D2: =DATEVALUE(CONCATENATE($A$1,"-01-01"))+D3 -> 41643 | E2: =DATEVALUE(CONCATENATE($A$1,"-01-01"))+E3 -> 41644 | F2: =DATEVALUE(CONCATENATE($A$1,"-01-01"))+F3 -> 41645 | G2: =DATEVALUE(CONCATENATE($A$1,"-01-01"))+G3 -> 41646 | H2: =DATEVALUE(CONCATENATE($A$1,"-01-01"))+H3 -> 41647 | ... PO2: =DATEVALUE(CONCATENATE($A$1,"-01-01"))+PO3 -> 42070
A3: 0 | B3: 1 | C3: 2 | D3: 3 | E3: 4 | F3: 5 | G3: 6 | H3: 7 | I3: 8 | J3: 9 | K3: 10 | L3: 11 | M3: 12 | N3: 13 | O3: 14 | P3: 15 | Q3: 16 | R3: 17 | S3: 18 | T3: 19 | U3: 20 | V3: 21 | W3: 22 | X3: 23 | Y3: 24 | Z3: 25 | AA3: 26 | AB3: 27 | AC3: 28 | AD3: 29 | AE3: 30 | AF3: 31 | AG3: 32 | AH3: 33 | AI3: 34 | AJ3: 35 | AK3: 36 | AL3: 37 | AM3: 38 | AN3: 39 | AO3: 40 | AP3: 41 | AQ3: 42 | AR3: 43 | AS3: 44 | AT3: 45 | AU3: 46 | AV3: 47 | AW3: 48 | AX3: 49 | AY3: 50 | AZ3: 51 | BA3: 52 | BB3: 53 | BC3: 54 | BD3: 55 | BE3: 56 | BF3: 57 | BG3: 58 | BH3: 59 | BI3: 60 | BJ3: 61 | BK3: 62 | BL3: 63 | BM3: 64 | BN3: 65 | BO3: 66 | BP3: 67 | BQ3: 68 | BR3: 69 | BS3: 70 | BT3: 71 | BU3: 72 | BV3: 73 | BW3: 74 | BX3: 75 | BY3: 76 | BZ3: 77 | CA3: 78 | CB3: 79 | CC3: 80 | CD3: 81 | CE3: 82 | CF3: 83 | CG3: 84 | CH3: 85 | CI3: 86 | CJ3: 87 | CK3: 88 | CL3: 89 | CM3: 90 | CN3: 91 | CO3: 92 | CP3: 93 | CQ3: 94 | CR3: 95 | CS3: 96 | CT3: 97 | CU3: 98 | CV3: 99 | CW3: 100 | CX3: 101 | CY3: 102 | CZ3: 103 | DA3: 104 | DB3: 105 | DC3: 106 | DD3: 107 | DE3: 108 | DF3: 109 | DG3: 110 | DH3: 111 | DI3: 112 | DJ3: 113 | DK3: 114 | DL3: 115 | DM3: 116 | DN3: 117 | DO3: 118 | DP3: 119 | DQ3: 120 | DR3: 121 | DS3: 122 | DT3: 123 | DU3: 124 | DV3: 125 | DW3: 126 | DX3: 127 | DY3: 128 | DZ3: 129 | EA3: 130 | EB3: 131 | EC3: 132 | ED3: 133 | EE3: 134 | EF3: 135 | EG3: 136 | EH3: 137 | EI3: 138 | EJ3: 139 | EK3: 140 | EL3: 141 | EM3: 142 | EN3: 143 | EO3: 144 | EP3: 145 | EQ3: 146 | ER3: 147 | ES3: 148 | ET3: 149 | EU3: 150 | EV3: 151 | EW3: 152 | EX3: 153 | EY3: 154 | EZ3: 155 | FA3: 156 | FB3: 157 | FC3: 158 | FD3: 159 | FE3: 160 | FF3: 161 | FG3: 162 | FH3: 163 | FI3: 164 | FJ3: 165 | FK3: 166 | FL3: 167 | FM3: 168 | FN3: 169 | FO3: 170 | FP3: 171 | FQ3: 172 | FR3: 173 | FS3: 174 | FT3: 175 | FU3: 176 | FV3: 177 | FW3: 178 | FX3: 179 | FY3: 180 | FZ3: 181 | GA3: 182 | GB3: 183 | GC3: 184 | GD3: 185 | GE3: 186 | GF3: 187 | GG3: 188 | GH3: 189 | GI3: 190 | GJ3: 191 | GK3: 192 | GL3: 193 | GM3: 194 | GN3: 195 | GO3: 196 | GP3: 197 | GQ3: 198 | GR3: 199 | GS3: 200 | GT3: 201 | GU3: 202 | GV3: 203 | GW3: 204 | GX3: 205 | GY3: 206 | GZ3: 207 | HA3: 208 | HB3: 209 | HC3: 210 | HD3: 211 | HE3: 212 | HF3: 213 | HG3: 214 | HH3: 215 | HI3: 216 | HJ3: 217 | HK3: 218 | HL3: 219 | HM3: 220 | HN3: 221 | HO3: 222 | HP3: 223 | HQ3: 224 | HR3: 225 | HS3: 226 | HT3: 227 | HU3: 228 | HV3: 229 | HW3: 230 | HX3: 231 | HY3: 232 | HZ3: 233 | IA3: 234 | IB3: 235 | IC3: 236 | ID3: 237 | IE3: 238 | IF3: 239 | IG3: 240 | IH3: 241 | II3: 242 | IJ3: 243 | IK3: 244 | IL3: 245 | IM3: 246 | IN3: 247 | IO3: 248 | IP3: 249 | IQ3: 250 | IR3: 251 | IS3: 252 | IT3: 253 | IU3: 254 | IV3: 255 | IW3: 256 | IX3: 257 | IY3: 258 | IZ3: 259 | JA3: 260 | JB3: 261 | JC3: 262 | JD3: 263 | JE3: 264 | JF3: 265 | JG3: 266 | JH3: 267 | JI3: 268 | JJ3: 269 | JK3: 270 | JL3: 271 | JM3: 272 | JN3: 273 | JO3: 274 | JP3: 275 | JQ3: 276 | JR3: 277 | JS3: 278 | JT3: 279 | JU3: 280 | JV3: 281 | JW3: 282 | JX3: 283 | JY3: 284 | JZ3: 285 | KA3: 286 | KB3: 287 | KC3: 288 | KD3: 289 | KE3: 290 | KF3: 291 | KG3: 292 | KH3: 293 | KI3: 294 | KJ3: 295 | KK3: 296 | KL3: 297 | KM3: 298 | KN3: 299 | KO3: 300 | KP3: 301 | KQ3: 302 | KR3: 303 | KS3: 304 | KT3: 305 | KU3: 306 | KV3: 307 | KW3: 308 | KX3: 309 | KY3: 310 | KZ3: 311 | LA3: 312 | LB3: 313 | LC3: 314 | LD3: 315 | LE3: 316 | LF3: 317 | LG3: 318 | LH3: 319 | LI3: 320 | LJ3: 321 | LK3: 322 | LL3: 323 | LM3: 324 | LN3: 325 | LO3: 326 | LP3: 327 | LQ3: 328 | LR3: 329 | LS3: 330 | LT3: 331 | LU3: 332 | LV3: 333 | LW3: 334 | LX3: 335 | LY3: 336 | LZ3: 337 | MA3: 338 | MB3: 339 | MC3: 340 | MD3: 341 | ME3: 342 | MF3: 343 | MG3: 344 | MH3: 345 | MI3: 346 | MJ3: 347 | MK3: 348 | ML3: 349 | MM3: 350 | MN3: 351 | MO3: 352 | MP3: 353 | MQ3: 354 | MR3: 355 | MS3: 356 | MT3: 357 | MU3: 358 | MV3: 359 | MW3: 360 | MX3: 361 | MY3: 362 | MZ3: 363 | NA3: 364 | NB3: 365 | NC3: 366 | ND3: 367 | NE3: 368 | NF3: 369 | NG3: 370 | NH3: 371 | NI3: 372 | NJ3: 373 | NK3: 374 | NL3: 375 | NM3: 376 | NN3: 377 | NO3: 378 | NP3: 379 | NQ3: 380 | NR3: 381 | NS3: 382 | NT3: 383 | NU3: 384 | NV3: 385 | NW3: 386 | NX3: 387 | NY3: 388 | NZ3: 389 | OA3: 390 | OB3: 391 | OC3: 392 | OD3: 393 | OE3: 394 | OF3: 395 | OG3: 396 | OH3: 397 | OI3: 398 | OJ3: 399 | OK3: 400 | OL3: 401 | OM3: 402 | ON3: 403 | OO3: 404 | OP3: 405 | OQ3: 406 | OR3: 407 | OS3: 408 | OT3: 409 | OU3: 410 | OV3: 411 | OW3: 412 | OX3: 413 | OY3: 414 | OZ3: 415 | PA3: 416 | PB3: 417 | PC3: 418 | PD3: 419 | PE3: 420 | PF3: 421 | PG3: 422 | PH3: 423 | PI3: 424 | PJ3: 425 | PK3: 426 | PL3: 427 | PM3: 428 | PN3: 429 | PO3: 430
A4: =DAY(A2) -> 1 | B4: =DAY(B2) -> 2 | C4: =DAY(C2) -> 3 | D4: =DAY(D2) -> 4 | E4: =DAY(E2) -> 5 | F4: =DAY(F2) -> 6 | G4: =DAY(G2) -> 7 | H4: =DAY(H2) -> 8 | ... PO4: =DAY(PO2) -> 7
A5: =MONTH(A4) -> 1 | B5: =IF(MONTH(B2)=MONTH(A2),"",MONTH(B2)) | C5: =IF(MONTH(C2)=MONTH(B2),"",MONTH(C2)) | D5: =IF(MONTH(D2)=MONTH(C2),"",MONTH(D2)) | E5: =IF(MONTH(E2)=MONTH(D2),"",MONTH(E2)) | F5: =IF(MONTH(F2)=MONTH(E2),"",MONTH(F2)) | G5: =IF(MONTH(G2)=MONTH(F2),"",MONTH(G2)) | H5: =IF(MONTH(H2)=MONTH(G2),"",MONTH(H2)) | I5: =IF(MONTH(I2)=MONTH(H2),"",MONTH(I2)) | ... PO5: =IF(MONTH(PO2)=MONTH(PN2),"",MONTH(PO2))

Sheet календарь
A1: =YEAR(TODAY()) -> 2014 | AA1: =праздники!A1 -> 0 | AB1: =праздники!B1 -> 2014 | AC1: =праздники!C1 -> 0 | AD1: =праздники!D1 -> 0 | AE1: =праздники!E1 -> 0 | AF1: =праздники!F1 -> Для Пасхи | AG1: =праздники!G1 -> 0
A2: пн | B2: вт | C2: ср | D2: чт | E2: пт | F2: сб | G2: вс | H2: пн | I2: вт | J2: ср | K2: чт | L2: пт | M2: сб | N2: вс | O2: пн | P2: вт | Q2: ср | R2: чт | S2: пт | T2: сб | U2: вс | X2: 0 | Y2: Декабрь | Z2: 31 | AA2: =праздники!A2 -> 1.1 | AB2: =праздники!B2 -> 1 | AC2: =праздники!C2 -> 1 | AD2: =праздники!D2 -> 41640 | AE2: =праздники!E2 -> Новый год | AF2: =праздники!F2 -> а | AG2: =праздники!G2 -> 0
B3: =VLOOKUP(MONTH( G3 ),месяцы,2) -> Январь | G3: =DATE($A$1,1,1) -> 41640 | I3: =VLOOKUP(MONTH( N3 ),месяцы,2) -> Февраль | N3: =DATE($A$1,2,1) -> 41671 | P3: =VLOOKUP(MONTH( U3 ),месяцы,2) -> Март | U3: =DATE($A$1,3,1) -> 41699 | X3: 1 | Y3: Январь | Z3: 31 | AA3: =праздники!A3 -> 7.1 | AB3: =праздники!B3 -> 7 | AC3: =праздники!C3 -> 1 | AD3: =праздники!D3 -> 41646 | AE3: =праздники!E3 -> Рождество Христово | AF3: =праздники!F3 -> б | AG3: =праздники!G3 -> 2
A4: =IF(OR( 1 <WEEKDAY(EOMONTH(G3,-1)+1,2), 1 >DAY(EOMONTH(G3,0))+WEEKDAY(EOMONTH(G3,-1)+1,3)),"", 1 -WEEKDAY(EOMONTH(G3,-1)+1,2)+1) | B4: =IF(OR( 2 <WEEKDAY(EOMONTH(G3,-1)+1,2), 2 >DAY(EOMONTH(G3,0))+WEEKDAY(EOMONTH(G3,-1)+1,3)),"", 2 -WEEKDAY(EOMONTH(G3,-1)+1,2)+1) | C4: =IF(OR( 3 <WEEKDAY(EOMONTH(G3,-1)+1,2), 3 >DAY(EOMONTH(G3,0))+WEEKDAY(EOMONTH(G3,-1)+1,3)),"", 3 -WEEKDAY(EOMONTH(G3,-1)+1,2)+1) -> 1 | D4: =IF(OR( 4 <WEEKDAY(EOMONTH(G3,-1)+1,2), 4 >DAY(EOMONTH(G3,0))+WEEKDAY(EOMONTH(G3,-1)+1,3)),"", 4 -WEEKDAY(EOMONTH(G3,-1)+1,2)+1) -> 2 | E4: =IF(OR( 5 <WEEKDAY(EOMONTH(G3,-1)+1,2), 5 >DAY(EOMONTH(G3,0))+WEEKDAY(EOMONTH(G3,-1)+1,3)),"", 5 -WEEKDAY(EOMONTH(G3,-1)+1,2)+1) -> 3 | F4: =IF(OR( 6 <WEEKDAY(EOMONTH(G3,-1)+1,2), 6 >DAY(EOMONTH(G3,0))+WEEKDAY(EOMONTH(G3,-1)+1,3)),"", 6 -WEEKDAY(EOMONTH(G3,-1)+1,2)+1) -> 4 | G4: =IF(OR( 7 <WEEKDAY(EOMONTH(G3,-1)+1,2), 7 >DAY(EOMONTH(G3,0))+WEEKDAY(EOMONTH(G3,-1)+1,3)),"", 7 -WEEKDAY(EOMONTH(G3,-1)+1,2)+1) -> 5 | H4: =IF(OR( 1 <WEEKDAY(EOMONTH(N3,-1)+1,2), 1 >DAY(EOMONTH(N3,0))+WEEKDAY(EOMONTH(N3,-1)+1,3)),"", 1 -WEEKDAY(EOMONTH(N3,-1)+1,2)+1) | I4: =IF(OR( 2 <WEEKDAY(EOMONTH(N3,-1)+1,2), 2 >DAY(EOMONTH(N3,0))+WEEKDAY(EOMONTH(N3,-1)+1,3)),"", 2 -WEEKDAY(EOMONTH(N3,-1)+1,2)+1) | J4: =IF(OR( 3 <WEEKDAY(EOMONTH(N3,-1)+1,2), 3 >DAY(EOMONTH(N3,0))+WEEKDAY(EOMONTH(N3,-1)+1,3)),"", 3 -WEEKDAY(EOMONTH(N3,-1)+1,2)+1) | K4: =IF(OR( 4 <WEEKDAY(EOMONTH(N3,-1)+1,2), 4 >DAY(EOMONTH(N3,0))+WEEKDAY(EOMONTH(N3,-1)+1,3)),"", 4 -WEEKDAY(EOMONTH(N3,-1)+1,2)+1) | L4: =IF(OR( 5 <WEEKDAY(EOMONTH(N3,-1)+1,2), 5 >DAY(EOMONTH(N3,0))+WEEKDAY(EOMONTH(N3,-1)+1,3)),"", 5 -WEEKDAY(EOMONTH(N3,-1)+1,2)+1) | M4: =IF(OR( 6 <WEEKDAY(EOMONTH(N3,-1)+1,2), 6 >DAY(EOMONTH(N3,0))+WEEKDAY(EOMONTH(N3,-1)+1,3)),"", 6 -WEEKDAY(EOMONTH(N3,-1)+1,2)+1) -> 1 | N4: =IF(OR( 7 <WEEKDAY(EOMONTH(N3,-1)+1,2), 7 >DAY(EOMONTH(N3,0))+WEEKDAY(EOMONTH(N3,-1)+1,3)),"", 7 -WEEKDAY(EOMONTH(N3,-1)+1,2)+1) -> 2 | O4: =IF(OR( 1 <WEEKDAY(EOMONTH(U3,-1)+1,2), 1 >DAY(EOMONTH(U3,0))+WEEKDAY(EOMONTH(U3,-1)+1,3)),"", 1 -WEEKDAY(EOMONTH(U3,-1)+1,2)+1) | P4: =IF(OR( 2 <WEEKDAY(EOMONTH(U3,-1)+1,2), 2 >DAY(EOMONTH(U3,0))+WEEKDAY(EOMONTH(U3,-1)+1,3)),"", 2 -WEEKDAY(EOMONTH(U3,-1)+1,2)+1) | Q4: =IF(OR( 3 <WEEKDAY(EOMONTH(U3,-1)+1,2), 3 >DAY(EOMONTH(U3,0))+WEEKDAY(EOMONTH(U3,-1)+1,3)),"", 3 -WEEKDAY(EOMONTH(U3,-1)+1,2)+1) | R4: =IF(OR( 4 <WEEKDAY(EOMONTH(U3,-1)+1,2), 4 >DAY(EOMONTH(U3,0))+WEEKDAY(EOMONTH(U3,-1)+1,3)),"", 4 -WEEKDAY(EOMONTH(U3,-1)+1,2)+1) | S4: =IF(OR( 5 <WEEKDAY(EOMONTH(U3,-1)+1,2), 5 >DAY(EOMONTH(U3,0))+WEEKDAY(EOMONTH(U3,-1)+1,3)),"", 5 -WEEKDAY(EOMONTH(U3,-1)+1,2)+1) | T4: =IF(OR( 6 <WEEKDAY(EOMONTH(U3,-1)+1,2), 6 >DAY(EOMONTH(U3,0))+WEEKDAY(EOMONTH(U3,-1)+1,3)),"", 6 -WEEKDAY(EOMONTH(U3,-1)+1,2)+1) -> 1 | U4: =IF(OR( 7 <WEEKDAY(EOMONTH(U3,-1)+1,2), 7 >DAY(EOMONTH(U3,0))+WEEKDAY(EOMONTH(U3,-1)+1,3)),"", 7 -WEEKDAY(EOMONTH(U3,-1)+1,2)+1) -> 2 | X4: 2 | Y4: Февраль | Z4: =IF(MOD(YEAR(TODAY()),4),28,29) -> 28 | AA4: =праздники!A4 -> 8.3 | AB4: =праздники!B4 -> 8 | AC4: =праздники!C4 -> 3 | AD4: =праздники!D4 -> 41706 | AE4: =праздники!E4 -> Женский день | AF4: =праздники!F4 -> в | AG4: =праздники!G4 -> 5
A5: =IF(OR( 8 <WEEKDAY(EOMONTH(G3,-1)+1,2), 8 >DAY(EOMONTH(G3,0))+WEEKDAY(EOMONTH(G3,-1)+1,3)),"", 8 -WEEKDAY(EOMONTH(G3,-1)+1,2)+1) -> 6 | B5: =IF(OR( 9 <WEEKDAY(EOMONTH(G3,-1)+1,2), 9 >DAY(EOMONTH(G3,0))+WEEKDAY(EOMONTH(G3,-1)+1,3)),"", 9 -WEEKDAY(EOMONTH(G3,-1)+1,2)+1) -> 7 | C5: =IF(OR( 10 <WEEKDAY(EOMONTH(G3,-1)+1,2), 10 >DAY(EOMONTH(G3,0))+WEEKDAY(EOMONTH(G3,-1)+1,3)),"", 10 -WEEKDAY(EOMONTH(G3,-1)+1,2)+1) -> 8 | D5: =IF(OR( 11 <WEEKDAY(EOMONTH(G3,-1)+1,2), 11 >DAY(EOMONTH(G3,0))+WEEKDAY(EOMONTH(G3,-1)+1,3)),"", 11 -WEEKDAY(EOMONTH(G3,-1)+1,2)+1) -> 9 | E5: =IF(OR( 12 <WEEKDAY(EOMONTH(G3,-1)+1,2), 12 >DAY(EOMONTH(G3,0))+WEEKDAY(EOMONTH(G3,-1)+1,3)),"", 12 -WEEKDAY(EOMONTH(G3,-1)+1,2)+1) -> 10 | F5: =IF(OR( 13 <WEEKDAY(EOMONTH(G3,-1)+1,2), 13 >DAY(EOMONTH(G3,0))+WEEKDAY(EOMONTH(G3,-1)+1,3)),"", 13 -WEEKDAY(EOMONTH(G3,-1)+1,2)+1) -> 11 | G5: =IF(OR( 14 <WEEKDAY(EOMONTH(G3,-1)+1,2), 14 >DAY(EOMONTH(G3,0))+WEEKDAY(EOMONTH(G3,-1)+1,3)),"", 14 -WEEKDAY(EOMONTH(G3,-1)+1,2)+1) -> 12 | H5: =IF(OR( 8 <WEEKDAY(EOMONTH(N3,-1)+1,2), 8 >DAY(EOMONTH(N3,0))+WEEKDAY(EOMONTH(N3,-1)+1,3)),"", 8 -WEEKDAY(EOMONTH(N3,-1)+1,2)+1) -> 3 | I5: =IF(OR( 9 <WEEKDAY(EOMONTH(N3,-1)+1,2), 9 >DAY(EOMONTH(N3,0))+WEEKDAY(EOMONTH(N3,-1)+1,3)),"", 9 -WEEKDAY(EOMONTH(N3,-1)+1,2)+1) -> 4 | J5: =IF(OR( 10 <WEEKDAY(EOMONTH(N3,-1)+1,2), 10 >DAY(EOMONTH(N3,0))+WEEKDAY(EOMONTH(N3,-1)+1,3)),"", 10 -WEEKDAY(EOMONTH(N3,-1)+1,2)+1) -> 5 | K5: =IF(OR( 11 <WEEKDAY(EOMONTH(N3,-1)+1,2), 11 >DAY(EOMONTH(N3,0))+WEEKDAY(EOMONTH(N3,-1)+1,3)),"", 11 -WEEKDAY(EOMONTH(N3,-1)+1,2)+1) -> 6 | L5: =IF(OR( 12 <WEEKDAY(EOMONTH(N3,-1)+1,2), 12 >DAY(EOMONTH(N3,0))+WEEKDAY(EOMONTH(N3,-1)+1,3)),"", 12 -WEEKDAY(EOMONTH(N3,-1)+1,2)+1) -> 7 | M5: =IF(OR( 13 <WEEKDAY(EOMONTH(N3,-1)+1,2), 13 >DAY(EOMONTH(N3,0))+WEEKDAY(EOMONTH(N3,-1)+1,3)),"", 13 -WEEKDAY(EOMONTH(N3,-1)+1,2)+1) -> 8 | N5: =IF(OR( 14 <WEEKDAY(EOMONTH(N3,-1)+1,2), 14 >DAY(EOMONTH(N3,0))+WEEKDAY(EOMONTH(N3,-1)+1,3)),"", 14 -WEEKDAY(EOMONTH(N3,-1)+1,2)+1) -> 9 | O5: =IF(OR( 8 <WEEKDAY(EOMONTH(U3,-1)+1,2), 8 >DAY(EOMONTH(U3,0))+WEEKDAY(EOMONTH(U3,-1)+1,3)),"", 8 -WEEKDAY(EOMONTH(U3,-1)+1,2)+1) -> 3 | P5: =IF(OR( 9 <WEEKDAY(EOMONTH(U3,-1)+1,2), 9 >DAY(EOMONTH(U3,0))+WEEKDAY(EOMONTH(U3,-1)+1,3)),"", 9 -WEEKDAY(EOMONTH(U3,-1)+1,2)+1) -> 4 | Q5: =IF(OR( 10 <WEEKDAY(EOMONTH(U3,-1)+1,2), 10 >DAY(EOMONTH(U3,0))+WEEKDAY(EOMONTH(U3,-1)+1,3)),"", 10 -WEEKDAY(EOMONTH(U3,-1)+1,2)+1) -> 5 | R5: =IF(OR( 11 <WEEKDAY(EOMONTH(U3,-1)+1,2), 11 >DAY(EOMONTH(U3,0))+WEEKDAY(EOMONTH(U3,-1)+1,3)),"", 11 -WEEKDAY(EOMONTH(U3,-1)+1,2)+1) -> 6 | S5: =IF(OR( 12 <WEEKDAY(EOMONTH(U3,-1)+1,2), 12 >DAY(EOMONTH(U3,0))+WEEKDAY(EOMONTH(U3,-1)+1,3)),"", 12 -WEEKDAY(EOMONTH(U3,-1)+1,2)+1) -> 7 | T5: =IF(OR( 13 <WEEKDAY(EOMONTH(U3,-1)+1,2), 13 >DAY(EOMONTH(U3,0))+WEEKDAY(EOMONTH(U3,-1)+1,3)),"", 13 -WEEKDAY(EOMONTH(U3,-1)+1,2)+1) -> 8 | U5: =IF(OR( 14 <WEEKDAY(EOMONTH(U3,-1)+1,2), 14 >DAY(EOMONTH(U3,0))+WEEKDAY(EOMONTH(U3,-1)+1,3)),"", 14 -WEEKDAY(EOMONTH(U3,-1)+1,2)+1) -> 9 | X5: 3 | Y5: Март | Z5: 31 | AA5: =праздники!A5 -> 1.5 | AB5: =праздники!B5 -> 1 | AC5: =праздники!C5 -> 5 | AD5: =праздники!D5 -> 41760 | AE5: =праздники!E5 -> День солидарности трудящихся | AF5: =праздники!F5 -> г | AG5: =праздники!G5 -> 15
A6: =IF(OR( 15 <WEEKDAY(EOMONTH(G3,-1)+1,2), 15 >DAY(EOMONTH(G3,0))+WEEKDAY(EOMONTH(G3,-1)+1,3)),"", 15 -WEEKDAY(EOMONTH(G3,-1)+1,2)+1) -> 13 | B6: =IF(OR( 16 <WEEKDAY(EOMONTH(G3,-1)+1,2), 16 >DAY(EOMONTH(G3,0))+WEEKDAY(EOMONTH(G3,-1)+1,3)),"", 16 -WEEKDAY(EOMONTH(G3,-1)+1,2)+1) -> 14 | C6: =IF(OR( 17 <WEEKDAY(EOMONTH(G3,-1)+1,2), 17 >DAY(EOMONTH(G3,0))+WEEKDAY(EOMONTH(G3,-1)+1,3)),"", 17 -WEEKDAY(EOMONTH(G3,-1)+1,2)+1) -> 15 | D6: =IF(OR( 18 <WEEKDAY(EOMONTH(G3,-1)+1,2), 18 >DAY(EOMONTH(G3,0))+WEEKDAY(EOMONTH(G3,-1)+1,3)),"", 18 -WEEKDAY(EOMONTH(G3,-1)+1,2)+1) -> 16 | E6: =IF(OR( 19 <WEEKDAY(EOMONTH(G3,-1)+1,2), 19 >DAY(EOMONTH(G3,0))+WEEKDAY(EOMONTH(G3,-1)+1,3)),"", 19 -WEEKDAY(EOMONTH(G3,-1)+1,2)+1) -> 17 | F6: =IF(OR( 20 <WEEKDAY(EOMONTH(G3,-1)+1,2), 20 >DAY(EOMONTH(G3,0))+WEEKDAY(EOMONTH(G3,-1)+1,3)),"", 20 -WEEKDAY(EOMONTH(G3,-1)+1,2)+1) -> 18 | G6: =IF(OR( 21 <WEEKDAY(EOMONTH(G3,-1)+1,2), 21 >DAY(EOMONTH(G3,0))+WEEKDAY(EOMONTH(G3,-1)+1,3)),"", 21 -WEEKDAY(EOMONTH(G3,-1)+1,2)+1) -> 19 | H6: =IF(OR( 15 <WEEKDAY(EOMONTH(N3,-1)+1,2), 15 >DAY(EOMONTH(N3,0))+WEEKDAY(EOMONTH(N3,-1)+1,3)),"", 15 -WEEKDAY(EOMONTH(N3,-1)+1,2)+1) -> 10 | I6: =IF(OR( 16 <WEEKDAY(EOMONTH(N3,-1)+1,2), 16 >DAY(EOMONTH(N3,0))+WEEKDAY(EOMONTH(N3,-1)+1,3)),"", 16 -WEEKDAY(EOMONTH(N3,-1)+1,2)+1) -> 11 | J6: =IF(OR( 17 <WEEKDAY(EOMONTH(N3,-1)+1,2), 17 >DAY(EOMONTH(N3,0))+WEEKDAY(EOMONTH(N3,-1)+1,3)),"", 17 -WEEKDAY(EOMONTH(N3,-1)+1,2)+1) -> 12 | K6: =IF(OR( 18 <WEEKDAY(EOMONTH(N3,-1)+1,2), 18 >DAY(EOMONTH(N3,0))+WEEKDAY(EOMONTH(N3,-1)+1,3)),"", 18 -WEEKDAY(EOMONTH(N3,-1)+1,2)+1) -> 13 | L6: =IF(OR( 19 <WEEKDAY(EOMONTH(N3,-1)+1,2), 19 >DAY(EOMONTH(N3,0))+WEEKDAY(EOMONTH(N3,-1)+1,3)),"", 19 -WEEKDAY(EOMONTH(N3,-1)+1,2)+1) -> 14 | M6: =IF(OR( 20 <WEEKDAY(EOMONTH(N3,-1)+1,2), 20 >DAY(EOMONTH(N3,0))+WEEKDAY(EOMONTH(N3,-1)+1,3)),"", 20 -WEEKDAY(EOMONTH(N3,-1)+1,2)+1) -> 15 | N6: =IF(OR( 21 <WEEKDAY(EOMONTH(N3,-1)+1,2), 21 >DAY(EOMONTH(N3,0))+WEEKDAY(EOMONTH(N3,-1)+1,3)),"", 21 -WEEKDAY(EOMONTH(N3,-1)+1,2)+1) -> 16 | O6: =IF(OR( 15 <WEEKDAY(EOMONTH(U3,-1)+1,2), 15 >DAY(EOMONTH(U3,0))+WEEKDAY(EOMONTH(U3,-1)+1,3)),"", 15 -WEEKDAY(EOMONTH(U3,-1)+1,2)+1) -> 10 | P6: =IF(OR( 16 <WEEKDAY(EOMONTH(U3,-1)+1,2), 16 >DAY(EOMONTH(U3,0))+WEEKDAY(EOMONTH(U3,-1)+1,3)),"", 16 -WEEKDAY(EOMONTH(U3,-1)+1,2)+1) -> 11 | Q6: =IF(OR( 17 <WEEKDAY(EOMONTH(U3,-1)+1,2), 17 >DAY(EOMONTH(U3,0))+WEEKDAY(EOMONTH(U3,-1)+1,3)),"", 17 -WEEKDAY(EOMONTH(U3,-1)+1,2)+1) -> 12 | R6: =IF(OR( 18 <WEEKDAY(EOMONTH(U3,-1)+1,2), 18 >DAY(EOMONTH(U3,0))+WEEKDAY(EOMONTH(U3,-1)+1,3)),"", 18 -WEEKDAY(EOMONTH(U3,-1)+1,2)+1) -> 13 | S6: =IF(OR( 19 <WEEKDAY(EOMONTH(U3,-1)+1,2), 19 >DAY(EOMONTH(U3,0))+WEEKDAY(EOMONTH(U3,-1)+1,3)),"", 19 -WEEKDAY(EOMONTH(U3,-1)+1,2)+1) -> 14 | T6: =IF(OR( 20 <WEEKDAY(EOMONTH(U3,-1)+1,2), 20 >DAY(EOMONTH(U3,0))+WEEKDAY(EOMONTH(U3,-1)+1,3)),"", 20 -WEEKDAY(EOMONTH(U3,-1)+1,2)+1) -> 15 | U6: =IF(OR( 21 <WEEKDAY(EOMONTH(U3,-1)+1,2), 21 >DAY(EOMONTH(U3,0))+WEEKDAY(EOMONTH(U3,-1)+1,3)),"", 21 -WEEKDAY(EOMONTH(U3,-1)+1,2)+1) -> 16 | X6: 4 | Y6: Апрель | Z6: 30 | AA6: =праздники!A6 -> 2.5 | AB6: =праздники!B6 -> 2 | AC6: =праздники!C6 -> 5 | AD6: =праздники!D6 -> 41761 | AE6: =праздники!E6 -> День солидарности трудящихся | AF6: =праздники!F6 -> д | AG6: =праздники!G6 -> 1
A7: =IF(OR( 22 <WEEKDAY(EOMONTH(G3,-1)+1,2), 22 >DAY(EOMONTH(G3,0))+WEEKDAY(EOMONTH(G3,-1)+1,3)),"", 22 -WEEKDAY(EOMONTH(G3,-1)+1,2)+1) -> 20 | B7: =IF(OR( 23 <WEEKDAY(EOMONTH(G3,-1)+1,2), 23 >DAY(EOMONTH(G3,0))+WEEKDAY(EOMONTH(G3,-1)+1,3)),"", 23 -WEEKDAY(EOMONTH(G3,-1)+1,2)+1) -> 21 | C7: =IF(OR( 24 <WEEKDAY(EOMONTH(G3,-1)+1,2), 24 >DAY(EOMONTH(G3,0))+WEEKDAY(EOMONTH(G3,-1)+1,3)),"", 24 -WEEKDAY(EOMONTH(G3,-1)+1,2)+1) -> 22 | D7: =IF(OR( 25 <WEEKDAY(EOMONTH(G3,-1)+1,2), 25 >DAY(EOMONTH(G3,0))+WEEKDAY(EOMONTH(G3,-1)+1,3)),"", 25 -WEEKDAY(EOMONTH(G3,-1)+1,2)+1) -> 23 | E7: =IF(OR( 26 <WEEKDAY(EOMONTH(G3,-1)+1,2), 26 >DAY(EOMONTH(G3,0))+WEEKDAY(EOMONTH(G3,-1)+1,3)),"", 26 -WEEKDAY(EOMONTH(G3,-1)+1,2)+1) -> 24 | F7: =IF(OR( 27 <WEEKDAY(EOMONTH(G3,-1)+1,2), 27 >DAY(EOMONTH(G3,0))+WEEKDAY(EOMONTH(G3,-1)+1,3)),"", 27 -WEEKDAY(EOMONTH(G3,-1)+1,2)+1) -> 25 | G7: =IF(OR( 28 <WEEKDAY(EOMONTH(G3,-1)+1,2), 28 >DAY(EOMONTH(G3,0))+WEEKDAY(EOMONTH(G3,-1)+1,3)),"", 28 -WEEKDAY(EOMONTH(G3,-1)+1,2)+1) -> 26 | H7: =IF(OR( 22 <WEEKDAY(EOMONTH(N3,-1)+1,2), 22 >DAY(EOMONTH(N3,0))+WEEKDAY(EOMONTH(N3,-1)+1,3)),"", 22 -WEEKDAY(EOMONTH(N3,-1)+1,2)+1) -> 17 | I7: =IF(OR( 23 <WEEKDAY(EOMONTH(N3,-1)+1,2), 23 >DAY(EOMONTH(N3,0))+WEEKDAY(EOMONTH(N3,-1)+1,3)),"", 23 -WEEKDAY(EOMONTH(N3,-1)+1,2)+1) -> 18 | J7: =IF(OR( 24 <WEEKDAY(EOMONTH(N3,-1)+1,2), 24 >DAY(EOMONTH(N3,0))+WEEKDAY(EOMONTH(N3,-1)+1,3)),"", 24 -WEEKDAY(EOMONTH(N3,-1)+1,2)+1) -> 19 | K7: =IF(OR( 25 <WEEKDAY(EOMONTH(N3,-1)+1,2), 25 >DAY(EOMONTH(N3,0))+WEEKDAY(EOMONTH(N3,-1)+1,3)),"", 25 -WEEKDAY(EOMONTH(N3,-1)+1,2)+1) -> 20 | L7: =IF(OR( 26 <WEEKDAY(EOMONTH(N3,-1)+1,2), 26 >DAY(EOMONTH(N3,0))+WEEKDAY(EOMONTH(N3,-1)+1,3)),"", 26 -WEEKDAY(EOMONTH(N3,-1)+1,2)+1) -> 21 | M7: =IF(OR( 27 <WEEKDAY(EOMONTH(N3,-1)+1,2), 27 >DAY(EOMONTH(N3,0))+WEEKDAY(EOMONTH(N3,-1)+1,3)),"", 27 -WEEKDAY(EOMONTH(N3,-1)+1,2)+1) -> 22 | N7: =IF(OR( 28 <WEEKDAY(EOMONTH(N3,-1)+1,2), 28 >DAY(EOMONTH(N3,0))+WEEKDAY(EOMONTH(N3,-1)+1,3)),"", 28 -WEEKDAY(EOMONTH(N3,-1)+1,2)+1) -> 23 | O7: =IF(OR( 22 <WEEKDAY(EOMONTH(U3,-1)+1,2), 22 >DAY(EOMONTH(U3,0))+WEEKDAY(EOMONTH(U3,-1)+1,3)),"", 22 -WEEKDAY(EOMONTH(U3,-1)+1,2)+1) -> 17 | P7: =IF(OR( 23 <WEEKDAY(EOMONTH(U3,-1)+1,2), 23 >DAY(EOMONTH(U3,0))+WEEKDAY(EOMONTH(U3,-1)+1,3)),"", 23 -WEEKDAY(EOMONTH(U3,-1)+1,2)+1) -> 18 | Q7: =IF(OR( 24 <WEEKDAY(EOMONTH(U3,-1)+1,2), 24 >DAY(EOMONTH(U3,0))+WEEKDAY(EOMONTH(U3,-1)+1,3)),"", 24 -WEEKDAY(EOMONTH(U3,-1)+1,2)+1) -> 19 | R7: =IF(OR( 25 <WEEKDAY(EOMONTH(U3,-1)+1,2), 25 >DAY(EOMONTH(U3,0))+WEEKDAY(EOMONTH(U3,-1)+1,3)),"", 25 -WEEKDAY(EOMONTH(U3,-1)+1,2)+1) -> 20 | S7: =IF(OR( 26 <WEEKDAY(EOMONTH(U3,-1)+1,2), 26 >DAY(EOMONTH(U3,0))+WEEKDAY(EOMONTH(U3,-1)+1,3)),"", 26 -WEEKDAY(EOMONTH(U3,-1)+1,2)+1) -> 21 | T7: =IF(OR( 27 <WEEKDAY(EOMONTH(U3,-1)+1,2), 27 >DAY(EOMONTH(U3,0))+WEEKDAY(EOMONTH(U3,-1)+1,3)),"", 27 -WEEKDAY(EOMONTH(U3,-1)+1,2)+1) -> 22 | U7: =IF(OR( 28 <WEEKDAY(EOMONTH(U3,-1)+1,2), 28 >DAY(EOMONTH(U3,0))+WEEKDAY(EOMONTH(U3,-1)+1,3)),"", 28 -WEEKDAY(EOMONTH(U3,-1)+1,2)+1) -> 23 | X7: 5 | Y7: Май | Z7: 31 | AA7: =праздники!A7 -> 9.5 | AB7: =праздники!B7 -> 9 | AC7: =праздники!C7 -> 5 | AD7: =праздники!D7 -> 41768 | AE7: =праздники!E7 -> День Победы | AF7: =праздники!F7 -> 0 | AG7: =праздники!G7 -> 0
A8: =IF(OR( 29 <WEEKDAY(EOMONTH(G3,-1)+1,2), 29 >DAY(EOMONTH(G3,0))+WEEKDAY(EOMONTH(G3,-1)+1,3)),"", 29 -WEEKDAY(EOMONTH(G3,-1)+1,2)+1) -> 27 | B8: =IF(OR( 30 <WEEKDAY(EOMONTH(G3,-1)+1,2), 30 >DAY(EOMONTH(G3,0))+WEEKDAY(EOMONTH(G3,-1)+1,3)),"", 30 -WEEKDAY(EOMONTH(G3,-1)+1,2)+1) -> 28 | C8: =IF(OR( 31 <WEEKDAY(EOMONTH(G3,-1)+1,2), 31 >DAY(EOMONTH(G3,0))+WEEKDAY(EOMONTH(G3,-1)+1,3)),"", 31 -WEEKDAY(EOMONTH(G3,-1)+1,2)+1) -> 29 | D8: =IF(OR( 32 <WEEKDAY(EOMONTH(G3,-1)+1,2), 32 >DAY(EOMONTH(G3,0))+WEEKDAY(EOMONTH(G3,-1)+1,3)),"", 32 -WEEKDAY(EOMONTH(G3,-1)+1,2)+1) -> 30 | E8: =IF(OR( 33 <WEEKDAY(EOMONTH(G3,-1)+1,2), 33 >DAY(EOMONTH(G3,0))+WEEKDAY(EOMONTH(G3,-1)+1,3)),"", 33 -WEEKDAY(EOMONTH(G3,-1)+1,2)+1) -> 31 | F8: =IF(OR( 34 <WEEKDAY(EOMONTH(G3,-1)+1,2), 34 >DAY(EOMONTH(G3,0))+WEEKDAY(EOMONTH(G3,-1)+1,3)),"", 34 -WEEKDAY(EOMONTH(G3,-1)+1,2)+1) | G8: =IF(OR( 35 <WEEKDAY(EOMONTH(G3,-1)+1,2), 35 >DAY(EOMONTH(G3,0))+WEEKDAY(EOMONTH(G3,-1)+1,3)),"", 35 -WEEKDAY(EOMONTH(G3,-1)+1,2)+1) | H8: =IF(OR( 29 <WEEKDAY(EOMONTH(N3,-1)+1,2), 29 >DAY(EOMONTH(N3,0))+WEEKDAY(EOMONTH(N3,-1)+1,3)),"", 29 -WEEKDAY(EOMONTH(N3,-1)+1,2)+1) -> 24 | I8: =IF(OR( 30 <WEEKDAY(EOMONTH(N3,-1)+1,2), 30 >DAY(EOMONTH(N3,0))+WEEKDAY(EOMONTH(N3,-1)+1,3)),"", 30 -WEEKDAY(EOMONTH(N3,-1)+1,2)+1) -> 25 | J8: =IF(OR( 31 <WEEKDAY(EOMONTH(N3,-1)+1,2), 31 >DAY(EOMONTH(N3,0))+WEEKDAY(EOMONTH(N3,-1)+1,3)),"", 31 -WEEKDAY(EOMONTH(N3,-1)+1,2)+1) -> 26 | K8: =IF(OR( 32 <WEEKDAY(EOMONTH(N3,-1)+1,2), 32 >DAY(EOMONTH(N3,0))+WEEKDAY(EOMONTH(N3,-1)+1,3)),"", 32 -WEEKDAY(EOMONTH(N3,-1)+1,2)+1) -> 27 | L8: =IF(OR( 33 <WEEKDAY(EOMONTH(N3,-1)+1,2), 33 >DAY(EOMONTH(N3,0))+WEEKDAY(EOMONTH(N3,-1)+1,3)),"", 33 -WEEKDAY(EOMONTH(N3,-1)+1,2)+1) -> 28 | M8: =IF(OR( 34 <WEEKDAY(EOMONTH(N3,-1)+1,2), 34 >DAY(EOMONTH(N3,0))+WEEKDAY(EOMONTH(N3,-1)+1,3)),"", 34 -WEEKDAY(EOMONTH(N3,-1)+1,2)+1) | N8: =IF(OR( 35 <WEEKDAY(EOMONTH(N3,-1)+1,2), 35 >DAY(EOMONTH(N3,0))+WEEKDAY(EOMONTH(N3,-1)+1,3)),"", 35 -WEEKDAY(EOMONTH(N3,-1)+1,2)+1) | O8: =IF(OR( 29 <WEEKDAY(EOMONTH(U3,-1)+1,2), 29 >DAY(EOMONTH(U3,0))+WEEKDAY(EOMONTH(U3,-1)+1,3)),"", 29 -WEEKDAY(EOMONTH(U3,-1)+1,2)+1) -> 24 | P8: =IF(OR( 30 <WEEKDAY(EOMONTH(U3,-1)+1,2), 30 >DAY(EOMONTH(U3,0))+WEEKDAY(EOMONTH(U3,-1)+1,3)),"", 30 -WEEKDAY(EOMONTH(U3,-1)+1,2)+1) -> 25 | Q8: =IF(OR( 31 <WEEKDAY(EOMONTH(U3,-1)+1,2), 31 >DAY(EOMONTH(U3,0))+WEEKDAY(EOMONTH(U3,-1)+1,3)),"", 31 -WEEKDAY(EOMONTH(U3,-1)+1,2)+1) -> 26 | R8: =IF(OR( 32 <WEEKDAY(EOMONTH(U3,-1)+1,2), 32 >DAY(EOMONTH(U3,0))+WEEKDAY(EOMONTH(U3,-1)+1,3)),"", 32 -WEEKDAY(EOMONTH(U3,-1)+1,2)+1) -> 27 | S8: =IF(OR( 33 <WEEKDAY(EOMONTH(U3,-1)+1,2), 33 >DAY(EOMONTH(U3,0))+WEEKDAY(EOMONTH(U3,-1)+1,3)),"", 33 -WEEKDAY(EOMONTH(U3,-1)+1,2)+1) -> 28 | T8: =IF(OR( 34 <WEEKDAY(EOMONTH(U3,-1)+1,2), 34 >DAY(EOMONTH(U3,0))+WEEKDAY(EOMONTH(U3,-1)+1,3)),"", 34 -WEEKDAY(EOMONTH(U3,-1)+1,2)+1) -> 29 | U8: =IF(OR( 35 <WEEKDAY(EOMONTH(U3,-1)+1,2), 35 >DAY(EOMONTH(U3,0))+WEEKDAY(EOMONTH(U3,-1)+1,3)),"", 35 -WEEKDAY(EOMONTH(U3,-1)+1,2)+1) -> 30 | X8: 6 | Y8: Июнь | Z8: 30 | AA8: =праздники!A8 -> 28.6 | AB8: =праздники!B8 -> 28 | AC8: =праздники!C8 -> 6 | AD8: =праздники!D8 -> 41818 | AE8: =праздники!E8 -> День Конституции Украины | AF8: =праздники!F8 -> 0 | AG8: =праздники!G8 -> 0
A9: =IF(OR( 36 <WEEKDAY(EOMONTH(G3,-1)+1,2), 36 >DAY(EOMONTH(G3,0))+WEEKDAY(EOMONTH(G3,-1)+1,3)),"", 36 -WEEKDAY(EOMONTH(G3,-1)+1,2)+1) | B9: =IF(OR( 37 <WEEKDAY(EOMONTH(G3,-1)+1,2), 37 >DAY(EOMONTH(G3,0))+WEEKDAY(EOMONTH(G3,-1)+1,3)),"", 37 -WEEKDAY(EOMONTH(G3,-1)+1,2)+1) | C9: =IF(OR( 38 <WEEKDAY(EOMONTH(G3,-1)+1,2), 38 >DAY(EOMONTH(G3,0))+WEEKDAY(EOMONTH(G3,-1)+1,3)),"", 38 -WEEKDAY(EOMONTH(G3,-1)+1,2)+1) | D9: =IF(OR( 39 <WEEKDAY(EOMONTH(G3,-1)+1,2), 39 >DAY(EOMONTH(G3,0))+WEEKDAY(EOMONTH(G3,-1)+1,3)),"", 39 -WEEKDAY(EOMONTH(G3,-1)+1,2)+1) | E9: =IF(OR( 40 <WEEKDAY(EOMONTH(G3,-1)+1,2), 40 >DAY(EOMONTH(G3,0))+WEEKDAY(EOMONTH(G3,-1)+1,3)),"", 40 -WEEKDAY(EOMONTH(G3,-1)+1,2)+1) | F9: =IF(OR( 41 <WEEKDAY(EOMONTH(G3,-1)+1,2), 41 >DAY(EOMONTH(G3,0))+WEEKDAY(EOMONTH(G3,-1)+1,3)),"", 41 -WEEKDAY(EOMONTH(G3,-1)+1,2)+1) | G9: =IF(OR( 42 <WEEKDAY(EOMONTH(G3,-1)+1,2), 42 >DAY(EOMONTH(G3,0))+WEEKDAY(EOMONTH(G3,-1)+1,3)),"", 42 -WEEKDAY(EOMONTH(G3,-1)+1,2)+1) | H9: =IF(OR( 36 <WEEKDAY(EOMONTH(N3,-1)+1,2), 36 >DAY(EOMONTH(N3,0))+WEEKDAY(EOMONTH(N3,-1)+1,3)),"", 36 -WEEKDAY(EOMONTH(N3,-1)+1,2)+1) | I9: =IF(OR( 37 <WEEKDAY(EOMONTH(N3,-1)+1,2), 37 >DAY(EOMONTH(N3,0))+WEEKDAY(EOMONTH(N3,-1)+1,3)),"", 37 -WEEKDAY(EOMONTH(N3,-1)+1,2)+1) | J9: =IF(OR( 38 <WEEKDAY(EOMONTH(N3,-1)+1,2), 38 >DAY(EOMONTH(N3,0))+WEEKDAY(EOMONTH(N3,-1)+1,3)),"", 38 -WEEKDAY(EOMONTH(N3,-1)+1,2)+1) | K9: =IF(OR( 39 <WEEKDAY(EOMONTH(N3,-1)+1,2), 39 >DAY(EOMONTH(N3,0))+WEEKDAY(EOMONTH(N3,-1)+1,3)),"", 39 -WEEKDAY(EOMONTH(N3,-1)+1,2)+1) | L9: =IF(OR( 40 <WEEKDAY(EOMONTH(N3,-1)+1,2), 40 >DAY(EOMONTH(N3,0))+WEEKDAY(EOMONTH(N3,-1)+1,3)),"", 40 -WEEKDAY(EOMONTH(N3,-1)+1,2)+1) | M9: =IF(OR( 41 <WEEKDAY(EOMONTH(N3,-1)+1,2), 41 >DAY(EOMONTH(N3,0))+WEEKDAY(EOMONTH(N3,-1)+1,3)),"", 41 -WEEKDAY(EOMONTH(N3,-1)+1,2)+1) | N9: =IF(OR( 42 <WEEKDAY(EOMONTH(N3,-1)+1,2), 42 >DAY(EOMONTH(N3,0))+WEEKDAY(EOMONTH(N3,-1)+1,3)),"", 42 -WEEKDAY(EOMONTH(N3,-1)+1,2)+1) | O9: =IF(OR( 36 <WEEKDAY(EOMONTH(U3,-1)+1,2), 36 >DAY(EOMONTH(U3,0))+WEEKDAY(EOMONTH(U3,-1)+1,3)),"", 36 -WEEKDAY(EOMONTH(U3,-1)+1,2)+1) -> 31 | P9: =IF(OR( 37 <WEEKDAY(EOMONTH(U3,-1)+1,2), 37 >DAY(EOMONTH(U3,0))+WEEKDAY(EOMONTH(U3,-1)+1,3)),"", 37 -WEEKDAY(EOMONTH(U3,-1)+1,2)+1) | Q9: =IF(OR( 38 <WEEKDAY(EOMONTH(U3,-1)+1,2), 38 >DAY(EOMONTH(U3,0))+WEEKDAY(EOMONTH(U3,-1)+1,3)),"", 38 -WEEKDAY(EOMONTH(U3,-1)+1,2)+1) | R9: =IF(OR( 39 <WEEKDAY(EOMONTH(U3,-1)+1,2), 39 >DAY(EOMONTH(U3,0))+WEEKDAY(EOMONTH(U3,-1)+1,3)),"", 39 -WEEKDAY(EOMONTH(U3,-1)+1,2)+1) | S9: =IF(OR( 40 <WEEKDAY(EOMONTH(U3,-1)+1,2), 40 >DAY(EOMONTH(U3,0))+WEEKDAY(EOMONTH(U3,-1)+1,3)),"", 40 -WEEKDAY(EOMONTH(U3,-1)+1,2)+1) | T9: =IF(OR( 41 <WEEKDAY(EOMONTH(U3,-1)+1,2), 41 >DAY(EOMONTH(U3,0))+WEEKDAY(EOMONTH(U3,-1)+1,3)),"", 41 -WEEKDAY(EOMONTH(U3,-1)+1,2)+1) | U9: =IF(OR( 42 <WEEKDAY(EOMONTH(U3,-1)+1,2), 42 >DAY(EOMONTH(U3,0))+WEEKDAY(EOMONTH(U3,-1)+1,3)),"", 42 -WEEKDAY(EOMONTH(U3,-1)+1,2)+1) | X9: 7 | Y9: Июль | Z9: 31 | AA9: =праздники!A9 -> 24.8 | AB9: =праздники!B9 -> 24 | AC9: =праздники!C9 -> 8 | AD9: =праздники!D9 -> 41875 | AE9: =праздники!E9 -> День независимости Украины | AF9: =праздники!F9 -> 0 | AG9: =праздники!G9 -> 0
B10: =VLOOKUP(MONTH( G10 ),месяцы,2) -> Апрель | G10: =DATE($A$1,4,1) -> 41730 | I10: =VLOOKUP(MONTH( N10 ),месяцы,2) -> Май | N10: =DATE($A$1,5,1) -> 41760 | P10: =VLOOKUP(MONTH( U10 ),месяцы,2) -> Июнь | U10: =DATE($A$1,6,1) -> 41791 | X10: 8 | Y10: Август | Z10: 31 | AA10: =праздники!A10 -> 20.4 | AB10: =праздники!B10 -> 20 | AC10: =праздники!C10 -> 4 | AD10: =праздники!D10 -> 41749 | AE10: =праздники!E10 -> Пасха | AF10: =праздники!F10 -> 0 | AG10: =праздники!G10 -> 0
A11: =IF(OR( 1 <WEEKDAY(EOMONTH(G10,-1)+1,2), 1 >DAY(EOMONTH(G10,0))+WEEKDAY(EOMONTH(G10,-1)+1,3)),"", 1 -WEEKDAY(EOMONTH(G10,-1)+1,2)+1) | B11: =IF(OR( 2 <WEEKDAY(EOMONTH(G10,-1)+1,2), 2 >DAY(EOMONTH(G10,0))+WEEKDAY(EOMONTH(G10,-1)+1,3)),"", 2 -WEEKDAY(EOMONTH(G10,-1)+1,2)+1) -> 1 | C11: =IF(OR( 3 <WEEKDAY(EOMONTH(G10,-1)+1,2), 3 >DAY(EOMONTH(G10,0))+WEEKDAY(EOMONTH(G10,-1)+1,3)),"", 3 -WEEKDAY(EOMONTH(G10,-1)+1,2)+1) -> 2 | D11: =IF(OR( 4 <WEEKDAY(EOMONTH(G10,-1)+1,2), 4 >DAY(EOMONTH(G10,0))+WEEKDAY(EOMONTH(G10,-1)+1,3)),"", 4 -WEEKDAY(EOMONTH(G10,-1)+1,2)+1) -> 3 | E11: =IF(OR( 5 <WEEKDAY(EOMONTH(G10,-1)+1,2), 5 >DAY(EOMONTH(G10,0))+WEEKDAY(EOMONTH(G10,-1)+1,3)),"", 5 -WEEKDAY(EOMONTH(G10,-1)+1,2)+1) -> 4 | F11: =IF(OR( 6 <WEEKDAY(EOMONTH(G10,-1)+1,2), 6 >DAY(EOMONTH(G10,0))+WEEKDAY(EOMONTH(G10,-1)+1,3)),"", 6 -WEEKDAY(EOMONTH(G10,-1)+1,2)+1) -> 5 | G11: =IF(OR( 7 <WEEKDAY(EOMONTH(G10,-1)+1,2), 7 >DAY(EOMONTH(G10,0))+WEEKDAY(EOMONTH(G10,-1)+1,3)),"", 7 -WEEKDAY(EOMONTH(G10,-1)+1,2)+1) -> 6 | H11: =IF(OR( 1 <WEEKDAY(EOMONTH(N10,-1)+1,2), 1 >DAY(EOMONTH(N10,0))+WEEKDAY(EOMONTH(N10,-1)+1,3)),"", 1 -WEEKDAY(EOMONTH(N10,-1)+1,2)+1) | I11: =IF(OR( 2 <WEEKDAY(EOMONTH(N10,-1)+1,2), 2 >DAY(EOMONTH(N10,0))+WEEKDAY(EOMONTH(N10,-1)+1,3)),"", 2 -WEEKDAY(EOMONTH(N10,-1)+1,2)+1) | J11: =IF(OR( 3 <WEEKDAY(EOMONTH(N10,-1)+1,2), 3 >DAY(EOMONTH(N10,0))+WEEKDAY(EOMONTH(N10,-1)+1,3)),"", 3 -WEEKDAY(EOMONTH(N10,-1)+1,2)+1) | K11: =IF(OR( 4 <WEEKDAY(EOMONTH(N10,-1)+1,2), 4 >DAY(EOMONTH(N10,0))+WEEKDAY(EOMONTH(N10,-1)+1,3)),"", 4 -WEEKDAY(EOMONTH(N10,-1)+1,2)+1) -> 1 | L11: =IF(OR( 5 <WEEKDAY(EOMONTH(N10,-1)+1,2), 5 >DAY(EOMONTH(N10,0))+WEEKDAY(EOMONTH(N10,-1)+1,3)),"", 5 -WEEKDAY(EOMONTH(N10,-1)+1,2)+1) -> 2 | M11: =IF(OR( 6 <WEEKDAY(EOMONTH(N10,-1)+1,2), 6 >DAY(EOMONTH(N10,0))+WEEKDAY(EOMONTH(N10,-1)+1,3)),"", 6 -WEEKDAY(EOMONTH(N10,-1)+1,2)+1) -> 3 | N11: =IF(OR( 7 <WEEKDAY(EOMONTH(N10,-1)+1,2), 7 >DAY(EOMONTH(N10,0))+WEEKDAY(EOMONTH(N10,-1)+1,3)),"", 7 -WEEKDAY(EOMONTH(N10,-1)+1,2)+1) -> 4 | O11: =IF(OR( 1 <WEEKDAY(EOMONTH(U10,-1)+1,2), 1 >DAY(EOMONTH(U10,0))+WEEKDAY(EOMONTH(U10,-1)+1,3)),"", 1 -WEEKDAY(EOMONTH(U10,-1)+1,2)+1) | P11: =IF(OR( 2 <WEEKDAY(EOMONTH(U10,-1)+1,2), 2 >DAY(EOMONTH(U10,0))+WEEKDAY(EOMONTH(U10,-1)+1,3)),"", 2 -WEEKDAY(EOMONTH(U10,-1)+1,2)+1) | Q11: =IF(OR( 3 <WEEKDAY(EOMONTH(U10,-1)+1,2), 3 >DAY(EOMONTH(U10,0))+WEEKDAY(EOMONTH(U10,-1)+1,3)),"", 3 -WEEKDAY(EOMONTH(U10,-1)+1,2)+1) | R11: =IF(OR( 4 <WEEKDAY(EOMONTH(U10,-1)+1,2), 4 >DAY(EOMONTH(U10,0))+WEEKDAY(EOMONTH(U10,-1)+1,3)),"", 4 -WEEKDAY(EOMONTH(U10,-1)+1,2)+1) | S11: =IF(OR( 5 <WEEKDAY(EOMONTH(U10,-1)+1,2), 5 >DAY(EOMONTH(U10,0))+WEEKDAY(EOMONTH(U10,-1)+1,3)),"", 5 -WEEKDAY(EOMONTH(U10,-1)+1,2)+1) | T11: =IF(OR( 6 <WEEKDAY(EOMONTH(U10,-1)+1,2), 6 >DAY(EOMONTH(U10,0))+WEEKDAY(EOMONTH(U10,-1)+1,3)),"", 6 -WEEKDAY(EOMONTH(U10,-1)+1,2)+1) | U11: =IF(OR( 7 <WEEKDAY(EOMONTH(U10,-1)+1,2), 7 >DAY(EOMONTH(U10,0))+WEEKDAY(EOMONTH(U10,-1)+1,3)),"", 7 -WEEKDAY(EOMONTH(U10,-1)+1,2)+1) -> 1 | X11: 9 | Y11: Сентябрь | Z11: 30 | AA11: =праздники!A11 -> 8.6 | AB11: =праздники!B11 -> 69 | AC11: =праздники!C11 -> 4 | AD11: =праздники!D11 -> 41798 | AE11: =праздники!E11 -> Троица | AF11: =праздники!F11 -> 0 | AG11: =праздники!G11 -> 0
A12: =IF(OR( 8 <WEEKDAY(EOMONTH(G10,-1)+1,2), 8 >DAY(EOMONTH(G10,0))+WEEKDAY(EOMONTH(G10,-1)+1,3)),"", 8 -WEEKDAY(EOMONTH(G10,-1)+1,2)+1) -> 7 | B12: =IF(OR( 9 <WEEKDAY(EOMONTH(G10,-1)+1,2), 9 >DAY(EOMONTH(G10,0))+WEEKDAY(EOMONTH(G10,-1)+1,3)),"", 9 -WEEKDAY(EOMONTH(G10,-1)+1,2)+1) -> 8 | C12: =IF(OR( 10 <WEEKDAY(EOMONTH(G10,-1)+1,2), 10 >DAY(EOMONTH(G10,0))+WEEKDAY(EOMONTH(G10,-1)+1,3)),"", 10 -WEEKDAY(EOMONTH(G10,-1)+1,2)+1) -> 9 | D12: =IF(OR( 11 <WEEKDAY(EOMONTH(G10,-1)+1,2), 11 >DAY(EOMONTH(G10,0))+WEEKDAY(EOMONTH(G10,-1)+1,3)),"", 11 -WEEKDAY(EOMONTH(G10,-1)+1,2)+1) -> 10 | E12: =IF(OR( 12 <WEEKDAY(EOMONTH(G10,-1)+1,2), 12 >DAY(EOMONTH(G10,0))+WEEKDAY(EOMONTH(G10,-1)+1,3)),"", 12 -WEEKDAY(EOMONTH(G10,-1)+1,2)+1) -> 11 | F12: =IF(OR( 13 <WEEKDAY(EOMONTH(G10,-1)+1,2), 13 >DAY(EOMONTH(G10,0))+WEEKDAY(EOMONTH(G10,-1)+1,3)),"", 13 -WEEKDAY(EOMONTH(G10,-1)+1,2)+1) -> 12 | G12: =IF(OR( 14 <WEEKDAY(EOMONTH(G10,-1)+1,2), 14 >DAY(EOMONTH(G10,0))+WEEKDAY(EOMONTH(G10,-1)+1,3)),"", 14 -WEEKDAY(EOMONTH(G10,-1)+1,2)+1) -> 13 | H12: =IF(OR( 8 <WEEKDAY(EOMONTH(N10,-1)+1,2), 8 >DAY(EOMONTH(N10,0))+WEEKDAY(EOMONTH(N10,-1)+1,3)),"", 8 -WEEKDAY(EOMONTH(N10,-1)+1,2)+1) -> 5 | I12: =IF(OR( 9 <WEEKDAY(EOMONTH(N10,-1)+1,2), 9 >DAY(EOMONTH(N10,0))+WEEKDAY(EOMONTH(N10,-1)+1,3)),"", 9 -WEEKDAY(EOMONTH(N10,-1)+1,2)+1) -> 6 | J12: =IF(OR( 10 <WEEKDAY(EOMONTH(N10,-1)+1,2), 10 >DAY(EOMONTH(N10,0))+WEEKDAY(EOMONTH(N10,-1)+1,3)),"", 10 -WEEKDAY(EOMONTH(N10,-1)+1,2)+1) -> 7 | K12: =IF(OR( 11 <WEEKDAY(EOMONTH(N10,-1)+1,2), 11 >DAY(EOMONTH(N10,0))+WEEKDAY(EOMONTH(N10,-1)+1,3)),"", 11 -WEEKDAY(EOMONTH(N10,-1)+1,2)+1) -> 8 | L12: =IF(OR( 12 <WEEKDAY(EOMONTH(N10,-1)+1,2), 12 >DAY(EOMONTH(N10,0))+WEEKDAY(EOMONTH(N10,-1)+1,3)),"", 12 -WEEKDAY(EOMONTH(N10,-1)+1,2)+1) -> 9 | M12: =IF(OR( 13 <WEEKDAY(EOMONTH(N10,-1)+1,2), 13 >DAY(EOMONTH(N10,0))+WEEKDAY(EOMONTH(N10,-1)+1,3)),"", 13 -WEEKDAY(EOMONTH(N10,-1)+1,2)+1) -> 10 | N12: =IF(OR( 14 <WEEKDAY(EOMONTH(N10,-1)+1,2), 14 >DAY(EOMONTH(N10,0))+WEEKDAY(EOMONTH(N10,-1)+1,3)),"", 14 -WEEKDAY(EOMONTH(N10,-1)+1,2)+1) -> 11 | O12: =IF(OR( 8 <WEEKDAY(EOMONTH(U10,-1)+1,2), 8 >DAY(EOMONTH(U10,0))+WEEKDAY(EOMONTH(U10,-1)+1,3)),"", 8 -WEEKDAY(EOMONTH(U10,-1)+1,2)+1) -> 2 | P12: =IF(OR( 9 <WEEKDAY(EOMONTH(U10,-1)+1,2), 9 >DAY(EOMONTH(U10,0))+WEEKDAY(EOMONTH(U10,-1)+1,3)),"", 9 -WEEKDAY(EOMONTH(U10,-1)+1,2)+1) -> 3 | Q12: =IF(OR( 10 <WEEKDAY(EOMONTH(U10,-1)+1,2), 10 >DAY(EOMONTH(U10,0))+WEEKDAY(EOMONTH(U10,-1)+1,3)),"", 10 -WEEKDAY(EOMONTH(U10,-1)+1,2)+1) -> 4 | R12: =IF(OR( 11 <WEEKDAY(EOMONTH(U10,-1)+1,2), 11 >DAY(EOMONTH(U10,0))+WEEKDAY(EOMONTH(U10,-1)+1,3)),"", 11 -WEEKDAY(EOMONTH(U10,-1)+1,2)+1) -> 5 | S12: =IF(OR( 12 <WEEKDAY(EOMONTH(U10,-1)+1,2), 12 >DAY(EOMONTH(U10,0))+WEEKDAY(EOMONTH(U10,-1)+1,3)),"", 12 -WEEKDAY(EOMONTH(U10,-1)+1,2)+1) -> 6 | T12: =IF(OR( 13 <WEEKDAY(EOMONTH(U10,-1)+1,2), 13 >DAY(EOMONTH(U10,0))+WEEKDAY(EOMONTH(U10,-1)+1,3)),"", 13 -WEEKDAY(EOMONTH(U10,-1)+1,2)+1) -> 7 | U12: =IF(OR( 14 <WEEKDAY(EOMONTH(U10,-1)+1,2), 14 >DAY(EOMONTH(U10,0))+WEEKDAY(EOMONTH(U10,-1)+1,3)),"", 14 -WEEKDAY(EOMONTH(U10,-1)+1,2)+1) -> 8 | X12: 10 | Y12: Октябрь | Z12: 31 | AA12: =праздники!A14 -> 0 | AB12: =праздники!B14 -> 0 | AC12: =праздники!C14 -> 0 | AD12: =праздники!D14 -> 0 | AE12: =праздники!E14 -> 0 | AF12: =праздники!F14 -> 0 | AG12: =праздники!G14 -> 0
A13: =IF(OR( 15 <WEEKDAY(EOMONTH(G10,-1)+1,2), 15 >DAY(EOMONTH(G10,0))+WEEKDAY(EOMONTH(G10,-1)+1,3)),"", 15 -WEEKDAY(EOMONTH(G10,-1)+1,2)+1) -> 14 | B13: =IF(OR( 16 <WEEKDAY(EOMONTH(G10,-1)+1,2), 16 >DAY(EOMONTH(G10,0))+WEEKDAY(EOMONTH(G10,-1)+1,3)),"", 16 -WEEKDAY(EOMONTH(G10,-1)+1,2)+1) -> 15 | C13: =IF(OR( 17 <WEEKDAY(EOMONTH(G10,-1)+1,2), 17 >DAY(EOMONTH(G10,0))+WEEKDAY(EOMONTH(G10,-1)+1,3)),"", 17 -WEEKDAY(EOMONTH(G10,-1)+1,2)+1) -> 16 | D13: =IF(OR( 18 <WEEKDAY(EOMONTH(G10,-1)+1,2), 18 >DAY(EOMONTH(G10,0))+WEEKDAY(EOMONTH(G10,-1)+1,3)),"", 18 -WEEKDAY(EOMONTH(G10,-1)+1,2)+1) -> 17 | E13: =IF(OR( 19 <WEEKDAY(EOMONTH(G10,-1)+1,2), 19 >DAY(EOMONTH(G10,0))+WEEKDAY(EOMONTH(G10,-1)+1,3)),"", 19 -WEEKDAY(EOMONTH(G10,-1)+1,2)+1) -> 18 | F13: =IF(OR( 20 <WEEKDAY(EOMONTH(G10,-1)+1,2), 20 >DAY(EOMONTH(G10,0))+WEEKDAY(EOMONTH(G10,-1)+1,3)),"", 20 -WEEKDAY(EOMONTH(G10,-1)+1,2)+1) -> 19 | G13: =IF(OR( 21 <WEEKDAY(EOMONTH(G10,-1)+1,2), 21 >DAY(EOMONTH(G10,0))+WEEKDAY(EOMONTH(G10,-1)+1,3)),"", 21 -WEEKDAY(EOMONTH(G10,-1)+1,2)+1) -> 20 | H13: =IF(OR( 15 <WEEKDAY(EOMONTH(N10,-1)+1,2), 15 >DAY(EOMONTH(N10,0))+WEEKDAY(EOMONTH(N10,-1)+1,3)),"", 15 -WEEKDAY(EOMONTH(N10,-1)+1,2)+1) -> 12 | I13: =IF(OR( 16 <WEEKDAY(EOMONTH(N10,-1)+1,2), 16 >DAY(EOMONTH(N10,0))+WEEKDAY(EOMONTH(N10,-1)+1,3)),"", 16 -WEEKDAY(EOMONTH(N10,-1)+1,2)+1) -> 13 | J13: =IF(OR( 17 <WEEKDAY(EOMONTH(N10,-1)+1,2), 17 >DAY(EOMONTH(N10,0))+WEEKDAY(EOMONTH(N10,-1)+1,3)),"", 17 -WEEKDAY(EOMONTH(N10,-1)+1,2)+1) -> 14 | K13: =IF(OR( 18 <WEEKDAY(EOMONTH(N10,-1)+1,2), 18 >DAY(EOMONTH(N10,0))+WEEKDAY(EOMONTH(N10,-1)+1,3)),"", 18 -WEEKDAY(EOMONTH(N10,-1)+1,2)+1) -> 15 | L13: =IF(OR( 19 <WEEKDAY(EOMONTH(N10,-1)+1,2), 19 >DAY(EOMONTH(N10,0))+WEEKDAY(EOMONTH(N10,-1)+1,3)),"", 19 -WEEKDAY(EOMONTH(N10,-1)+1,2)+1) -> 16 | M13: =IF(OR( 20 <WEEKDAY(EOMONTH(N10,-1)+1,2), 20 >DAY(EOMONTH(N10,0))+WEEKDAY(EOMONTH(N10,-1)+1,3)),"", 20 -WEEKDAY(EOMONTH(N10,-1)+1,2)+1) -> 17 | N13: =IF(OR( 21 <WEEKDAY(EOMONTH(N10,-1)+1,2), 21 >DAY(EOMONTH(N10,0))+WEEKDAY(EOMONTH(N10,-1)+1,3)),"", 21 -WEEKDAY(EOMONTH(N10,-1)+1,2)+1) -> 18 | O13: =IF(OR( 15 <WEEKDAY(EOMONTH(U10,-1)+1,2), 15 >DAY(EOMONTH(U10,0))+WEEKDAY(EOMONTH(U10,-1)+1,3)),"", 15 -WEEKDAY(EOMONTH(U10,-1)+1,2)+1) -> 9 | P13: =IF(OR( 16 <WEEKDAY(EOMONTH(U10,-1)+1,2), 16 >DAY(EOMONTH(U10,0))+WEEKDAY(EOMONTH(U10,-1)+1,3)),"", 16 -WEEKDAY(EOMONTH(U10,-1)+1,2)+1) -> 10 | Q13: =IF(OR( 17 <WEEKDAY(EOMONTH(U10,-1)+1,2), 17 >DAY(EOMONTH(U10,0))+WEEKDAY(EOMONTH(U10,-1)+1,3)),"", 17 -WEEKDAY(EOMONTH(U10,-1)+1,2)+1) -> 11 | R13: =IF(OR( 18 <WEEKDAY(EOMONTH(U10,-1)+1,2), 18 >DAY(EOMONTH(U10,0))+WEEKDAY(EOMONTH(U10,-1)+1,3)),"", 18 -WEEKDAY(EOMONTH(U10,-1)+1,2)+1) -> 12 | S13: =IF(OR( 19 <WEEKDAY(EOMONTH(U10,-1)+1,2), 19 >DAY(EOMONTH(U10,0))+WEEKDAY(EOMONTH(U10,-1)+1,3)),"", 19 -WEEKDAY(EOMONTH(U10,-1)+1,2)+1) -> 13 | T13: =IF(OR( 20 <WEEKDAY(EOMONTH(U10,-1)+1,2), 20 >DAY(EOMONTH(U10,0))+WEEKDAY(EOMONTH(U10,-1)+1,3)),"", 20 -WEEKDAY(EOMONTH(U10,-1)+1,2)+1) -> 14 | U13: =IF(OR( 21 <WEEKDAY(EOMONTH(U10,-1)+1,2), 21 >DAY(EOMONTH(U10,0))+WEEKDAY(EOMONTH(U10,-1)+1,3)),"", 21 -WEEKDAY(EOMONTH(U10,-1)+1,2)+1) -> 15 | X13: 11 | Y13: Ноябрь | Z13: 30 | AA13: =праздники!A15 -> 0 | AB13: =праздники!B15 -> 0 | AC13: =праздники!C15 -> 0 | AD13: =праздники!D15 -> 0 | AE13: =праздники!E15 -> Переносы | AF13: =праздники!F15 -> 0 | AG13: =праздники!G15 -> 0
A14: =IF(OR( 22 <WEEKDAY(EOMONTH(G10,-1)+1,2), 22 >DAY(EOMONTH(G10,0))+WEEKDAY(EOMONTH(G10,-1)+1,3)),"", 22 -WEEKDAY(EOMONTH(G10,-1)+1,2)+1) -> 21 | B14: =IF(OR( 23 <WEEKDAY(EOMONTH(G10,-1)+1,2), 23 >DAY(EOMONTH(G10,0))+WEEKDAY(EOMONTH(G10,-1)+1,3)),"", 23 -WEEKDAY(EOMONTH(G10,-1)+1,2)+1) -> 22 | C14: =IF(OR( 24 <WEEKDAY(EOMONTH(G10,-1)+1,2), 24 >DAY(EOMONTH(G10,0))+WEEKDAY(EOMONTH(G10,-1)+1,3)),"", 24 -WEEKDAY(EOMONTH(G10,-1)+1,2)+1) -> 23 | D14: =IF(OR( 25 <WEEKDAY(EOMONTH(G10,-1)+1,2), 25 >DAY(EOMONTH(G10,0))+WEEKDAY(EOMONTH(G10,-1)+1,3)),"", 25 -WEEKDAY(EOMONTH(G10,-1)+1,2)+1) -> 24 | E14: =IF(OR( 26 <WEEKDAY(EOMONTH(G10,-1)+1,2), 26 >DAY(EOMONTH(G10,0))+WEEKDAY(EOMONTH(G10,-1)+1,3)),"", 26 -WEEKDAY(EOMONTH(G10,-1)+1,2)+1) -> 25 | F14: =IF(OR( 27 <WEEKDAY(EOMONTH(G10,-1)+1,2), 27 >DAY(EOMONTH(G10,0))+WEEKDAY(EOMONTH(G10,-1)+1,3)),"", 27 -WEEKDAY(EOMONTH(G10,-1)+1,2)+1) -> 26 | G14: =IF(OR( 28 <WEEKDAY(EOMONTH(G10,-1)+1,2), 28 >DAY(EOMONTH(G10,0))+WEEKDAY(EOMONTH(G10,-1)+1,3)),"", 28 -WEEKDAY(EOMONTH(G10,-1)+1,2)+1) -> 27 | H14: =IF(OR( 22 <WEEKDAY(EOMONTH(N10,-1)+1,2), 22 >DAY(EOMONTH(N10,0))+WEEKDAY(EOMONTH(N10,-1)+1,3)),"", 22 -WEEKDAY(EOMONTH(N10,-1)+1,2)+1) -> 19 | I14: =IF(OR( 23 <WEEKDAY(EOMONTH(N10,-1)+1,2), 23 >DAY(EOMONTH(N10,0))+WEEKDAY(EOMONTH(N10,-1)+1,3)),"", 23 -WEEKDAY(EOMONTH(N10,-1)+1,2)+1) -> 20 | J14: =IF(OR( 24 <WEEKDAY(EOMONTH(N10,-1)+1,2), 24 >DAY(EOMONTH(N10,0))+WEEKDAY(EOMONTH(N10,-1)+1,3)),"", 24 -WEEKDAY(EOMONTH(N10,-1)+1,2)+1) -> 21 | K14: =IF(OR( 25 <WEEKDAY(EOMONTH(N10,-1)+1,2), 25 >DAY(EOMONTH(N10,0))+WEEKDAY(EOMONTH(N10,-1)+1,3)),"", 25 -WEEKDAY(EOMONTH(N10,-1)+1,2)+1) -> 22 | L14: =IF(OR( 26 <WEEKDAY(EOMONTH(N10,-1)+1,2), 26 >DAY(EOMONTH(N10,0))+WEEKDAY(EOMONTH(N10,-1)+1,3)),"", 26 -WEEKDAY(EOMONTH(N10,-1)+1,2)+1) -> 23 | M14: =IF(OR( 27 <WEEKDAY(EOMONTH(N10,-1)+1,2), 27 >DAY(EOMONTH(N10,0))+WEEKDAY(EOMONTH(N10,-1)+1,3)),"", 27 -WEEKDAY(EOMONTH(N10,-1)+1,2)+1) -> 24 | N14: =IF(OR( 28 <WEEKDAY(EOMONTH(N10,-1)+1,2), 28 >DAY(EOMONTH(N10,0))+WEEKDAY(EOMONTH(N10,-1)+1,3)),"", 28 -WEEKDAY(EOMONTH(N10,-1)+1,2)+1) -> 25 | O14: =IF(OR( 22 <WEEKDAY(EOMONTH(U10,-1)+1,2), 22 >DAY(EOMONTH(U10,0))+WEEKDAY(EOMONTH(U10,-1)+1,3)),"", 22 -WEEKDAY(EOMONTH(U10,-1)+1,2)+1) -> 16 | P14: =IF(OR( 23 <WEEKDAY(EOMONTH(U10,-1)+1,2), 23 >DAY(EOMONTH(U10,0))+WEEKDAY(EOMONTH(U10,-1)+1,3)),"", 23 -WEEKDAY(EOMONTH(U10,-1)+1,2)+1) -> 17 | Q14: =IF(OR( 24 <WEEKDAY(EOMONTH(U10,-1)+1,2), 24 >DAY(EOMONTH(U10,0))+WEEKDAY(EOMONTH(U10,-1)+1,3)),"", 24 -WEEKDAY(EOMONTH(U10,-1)+1,2)+1) -> 18 | R14: =IF(OR( 25 <WEEKDAY(EOMONTH(U10,-1)+1,2), 25 >DAY(EOMONTH(U10,0))+WEEKDAY(EOMONTH(U10,-1)+1,3)),"", 25 -WEEKDAY(EOMONTH(U10,-1)+1,2)+1) -> 19 | S14: =IF(OR( 26 <WEEKDAY(EOMONTH(U10,-1)+1,2), 26 >DAY(EOMONTH(U10,0))+WEEKDAY(EOMONTH(U10,-1)+1,3)),"", 26 -WEEKDAY(EOMONTH(U10,-1)+1,2)+1) -> 20 | T14: =IF(OR( 27 <WEEKDAY(EOMONTH(U10,-1)+1,2), 27 >DAY(EOMONTH(U10,0))+WEEKDAY(EOMONTH(U10,-1)+1,3)),"", 27 -WEEKDAY(EOMONTH(U10,-1)+1,2)+1) -> 21 | U14: =IF(OR( 28 <WEEKDAY(EOMONTH(U10,-1)+1,2), 28 >DAY(EOMONTH(U10,0))+WEEKDAY(EOMONTH(U10,-1)+1,3)),"", 28 -WEEKDAY(EOMONTH(U10,-1)+1,2)+1) -> 22 | X14: 12 | Y14: Декабрь | Z14: 31 | AA14: =праздники!A16 | AB14: =праздники!B16 -> 0 | AC14: =праздники!C16 -> 0 | AD14: =праздники!D16 | AE14: =праздники!E16 -> Новый год | AF14: =праздники!F16 -> 0 | AG14: =праздники!G16 -> 0
A15: =IF(OR( 29 <WEEKDAY(EOMONTH(G10,-1)+1,2), 29 >DAY(EOMONTH(G10,0))+WEEKDAY(EOMONTH(G10,-1)+1,3)),"", 29 -WEEKDAY(EOMONTH(G10,-1)+1,2)+1) -> 28 | B15: =IF(OR( 30 <WEEKDAY(EOMONTH(G10,-1)+1,2), 30 >DAY(EOMONTH(G10,0))+WEEKDAY(EOMONTH(G10,-1)+1,3)),"", 30 -WEEKDAY(EOMONTH(G10,-1)+1,2)+1) -> 29 | C15: =IF(OR( 31 <WEEKDAY(EOMONTH(G10,-1)+1,2), 31 >DAY(EOMONTH(G10,0))+WEEKDAY(EOMONTH(G10,-1)+1,3)),"", 31 -WEEKDAY(EOMONTH(G10,-1)+1,2)+1) -> 30 | D15: =IF(OR( 32 <WEEKDAY(EOMONTH(G10,-1)+1,2), 32 >DAY(EOMONTH(G10,0))+WEEKDAY(EOMONTH(G10,-1)+1,3)),"", 32 -WEEKDAY(EOMONTH(G10,-1)+1,2)+1) | E15: =IF(OR( 33 <WEEKDAY(EOMONTH(G10,-1)+1,2), 33 >DAY(EOMONTH(G10,0))+WEEKDAY(EOMONTH(G10,-1)+1,3)),"", 33 -WEEKDAY(EOMONTH(G10,-1)+1,2)+1) | F15: =IF(OR( 34 <WEEKDAY(EOMONTH(G10,-1)+1,2), 34 >DAY(EOMONTH(G10,0))+WEEKDAY(EOMONTH(G10,-1)+1,3)),"", 34 -WEEKDAY(EOMONTH(G10,-1)+1,2)+1) | G15: =IF(OR( 35 <WEEKDAY(EOMONTH(G10,-1)+1,2), 35 >DAY(EOMONTH(G10,0))+WEEKDAY(EOMONTH(G10,-1)+1,3)),"", 35 -WEEKDAY(EOMONTH(G10,-1)+1,2)+1) | H15: =IF(OR( 29 <WEEKDAY(EOMONTH(N10,-1)+1,2), 29 >DAY(EOMONTH(N10,0))+WEEKDAY(EOMONTH(N10,-1)+1,3)),"", 29 -WEEKDAY(EOMONTH(N10,-1)+1,2)+1) -> 26 | I15: =IF(OR( 30 <WEEKDAY(EOMONTH(N10,-1)+1,2), 30 >DAY(EOMONTH(N10,0))+WEEKDAY(EOMONTH(N10,-1)+1,3)),"", 30 -WEEKDAY(EOMONTH(N10,-1)+1,2)+1) -> 27 | J15: =IF(OR( 31 <WEEKDAY(EOMONTH(N10,-1)+1,2), 31 >DAY(EOMONTH(N10,0))+WEEKDAY(EOMONTH(N10,-1)+1,3)),"", 31 -WEEKDAY(EOMONTH(N10,-1)+1,2)+1) -> 28 | K15: =IF(OR( 32 <WEEKDAY(EOMONTH(N10,-1)+1,2), 32 >DAY(EOMONTH(N10,0))+WEEKDAY(EOMONTH(N10,-1)+1,3)),"", 32 -WEEKDAY(EOMONTH(N10,-1)+1,2)+1) -> 29 | L15: =IF(OR( 33 <WEEKDAY(EOMONTH(N10,-1)+1,2), 33 >DAY(EOMONTH(N10,0))+WEEKDAY(EOMONTH(N10,-1)+1,3)),"", 33 -WEEKDAY(EOMONTH(N10,-1)+1,2)+1) -> 30 | M15: =IF(OR( 34 <WEEKDAY(EOMONTH(N10,-1)+1,2), 34 >DAY(EOMONTH(N10,0))+WEEKDAY(EOMONTH(N10,-1)+1,3)),"", 34 -WEEKDAY(EOMONTH(N10,-1)+1,2)+1) -> 31 | N15: =IF(OR( 35 <WEEKDAY(EOMONTH(N10,-1)+1,2), 35 >DAY(EOMONTH(N10,0))+WEEKDAY(EOMONTH(N10,-1)+1,3)),"", 35 -WEEKDAY(EOMONTH(N10,-1)+1,2)+1) | O15: =IF(OR( 29 <WEEKDAY(EOMONTH(U10,-1)+1,2), 29 >DAY(EOMONTH(U10,0))+WEEKDAY(EOMONTH(U10,-1)+1,3)),"", 29 -WEEKDAY(EOMONTH(U10,-1)+1,2)+1) -> 23 | P15: =IF(OR( 30 <WEEKDAY(EOMONTH(U10,-1)+1,2), 30 >DAY(EOMONTH(U10,0))+WEEKDAY(EOMONTH(U10,-1)+1,3)),"", 30 -WEEKDAY(EOMONTH(U10,-1)+1,2)+1) -> 24 | Q15: =IF(OR( 31 <WEEKDAY(EOMONTH(U10,-1)+1,2), 31 >DAY(EOMONTH(U10,0))+WEEKDAY(EOMONTH(U10,-1)+1,3)),"", 31 -WEEKDAY(EOMONTH(U10,-1)+1,2)+1) -> 25 | R15: =IF(OR( 32 <WEEKDAY(EOMONTH(U10,-1)+1,2), 32 >DAY(EOMONTH(U10,0))+WEEKDAY(EOMONTH(U10,-1)+1,3)),"", 32 -WEEKDAY(EOMONTH(U10,-1)+1,2)+1) -> 26 | S15: =IF(OR( 33 <WEEKDAY(EOMONTH(U10,-1)+1,2), 33 >DAY(EOMONTH(U10,0))+WEEKDAY(EOMONTH(U10,-1)+1,3)),"", 33 -WEEKDAY(EOMONTH(U10,-1)+1,2)+1) -> 27 | T15: =IF(OR( 34 <WEEKDAY(EOMONTH(U10,-1)+1,2), 34 >DAY(EOMONTH(U10,0))+WEEKDAY(EOMONTH(U10,-1)+1,3)),"", 34 -WEEKDAY(EOMONTH(U10,-1)+1,2)+1) -> 28 | U15: =IF(OR( 35 <WEEKDAY(EOMONTH(U10,-1)+1,2), 35 >DAY(EOMONTH(U10,0))+WEEKDAY(EOMONTH(U10,-1)+1,3)),"", 35 -WEEKDAY(EOMONTH(U10,-1)+1,2)+1) -> 29 | AA15: =праздники!A17 | AB15: =праздники!B17 -> 0 | AC15: =праздники!C17 -> 0 | AD15: =праздники!D17 | AE15: =праздники!E17 -> Рождество Христово | AF15: =праздники!F17 -> 0 | AG15: =праздники!G17 -> 0
A16: =IF(OR( 36 <WEEKDAY(EOMONTH(G10,-1)+1,2), 36 >DAY(EOMONTH(G10,0))+WEEKDAY(EOMONTH(G10,-1)+1,3)),"", 36 -WEEKDAY(EOMONTH(G10,-1)+1,2)+1) | B16: =IF(OR( 37 <WEEKDAY(EOMONTH(G10,-1)+1,2), 37 >DAY(EOMONTH(G10,0))+WEEKDAY(EOMONTH(G10,-1)+1,3)),"", 37 -WEEKDAY(EOMONTH(G10,-1)+1,2)+1) | C16: =IF(OR( 38 <WEEKDAY(EOMONTH(G10,-1)+1,2), 38 >DAY(EOMONTH(G10,0))+WEEKDAY(EOMONTH(G10,-1)+1,3)),"", 38 -WEEKDAY(EOMONTH(G10,-1)+1,2)+1) | D16: =IF(OR( 39 <WEEKDAY(EOMONTH(G10,-1)+1,2), 39 >DAY(EOMONTH(G10,0))+WEEKDAY(EOMONTH(G10,-1)+1,3)),"", 39 -WEEKDAY(EOMONTH(G10,-1)+1,2)+1) | E16: =IF(OR( 40 <WEEKDAY(EOMONTH(G10,-1)+1,2), 40 >DAY(EOMONTH(G10,0))+WEEKDAY(EOMONTH(G10,-1)+1,3)),"", 40 -WEEKDAY(EOMONTH(G10,-1)+1,2)+1) | F16: =IF(OR( 41 <WEEKDAY(EOMONTH(G10,-1)+1,2), 41 >DAY(EOMONTH(G10,0))+WEEKDAY(EOMONTH(G10,-1)+1,3)),"", 41 -WEEKDAY(EOMONTH(G10,-1)+1,2)+1) | G16: =IF(OR( 42 <WEEKDAY(EOMONTH(G10,-1)+1,2), 42 >DAY(EOMONTH(G10,0))+WEEKDAY(EOMONTH(G10,-1)+1,3)),"", 42 -WEEKDAY(EOMONTH(G10,-1)+1,2)+1) | H16: =IF(OR( 36 <WEEKDAY(EOMONTH(N10,-1)+1,2), 36 >DAY(EOMONTH(N10,0))+WEEKDAY(EOMONTH(N10,-1)+1,3)),"", 36 -WEEKDAY(EOMONTH(N10,-1)+1,2)+1) | I16: =IF(OR( 37 <WEEKDAY(EOMONTH(N10,-1)+1,2), 37 >DAY(EOMONTH(N10,0))+WEEKDAY(EOMONTH(N10,-1)+1,3)),"", 37 -WEEKDAY(EOMONTH(N10,-1)+1,2)+1) | J16: =IF(OR( 38 <WEEKDAY(EOMONTH(N10,-1)+1,2), 38 >DAY(EOMONTH(N10,0))+WEEKDAY(EOMONTH(N10,-1)+1,3)),"", 38 -WEEKDAY(EOMONTH(N10,-1)+1,2)+1) | K16: =IF(OR( 39 <WEEKDAY(EOMONTH(N10,-1)+1,2), 39 >DAY(EOMONTH(N10,0))+WEEKDAY(EOMONTH(N10,-1)+1,3)),"", 39 -WEEKDAY(EOMONTH(N10,-1)+1,2)+1) | L16: =IF(OR( 40 <WEEKDAY(EOMONTH(N10,-1)+1,2), 40 >DAY(EOMONTH(N10,0))+WEEKDAY(EOMONTH(N10,-1)+1,3)),"", 40 -WEEKDAY(EOMONTH(N10,-1)+1,2)+1) | M16: =IF(OR( 41 <WEEKDAY(EOMONTH(N10,-1)+1,2), 41 >DAY(EOMONTH(N10,0))+WEEKDAY(EOMONTH(N10,-1)+1,3)),"", 41 -WEEKDAY(EOMONTH(N10,-1)+1,2)+1) | N16: =IF(OR( 42 <WEEKDAY(EOMONTH(N10,-1)+1,2), 42 >DAY(EOMONTH(N10,0))+WEEKDAY(EOMONTH(N10,-1)+1,3)),"", 42 -WEEKDAY(EOMONTH(N10,-1)+1,2)+1) | O16: =IF(OR( 36 <WEEKDAY(EOMONTH(U10,-1)+1,2), 36 >DAY(EOMONTH(U10,0))+WEEKDAY(EOMONTH(U10,-1)+1,3)),"", 36 -WEEKDAY(EOMONTH(U10,-1)+1,2)+1) -> 30 | P16: =IF(OR( 37 <WEEKDAY(EOMONTH(U10,-1)+1,2), 37 >DAY(EOMONTH(U10,0))+WEEKDAY(EOMONTH(U10,-1)+1,3)),"", 37 -WEEKDAY(EOMONTH(U10,-1)+1,2)+1) | Q16: =IF(OR( 38 <WEEKDAY(EOMONTH(U10,-1)+1,2), 38 >DAY(EOMONTH(U10,0))+WEEKDAY(EOMONTH(U10,-1)+1,3)),"", 38 -WEEKDAY(EOMONTH(U10,-1)+1,2)+1) | R16: =IF(OR( 39 <WEEKDAY(EOMONTH(U10,-1)+1,2), 39 >DAY(EOMONTH(U10,0))+WEEKDAY(EOMONTH(U10,-1)+1,3)),"", 39 -WEEKDAY(EOMONTH(U10,-1)+1,2)+1) | S16: =IF(OR( 40 <WEEKDAY(EOMONTH(U10,-1)+1,2), 40 >DAY(EOMONTH(U10,0))+WEEKDAY(EOMONTH(U10,-1)+1,3)),"", 40 -WEEKDAY(EOMONTH(U10,-1)+1,2)+1) | T16: =IF(OR( 41 <WEEKDAY(EOMONTH(U10,-1)+1,2), 41 >DAY(EOMONTH(U10,0))+WEEKDAY(EOMONTH(U10,-1)+1,3)),"", 41 -WEEKDAY(EOMONTH(U10,-1)+1,2)+1) | U16: =IF(OR( 42 <WEEKDAY(EOMONTH(U10,-1)+1,2), 42 >DAY(EOMONTH(U10,0))+WEEKDAY(EOMONTH(U10,-1)+1,3)),"", 42 -WEEKDAY(EOMONTH(U10,-1)+1,2)+1) | AA16: =праздники!A18 -> 10.3 | AB16: =праздники!B18 -> 0 | AC16: =праздники!C18 -> 0 | AD16: =праздники!D18 -> 41708 | AE16: =праздники!E18 -> Женский день | AF16: =праздники!F18 -> 0 | AG16: =праздники!G18 -> 0
B17: =VLOOKUP(MONTH( G17 ),месяцы,2) -> Июль | G17: =DATE($A$1,7,1) -> 41821 | I17: =VLOOKUP(MONTH( N17 ),месяцы,2) -> Август | N17: =DATE($A$1,8,1) -> 41852 | P17: =VLOOKUP(MONTH( U17 ),месяцы,2) -> Сентябрь | U17: =DATE($A$1,9,1) -> 41883 | AA17: =праздники!A19 | AB17: =праздники!B19 -> 0 | AC17: =праздники!C19 -> 0 | AD17: =праздники!D19 | AE17: =праздники!E19 -> День солидарности трудящихся | AF17: =праздники!F19 -> 0 | AG17: =праздники!G19 -> 0
A18: =IF(OR( 1 <WEEKDAY(EOMONTH(G17,-1)+1,2), 1 >DAY(EOMONTH(G17,0))+WEEKDAY(EOMONTH(G17,-1)+1,3)),"", 1 -WEEKDAY(EOMONTH(G17,-1)+1,2)+1) | B18: =IF(OR( 2 <WEEKDAY(EOMONTH(G17,-1)+1,2), 2 >DAY(EOMONTH(G17,0))+WEEKDAY(EOMONTH(G17,-1)+1,3)),"", 2 -WEEKDAY(EOMONTH(G17,-1)+1,2)+1) -> 1 | C18: =IF(OR( 3 <WEEKDAY(EOMONTH(G17,-1)+1,2), 3 >DAY(EOMONTH(G17,0))+WEEKDAY(EOMONTH(G17,-1)+1,3)),"", 3 -WEEKDAY(EOMONTH(G17,-1)+1,2)+1) -> 2 | D18: =IF(OR( 4 <WEEKDAY(EOMONTH(G17,-1)+1,2), 4 >DAY(EOMONTH(G17,0))+WEEKDAY(EOMONTH(G17,-1)+1,3)),"", 4 -WEEKDAY(EOMONTH(G17,-1)+1,2)+1) -> 3 | E18: =IF(OR( 5 <WEEKDAY(EOMONTH(G17,-1)+1,2), 5 >DAY(EOMONTH(G17,0))+WEEKDAY(EOMONTH(G17,-1)+1,3)),"", 5 -WEEKDAY(EOMONTH(G17,-1)+1,2)+1) -> 4 | F18: =IF(OR( 6 <WEEKDAY(EOMONTH(G17,-1)+1,2), 6 >DAY(EOMONTH(G17,0))+WEEKDAY(EOMONTH(G17,-1)+1,3)),"", 6 -WEEKDAY(EOMONTH(G17,-1)+1,2)+1) -> 5 | G18: =IF(OR( 7 <WEEKDAY(EOMONTH(G17,-1)+1,2), 7 >DAY(EOMONTH(G17,0))+WEEKDAY(EOMONTH(G17,-1)+1,3)),"", 7 -WEEKDAY(EOMONTH(G17,-1)+1,2)+1) -> 6 | H18: =IF(OR( 1 <WEEKDAY(EOMONTH(N17,-1)+1,2), 1 >DAY(EOMONTH(N17,0))+WEEKDAY(EOMONTH(N17,-1)+1,3)),"", 1 -WEEKDAY(EOMONTH(N17,-1)+1,2)+1) | I18: =IF(OR( 2 <WEEKDAY(EOMONTH(N17,-1)+1,2), 2 >DAY(EOMONTH(N17,0))+WEEKDAY(EOMONTH(N17,-1)+1,3)),"", 2 -WEEKDAY(EOMONTH(N17,-1)+1,2)+1) | J18: =IF(OR( 3 <WEEKDAY(EOMONTH(N17,-1)+1,2), 3 >DAY(EOMONTH(N17,0))+WEEKDAY(EOMONTH(N17,-1)+1,3)),"", 3 -WEEKDAY(EOMONTH(N17,-1)+1,2)+1) | K18: =IF(OR( 4 <WEEKDAY(EOMONTH(N17,-1)+1,2), 4 >DAY(EOMONTH(N17,0))+WEEKDAY(EOMONTH(N17,-1)+1,3)),"", 4 -WEEKDAY(EOMONTH(N17,-1)+1,2)+1) | L18: =IF(OR( 5 <WEEKDAY(EOMONTH(N17,-1)+1,2), 5 >DAY(EOMONTH(N17,0))+WEEKDAY(EOMONTH(N17,-1)+1,3)),"", 5 -WEEKDAY(EOMONTH(N17,-1)+1,2)+1) -> 1 | M18: =IF(OR( 6 <WEEKDAY(EOMONTH(N17,-1)+1,2), 6 >DAY(EOMONTH(N17,0))+WEEKDAY(EOMONTH(N17,-1)+1,3)),"", 6 -WEEKDAY(EOMONTH(N17,-1)+1,2)+1) -> 2 | N18: =IF(OR( 7 <WEEKDAY(EOMONTH(N17,-1)+1,2), 7 >DAY(EOMONTH(N17,0))+WEEKDAY(EOMONTH(N17,-1)+1,3)),"", 7 -WEEKDAY(EOMONTH(N17,-1)+1,2)+1) -> 3 | O18: =IF(OR( 1 <WEEKDAY(EOMONTH(U17,-1)+1,2), 1 >DAY(EOMONTH(U17,0))+WEEKDAY(EOMONTH(U17,-1)+1,3)),"", 1 -WEEKDAY(EOMONTH(U17,-1)+1,2)+1) -> 1 | P18: =IF(OR( 2 <WEEKDAY(EOMONTH(U17,-1)+1,2), 2 >DAY(EOMONTH(U17,0))+WEEKDAY(EOMONTH(U17,-1)+1,3)),"", 2 -WEEKDAY(EOMONTH(U17,-1)+1,2)+1) -> 2 | Q18: =IF(OR( 3 <WEEKDAY(EOMONTH(U17,-1)+1,2), 3 >DAY(EOMONTH(U17,0))+WEEKDAY(EOMONTH(U17,-1)+1,3)),"", 3 -WEEKDAY(EOMONTH(U17,-1)+1,2)+1) -> 3 | R18: =IF(OR( 4 <WEEKDAY(EOMONTH(U17,-1)+1,2), 4 >DAY(EOMONTH(U17,0))+WEEKDAY(EOMONTH(U17,-1)+1,3)),"", 4 -WEEKDAY(EOMONTH(U17,-1)+1,2)+1) -> 4 | S18: =IF(OR( 5 <WEEKDAY(EOMONTH(U17,-1)+1,2), 5 >DAY(EOMONTH(U17,0))+WEEKDAY(EOMONTH(U17,-1)+1,3)),"", 5 -WEEKDAY(EOMONTH(U17,-1)+1,2)+1) -> 5 | T18: =IF(OR( 6 <WEEKDAY(EOMONTH(U17,-1)+1,2), 6 >DAY(EOMONTH(U17,0))+WEEKDAY(EOMONTH(U17,-1)+1,3)),"", 6 -WEEKDAY(EOMONTH(U17,-1)+1,2)+1) -> 6 | U18: =IF(OR( 7 <WEEKDAY(EOMONTH(U17,-1)+1,2), 7 >DAY(EOMONTH(U17,0))+WEEKDAY(EOMONTH(U17,-1)+1,3)),"", 7 -WEEKDAY(EOMONTH(U17,-1)+1,2)+1) -> 7 | AA18: =праздники!A20 | AB18: =праздники!B20 -> 0 | AC18: =праздники!C20 -> 0 | AD18: =праздники!D20 | AE18: =праздники!E20 -> День солидарности трудящихся | AF18: =праздники!F20 -> 0 | AG18: =праздники!G20 -> 0
A19: =IF(OR( 8 <WEEKDAY(EOMONTH(G17,-1)+1,2), 8 >DAY(EOMONTH(G17,0))+WEEKDAY(EOMONTH(G17,-1)+1,3)),"", 8 -WEEKDAY(EOMONTH(G17,-1)+1,2)+1) -> 7 | B19: =IF(OR( 9 <WEEKDAY(EOMONTH(G17,-1)+1,2), 9 >DAY(EOMONTH(G17,0))+WEEKDAY(EOMONTH(G17,-1)+1,3)),"", 9 -WEEKDAY(EOMONTH(G17,-1)+1,2)+1) -> 8 | C19: =IF(OR( 10 <WEEKDAY(EOMONTH(G17,-1)+1,2), 10 >DAY(EOMONTH(G17,0))+WEEKDAY(EOMONTH(G17,-1)+1,3)),"", 10 -WEEKDAY(EOMONTH(G17,-1)+1,2)+1) -> 9 | D19: =IF(OR( 11 <WEEKDAY(EOMONTH(G17,-1)+1,2), 11 >DAY(EOMONTH(G17,0))+WEEKDAY(EOMONTH(G17,-1)+1,3)),"", 11 -WEEKDAY(EOMONTH(G17,-1)+1,2)+1) -> 10 | E19: =IF(OR( 12 <WEEKDAY(EOMONTH(G17,-1)+1,2), 12 >DAY(EOMONTH(G17,0))+WEEKDAY(EOMONTH(G17,-1)+1,3)),"", 12 -WEEKDAY(EOMONTH(G17,-1)+1,2)+1) -> 11 | F19: =IF(OR( 13 <WEEKDAY(EOMONTH(G17,-1)+1,2), 13 >DAY(EOMONTH(G17,0))+WEEKDAY(EOMONTH(G17,-1)+1,3)),"", 13 -WEEKDAY(EOMONTH(G17,-1)+1,2)+1) -> 12 | G19: =IF(OR( 14 <WEEKDAY(EOMONTH(G17,-1)+1,2), 14 >DAY(EOMONTH(G17,0))+WEEKDAY(EOMONTH(G17,-1)+1,3)),"", 14 -WEEKDAY(EOMONTH(G17,-1)+1,2)+1) -> 13 | H19: =IF(OR( 8 <WEEKDAY(EOMONTH(N17,-1)+1,2), 8 >DAY(EOMONTH(N17,0))+WEEKDAY(EOMONTH(N17,-1)+1,3)),"", 8 -WEEKDAY(EOMONTH(N17,-1)+1,2)+1) -> 4 | I19: =IF(OR( 9 <WEEKDAY(EOMONTH(N17,-1)+1,2), 9 >DAY(EOMONTH(N17,0))+WEEKDAY(EOMONTH(N17,-1)+1,3)),"", 9 -WEEKDAY(EOMONTH(N17,-1)+1,2)+1) -> 5 | J19: =IF(OR( 10 <WEEKDAY(EOMONTH(N17,-1)+1,2), 10 >DAY(EOMONTH(N17,0))+WEEKDAY(EOMONTH(N17,-1)+1,3)),"", 10 -WEEKDAY(EOMONTH(N17,-1)+1,2)+1) -> 6 | K19: =IF(OR( 11 <WEEKDAY(EOMONTH(N17,-1)+1,2), 11 >DAY(EOMONTH(N17,0))+WEEKDAY(EOMONTH(N17,-1)+1,3)),"", 11 -WEEKDAY(EOMONTH(N17,-1)+1,2)+1) -> 7 | L19: =IF(OR( 12 <WEEKDAY(EOMONTH(N17,-1)+1,2), 12 >DAY(EOMONTH(N17,0))+WEEKDAY(EOMONTH(N17,-1)+1,3)),"", 12 -WEEKDAY(EOMONTH(N17,-1)+1,2)+1) -> 8 | M19: =IF(OR( 13 <WEEKDAY(EOMONTH(N17,-1)+1,2), 13 >DAY(EOMONTH(N17,0))+WEEKDAY(EOMONTH(N17,-1)+1,3)),"", 13 -WEEKDAY(EOMONTH(N17,-1)+1,2)+1) -> 9 | N19: =IF(OR( 14 <WEEKDAY(EOMONTH(N17,-1)+1,2), 14 >DAY(EOMONTH(N17,0))+WEEKDAY(EOMONTH(N17,-1)+1,3)),"", 14 -WEEKDAY(EOMONTH(N17,-1)+1,2)+1) -> 10 | O19: =IF(OR( 8 <WEEKDAY(EOMONTH(U17,-1)+1,2), 8 >DAY(EOMONTH(U17,0))+WEEKDAY(EOMONTH(U17,-1)+1,3)),"", 8 -WEEKDAY(EOMONTH(U17,-1)+1,2)+1) -> 8 | P19: =IF(OR( 9 <WEEKDAY(EOMONTH(U17,-1)+1,2), 9 >DAY(EOMONTH(U17,0))+WEEKDAY(EOMONTH(U17,-1)+1,3)),"", 9 -WEEKDAY(EOMONTH(U17,-1)+1,2)+1) -> 9 | Q19: =IF(OR( 10 <WEEKDAY(EOMONTH(U17,-1)+1,2), 10 >DAY(EOMONTH(U17,0))+WEEKDAY(EOMONTH(U17,-1)+1,3)),"", 10 -WEEKDAY(EOMONTH(U17,-1)+1,2)+1) -> 10 | R19: =IF(OR( 11 <WEEKDAY(EOMONTH(U17,-1)+1,2), 11 >DAY(EOMONTH(U17,0))+WEEKDAY(EOMONTH(U17,-1)+1,3)),"", 11 -WEEKDAY(EOMONTH(U17,-1)+1,2)+1) -> 11 | S19: =IF(OR( 12 <WEEKDAY(EOMONTH(U17,-1)+1,2), 12 >DAY(EOMONTH(U17,0))+WEEKDAY(EOMONTH(U17,-1)+1,3)),"", 12 -WEEKDAY(EOMONTH(U17,-1)+1,2)+1) -> 12 | T19: =IF(OR( 13 <WEEKDAY(EOMONTH(U17,-1)+1,2), 13 >DAY(EOMONTH(U17,0))+WEEKDAY(EOMONTH(U17,-1)+1,3)),"", 13 -WEEKDAY(EOMONTH(U17,-1)+1,2)+1) -> 13 | U19: =IF(OR( 14 <WEEKDAY(EOMONTH(U17,-1)+1,2), 14 >DAY(EOMONTH(U17,0))+WEEKDAY(EOMONTH(U17,-1)+1,3)),"", 14 -WEEKDAY(EOMONTH(U17,-1)+1,2)+1) -> 14 | AA19: =праздники!A21 | AB19: =праздники!B21 -> 0 | AC19: =праздники!C21 -> 0 | AD19: =праздники!D21 | AE19: =праздники!E21 -> День Победы | AF19: =праздники!F21 -> 0 | AG19: =праздники!G21 -> 0
A20: =IF(OR( 15 <WEEKDAY(EOMONTH(G17,-1)+1,2), 15 >DAY(EOMONTH(G17,0))+WEEKDAY(EOMONTH(G17,-1)+1,3)),"", 15 -WEEKDAY(EOMONTH(G17,-1)+1,2)+1) -> 14 | B20: =IF(OR( 16 <WEEKDAY(EOMONTH(G17,-1)+1,2), 16 >DAY(EOMONTH(G17,0))+WEEKDAY(EOMONTH(G17,-1)+1,3)),"", 16 -WEEKDAY(EOMONTH(G17,-1)+1,2)+1) -> 15 | C20: =IF(OR( 17 <WEEKDAY(EOMONTH(G17,-1)+1,2), 17 >DAY(EOMONTH(G17,0))+WEEKDAY(EOMONTH(G17,-1)+1,3)),"", 17 -WEEKDAY(EOMONTH(G17,-1)+1,2)+1) -> 16 | D20: =IF(OR( 18 <WEEKDAY(EOMONTH(G17,-1)+1,2), 18 >DAY(EOMONTH(G17,0))+WEEKDAY(EOMONTH(G17,-1)+1,3)),"", 18 -WEEKDAY(EOMONTH(G17,-1)+1,2)+1) -> 17 | E20: =IF(OR( 19 <WEEKDAY(EOMONTH(G17,-1)+1,2), 19 >DAY(EOMONTH(G17,0))+WEEKDAY(EOMONTH(G17,-1)+1,3)),"", 19 -WEEKDAY(EOMONTH(G17,-1)+1,2)+1) -> 18 | F20: =IF(OR( 20 <WEEKDAY(EOMONTH(G17,-1)+1,2), 20 >DAY(EOMONTH(G17,0))+WEEKDAY(EOMONTH(G17,-1)+1,3)),"", 20 -WEEKDAY(EOMONTH(G17,-1)+1,2)+1) -> 19 | G20: =IF(OR( 21 <WEEKDAY(EOMONTH(G17,-1)+1,2), 21 >DAY(EOMONTH(G17,0))+WEEKDAY(EOMONTH(G17,-1)+1,3)),"", 21 -WEEKDAY(EOMONTH(G17,-1)+1,2)+1) -> 20 | H20: =IF(OR( 15 <WEEKDAY(EOMONTH(N17,-1)+1,2), 15 >DAY(EOMONTH(N17,0))+WEEKDAY(EOMONTH(N17,-1)+1,3)),"", 15 -WEEKDAY(EOMONTH(N17,-1)+1,2)+1) -> 11 | I20: =IF(OR( 16 <WEEKDAY(EOMONTH(N17,-1)+1,2), 16 >DAY(EOMONTH(N17,0))+WEEKDAY(EOMONTH(N17,-1)+1,3)),"", 16 -WEEKDAY(EOMONTH(N17,-1)+1,2)+1) -> 12 | J20: =IF(OR( 17 <WEEKDAY(EOMONTH(N17,-1)+1,2), 17 >DAY(EOMONTH(N17,0))+WEEKDAY(EOMONTH(N17,-1)+1,3)),"", 17 -WEEKDAY(EOMONTH(N17,-1)+1,2)+1) -> 13 | K20: =IF(OR( 18 <WEEKDAY(EOMONTH(N17,-1)+1,2), 18 >DAY(EOMONTH(N17,0))+WEEKDAY(EOMONTH(N17,-1)+1,3)),"", 18 -WEEKDAY(EOMONTH(N17,-1)+1,2)+1) -> 14 | L20: =IF(OR( 19 <WEEKDAY(EOMONTH(N17,-1)+1,2), 19 >DAY(EOMONTH(N17,0))+WEEKDAY(EOMONTH(N17,-1)+1,3)),"", 19 -WEEKDAY(EOMONTH(N17,-1)+1,2)+1) -> 15 | M20: =IF(OR( 20 <WEEKDAY(EOMONTH(N17,-1)+1,2), 20 >DAY(EOMONTH(N17,0))+WEEKDAY(EOMONTH(N17,-1)+1,3)),"", 20 -WEEKDAY(EOMONTH(N17,-1)+1,2)+1) -> 16 | N20: =IF(OR( 21 <WEEKDAY(EOMONTH(N17,-1)+1,2), 21 >DAY(EOMONTH(N17,0))+WEEKDAY(EOMONTH(N17,-1)+1,3)),"", 21 -WEEKDAY(EOMONTH(N17,-1)+1,2)+1) -> 17 | O20: =IF(OR( 15 <WEEKDAY(EOMONTH(U17,-1)+1,2), 15 >DAY(EOMONTH(U17,0))+WEEKDAY(EOMONTH(U17,-1)+1,3)),"", 15 -WEEKDAY(EOMONTH(U17,-1)+1,2)+1) -> 15 | P20: =IF(OR( 16 <WEEKDAY(EOMONTH(U17,-1)+1,2), 16 >DAY(EOMONTH(U17,0))+WEEKDAY(EOMONTH(U17,-1)+1,3)),"", 16 -WEEKDAY(EOMONTH(U17,-1)+1,2)+1) -> 16 | Q20: =IF(OR( 17 <WEEKDAY(EOMONTH(U17,-1)+1,2), 17 >DAY(EOMONTH(U17,0))+WEEKDAY(EOMONTH(U17,-1)+1,3)),"", 17 -WEEKDAY(EOMONTH(U17,-1)+1,2)+1) -> 17 | R20: =IF(OR( 18 <WEEKDAY(EOMONTH(U17,-1)+1,2), 18 >DAY(EOMONTH(U17,0))+WEEKDAY(EOMONTH(U17,-1)+1,3)),"", 18 -WEEKDAY(EOMONTH(U17,-1)+1,2)+1) -> 18 | S20: =IF(OR( 19 <WEEKDAY(EOMONTH(U17,-1)+1,2), 19 >DAY(EOMONTH(U17,0))+WEEKDAY(EOMONTH(U17,-1)+1,3)),"", 19 -WEEKDAY(EOMONTH(U17,-1)+1,2)+1) -> 19 | T20: =IF(OR( 20 <WEEKDAY(EOMONTH(U17,-1)+1,2), 20 >DAY(EOMONTH(U17,0))+WEEKDAY(EOMONTH(U17,-1)+1,3)),"", 20 -WEEKDAY(EOMONTH(U17,-1)+1,2)+1) -> 20 | U20: =IF(OR( 21 <WEEKDAY(EOMONTH(U17,-1)+1,2), 21 >DAY(EOMONTH(U17,0))+WEEKDAY(EOMONTH(U17,-1)+1,3)),"", 21 -WEEKDAY(EOMONTH(U17,-1)+1,2)+1) -> 21 | AA20: =праздники!A22 -> 30.6 | AB20: =праздники!B22 -> 0 | AC20: =праздники!C22 -> 0 | AD20: =праздники!D22 -> 41820 | AE20: =праздники!E22 -> День Конституции Украины | AF20: =праздники!F22 -> 0 | AG20: =праздники!G22 -> 0
A21: =IF(OR( 22 <WEEKDAY(EOMONTH(G17,-1)+1,2), 22 >DAY(EOMONTH(G17,0))+WEEKDAY(EOMONTH(G17,-1)+1,3)),"", 22 -WEEKDAY(EOMONTH(G17,-1)+1,2)+1) -> 21 | B21: =IF(OR( 23 <WEEKDAY(EOMONTH(G17,-1)+1,2), 23 >DAY(EOMONTH(G17,0))+WEEKDAY(EOMONTH(G17,-1)+1,3)),"", 23 -WEEKDAY(EOMONTH(G17,-1)+1,2)+1) -> 22 | C21: =IF(OR( 24 <WEEKDAY(EOMONTH(G17,-1)+1,2), 24 >DAY(EOMONTH(G17,0))+WEEKDAY(EOMONTH(G17,-1)+1,3)),"", 24 -WEEKDAY(EOMONTH(G17,-1)+1,2)+1) -> 23 | D21: =IF(OR( 25 <WEEKDAY(EOMONTH(G17,-1)+1,2), 25 >DAY(EOMONTH(G17,0))+WEEKDAY(EOMONTH(G17,-1)+1,3)),"", 25 -WEEKDAY(EOMONTH(G17,-1)+1,2)+1) -> 24 | E21: =IF(OR( 26 <WEEKDAY(EOMONTH(G17,-1)+1,2), 26 >DAY(EOMONTH(G17,0))+WEEKDAY(EOMONTH(G17,-1)+1,3)),"", 26 -WEEKDAY(EOMONTH(G17,-1)+1,2)+1) -> 25 | F21: =IF(OR( 27 <WEEKDAY(EOMONTH(G17,-1)+1,2), 27 >DAY(EOMONTH(G17,0))+WEEKDAY(EOMONTH(G17,-1)+1,3)),"", 27 -WEEKDAY(EOMONTH(G17,-1)+1,2)+1) -> 26 | G21: =IF(OR( 28 <WEEKDAY(EOMONTH(G17,-1)+1,2), 28 >DAY(EOMONTH(G17,0))+WEEKDAY(EOMONTH(G17,-1)+1,3)),"", 28 -WEEKDAY(EOMONTH(G17,-1)+1,2)+1) -> 27 | H21: =IF(OR( 22 <WEEKDAY(EOMONTH(N17,-1)+1,2), 22 >DAY(EOMONTH(N17,0))+WEEKDAY(EOMONTH(N17,-1)+1,3)),"", 22 -WEEKDAY(EOMONTH(N17,-1)+1,2)+1) -> 18 | I21: =IF(OR( 23 <WEEKDAY(EOMONTH(N17,-1)+1,2), 23 >DAY(EOMONTH(N17,0))+WEEKDAY(EOMONTH(N17,-1)+1,3)),"", 23 -WEEKDAY(EOMONTH(N17,-1)+1,2)+1) -> 19 | J21: =IF(OR( 24 <WEEKDAY(EOMONTH(N17,-1)+1,2), 24 >DAY(EOMONTH(N17,0))+WEEKDAY(EOMONTH(N17,-1)+1,3)),"", 24 -WEEKDAY(EOMONTH(N17,-1)+1,2)+1) -> 20 | K21: =IF(OR( 25 <WEEKDAY(EOMONTH(N17,-1)+1,2), 25 >DAY(EOMONTH(N17,0))+WEEKDAY(EOMONTH(N17,-1)+1,3)),"", 25 -WEEKDAY(EOMONTH(N17,-1)+1,2)+1) -> 21 | L21: =IF(OR( 26 <WEEKDAY(EOMONTH(N17,-1)+1,2), 26 >DAY(EOMONTH(N17,0))+WEEKDAY(EOMONTH(N17,-1)+1,3)),"", 26 -WEEKDAY(EOMONTH(N17,-1)+1,2)+1) -> 22 | M21: =IF(OR( 27 <WEEKDAY(EOMONTH(N17,-1)+1,2), 27 >DAY(EOMONTH(N17,0))+WEEKDAY(EOMONTH(N17,-1)+1,3)),"", 27 -WEEKDAY(EOMONTH(N17,-1)+1,2)+1) -> 23 | N21: =IF(OR( 28 <WEEKDAY(EOMONTH(N17,-1)+1,2), 28 >DAY(EOMONTH(N17,0))+WEEKDAY(EOMONTH(N17,-1)+1,3)),"", 28 -WEEKDAY(EOMONTH(N17,-1)+1,2)+1) -> 24 | O21: =IF(OR( 22 <WEEKDAY(EOMONTH(U17,-1)+1,2), 22 >DAY(EOMONTH(U17,0))+WEEKDAY(EOMONTH(U17,-1)+1,3)),"", 22 -WEEKDAY(EOMONTH(U17,-1)+1,2)+1) -> 22 | P21: =IF(OR( 23 <WEEKDAY(EOMONTH(U17,-1)+1,2), 23 >DAY(EOMONTH(U17,0))+WEEKDAY(EOMONTH(U17,-1)+1,3)),"", 23 -WEEKDAY(EOMONTH(U17,-1)+1,2)+1) -> 23 | Q21: =IF(OR( 24 <WEEKDAY(EOMONTH(U17,-1)+1,2), 24 >DAY(EOMONTH(U17,0))+WEEKDAY(EOMONTH(U17,-1)+1,3)),"", 24 -WEEKDAY(EOMONTH(U17,-1)+1,2)+1) -> 24 | R21: =IF(OR( 25 <WEEKDAY(EOMONTH(U17,-1)+1,2), 25 >DAY(EOMONTH(U17,0))+WEEKDAY(EOMONTH(U17,-1)+1,3)),"", 25 -WEEKDAY(EOMONTH(U17,-1)+1,2)+1) -> 25 | S21: =IF(OR( 26 <WEEKDAY(EOMONTH(U17,-1)+1,2), 26 >DAY(EOMONTH(U17,0))+WEEKDAY(EOMONTH(U17,-1)+1,3)),"", 26 -WEEKDAY(EOMONTH(U17,-1)+1,2)+1) -> 26 | T21: =IF(OR( 27 <WEEKDAY(EOMONTH(U17,-1)+1,2), 27 >DAY(EOMONTH(U17,0))+WEEKDAY(EOMONTH(U17,-1)+1,3)),"", 27 -WEEKDAY(EOMONTH(U17,-1)+1,2)+1) -> 27 | U21: =IF(OR( 28 <WEEKDAY(EOMONTH(U17,-1)+1,2), 28 >DAY(EOMONTH(U17,0))+WEEKDAY(EOMONTH(U17,-1)+1,3)),"", 28 -WEEKDAY(EOMONTH(U17,-1)+1,2)+1) -> 28 | AA21: =праздники!A23 -> 25.8 | AB21: =праздники!B23 -> 0 | AC21: =праздники!C23 -> 0 | AD21: =праздники!D23 -> 41876 | AE21: =праздники!E23 -> День независимости Украины | AF21: =праздники!F23 -> 0 | AG21: =праздники!G23 -> 0
A22: =IF(OR( 29 <WEEKDAY(EOMONTH(G17,-1)+1,2), 29 >DAY(EOMONTH(G17,0))+WEEKDAY(EOMONTH(G17,-1)+1,3)),"", 29 -WEEKDAY(EOMONTH(G17,-1)+1,2)+1) -> 28 | B22: =IF(OR( 30 <WEEKDAY(EOMONTH(G17,-1)+1,2), 30 >DAY(EOMONTH(G17,0))+WEEKDAY(EOMONTH(G17,-1)+1,3)),"", 30 -WEEKDAY(EOMONTH(G17,-1)+1,2)+1) -> 29 | C22: =IF(OR( 31 <WEEKDAY(EOMONTH(G17,-1)+1,2), 31 >DAY(EOMONTH(G17,0))+WEEKDAY(EOMONTH(G17,-1)+1,3)),"", 31 -WEEKDAY(EOMONTH(G17,-1)+1,2)+1) -> 30 | D22: =IF(OR( 32 <WEEKDAY(EOMONTH(G17,-1)+1,2), 32 >DAY(EOMONTH(G17,0))+WEEKDAY(EOMONTH(G17,-1)+1,3)),"", 32 -WEEKDAY(EOMONTH(G17,-1)+1,2)+1) -> 31 | E22: =IF(OR( 33 <WEEKDAY(EOMONTH(G17,-1)+1,2), 33 >DAY(EOMONTH(G17,0))+WEEKDAY(EOMONTH(G17,-1)+1,3)),"", 33 -WEEKDAY(EOMONTH(G17,-1)+1,2)+1) | F22: =IF(OR( 34 <WEEKDAY(EOMONTH(G17,-1)+1,2), 34 >DAY(EOMONTH(G17,0))+WEEKDAY(EOMONTH(G17,-1)+1,3)),"", 34 -WEEKDAY(EOMONTH(G17,-1)+1,2)+1) | G22: =IF(OR( 35 <WEEKDAY(EOMONTH(G17,-1)+1,2), 35 >DAY(EOMONTH(G17,0))+WEEKDAY(EOMONTH(G17,-1)+1,3)),"", 35 -WEEKDAY(EOMONTH(G17,-1)+1,2)+1) | H22: =IF(OR( 29 <WEEKDAY(EOMONTH(N17,-1)+1,2), 29 >DAY(EOMONTH(N17,0))+WEEKDAY(EOMONTH(N17,-1)+1,3)),"", 29 -WEEKDAY(EOMONTH(N17,-1)+1,2)+1) -> 25 | I22: =IF(OR( 30 <WEEKDAY(EOMONTH(N17,-1)+1,2), 30 >DAY(EOMONTH(N17,0))+WEEKDAY(EOMONTH(N17,-1)+1,3)),"", 30 -WEEKDAY(EOMONTH(N17,-1)+1,2)+1) -> 26 | J22: =IF(OR( 31 <WEEKDAY(EOMONTH(N17,-1)+1,2), 31 >DAY(EOMONTH(N17,0))+WEEKDAY(EOMONTH(N17,-1)+1,3)),"", 31 -WEEKDAY(EOMONTH(N17,-1)+1,2)+1) -> 27 | K22: =IF(OR( 32 <WEEKDAY(EOMONTH(N17,-1)+1,2), 32 >DAY(EOMONTH(N17,0))+WEEKDAY(EOMONTH(N17,-1)+1,3)),"", 32 -WEEKDAY(EOMONTH(N17,-1)+1,2)+1) -> 28 | L22: =IF(OR( 33 <WEEKDAY(EOMONTH(N17,-1)+1,2), 33 >DAY(EOMONTH(N17,0))+WEEKDAY(EOMONTH(N17,-1)+1,3)),"", 33 -WEEKDAY(EOMONTH(N17,-1)+1,2)+1) -> 29 | M22: =IF(OR( 34 <WEEKDAY(EOMONTH(N17,-1)+1,2), 34 >DAY(EOMONTH(N17,0))+WEEKDAY(EOMONTH(N17,-1)+1,3)),"", 34 -WEEKDAY(EOMONTH(N17,-1)+1,2)+1) -> 30 | N22: =IF(OR( 35 <WEEKDAY(EOMONTH(N17,-1)+1,2), 35 >DAY(EOMONTH(N17,0))+WEEKDAY(EOMONTH(N17,-1)+1,3)),"", 35 -WEEKDAY(EOMONTH(N17,-1)+1,2)+1) -> 31 | O22: =IF(OR( 29 <WEEKDAY(EOMONTH(U17,-1)+1,2), 29 >DAY(EOMONTH(U17,0))+WEEKDAY(EOMONTH(U17,-1)+1,3)),"", 29 -WEEKDAY(EOMONTH(U17,-1)+1,2)+1) -> 29 | P22: =IF(OR( 30 <WEEKDAY(EOMONTH(U17,-1)+1,2), 30 >DAY(EOMONTH(U17,0))+WEEKDAY(EOMONTH(U17,-1)+1,3)),"", 30 -WEEKDAY(EOMONTH(U17,-1)+1,2)+1) -> 30 | Q22: =IF(OR( 31 <WEEKDAY(EOMONTH(U17,-1)+1,2), 31 >DAY(EOMONTH(U17,0))+WEEKDAY(EOMONTH(U17,-1)+1,3)),"", 31 -WEEKDAY(EOMONTH(U17,-1)+1,2)+1) | R22: =IF(OR( 32 <WEEKDAY(EOMONTH(U17,-1)+1,2), 32 >DAY(EOMONTH(U17,0))+WEEKDAY(EOMONTH(U17,-1)+1,3)),"", 32 -WEEKDAY(EOMONTH(U17,-1)+1,2)+1) | S22: =IF(OR( 33 <WEEKDAY(EOMONTH(U17,-1)+1,2), 33 >DAY(EOMONTH(U17,0))+WEEKDAY(EOMONTH(U17,-1)+1,3)),"", 33 -WEEKDAY(EOMONTH(U17,-1)+1,2)+1) | T22: =IF(OR( 34 <WEEKDAY(EOMONTH(U17,-1)+1,2), 34 >DAY(EOMONTH(U17,0))+WEEKDAY(EOMONTH(U17,-1)+1,3)),"", 34 -WEEKDAY(EOMONTH(U17,-1)+1,2)+1) | U22: =IF(OR( 35 <WEEKDAY(EOMONTH(U17,-1)+1,2), 35 >DAY(EOMONTH(U17,0))+WEEKDAY(EOMONTH(U17,-1)+1,3)),"", 35 -WEEKDAY(EOMONTH(U17,-1)+1,2)+1) | AA22: =праздники!A24 -> 21.4 | AB22: =праздники!B24 -> 0 | AC22: =праздники!C24 -> 0 | AD22: =праздники!D24 -> 41750 | AE22: =праздники!E24 -> Пасху | AF22: =праздники!F24 -> 0 | AG22: =праздники!G24 -> 0
A23: =IF(OR( 36 <WEEKDAY(EOMONTH(G17,-1)+1,2), 36 >DAY(EOMONTH(G17,0))+WEEKDAY(EOMONTH(G17,-1)+1,3)),"", 36 -WEEKDAY(EOMONTH(G17,-1)+1,2)+1) | B23: =IF(OR( 37 <WEEKDAY(EOMONTH(G17,-1)+1,2), 37 >DAY(EOMONTH(G17,0))+WEEKDAY(EOMONTH(G17,-1)+1,3)),"", 37 -WEEKDAY(EOMONTH(G17,-1)+1,2)+1) | C23: =IF(OR( 38 <WEEKDAY(EOMONTH(G17,-1)+1,2), 38 >DAY(EOMONTH(G17,0))+WEEKDAY(EOMONTH(G17,-1)+1,3)),"", 38 -WEEKDAY(EOMONTH(G17,-1)+1,2)+1) | D23: =IF(OR( 39 <WEEKDAY(EOMONTH(G17,-1)+1,2), 39 >DAY(EOMONTH(G17,0))+WEEKDAY(EOMONTH(G17,-1)+1,3)),"", 39 -WEEKDAY(EOMONTH(G17,-1)+1,2)+1) | E23: =IF(OR( 40 <WEEKDAY(EOMONTH(G17,-1)+1,2), 40 >DAY(EOMONTH(G17,0))+WEEKDAY(EOMONTH(G17,-1)+1,3)),"", 40 -WEEKDAY(EOMONTH(G17,-1)+1,2)+1) | F23: =IF(OR( 41 <WEEKDAY(EOMONTH(G17,-1)+1,2), 41 >DAY(EOMONTH(G17,0))+WEEKDAY(EOMONTH(G17,-1)+1,3)),"", 41 -WEEKDAY(EOMONTH(G17,-1)+1,2)+1) | G23: =IF(OR( 42 <WEEKDAY(EOMONTH(G17,-1)+1,2), 42 >DAY(EOMONTH(G17,0))+WEEKDAY(EOMONTH(G17,-1)+1,3)),"", 42 -WEEKDAY(EOMONTH(G17,-1)+1,2)+1) | H23: =IF(OR( 36 <WEEKDAY(EOMONTH(N17,-1)+1,2), 36 >DAY(EOMONTH(N17,0))+WEEKDAY(EOMONTH(N17,-1)+1,3)),"", 36 -WEEKDAY(EOMONTH(N17,-1)+1,2)+1) | I23: =IF(OR( 37 <WEEKDAY(EOMONTH(N17,-1)+1,2), 37 >DAY(EOMONTH(N17,0))+WEEKDAY(EOMONTH(N17,-1)+1,3)),"", 37 -WEEKDAY(EOMONTH(N17,-1)+1,2)+1) | J23: =IF(OR( 38 <WEEKDAY(EOMONTH(N17,-1)+1,2), 38 >DAY(EOMONTH(N17,0))+WEEKDAY(EOMONTH(N17,-1)+1,3)),"", 38 -WEEKDAY(EOMONTH(N17,-1)+1,2)+1) | K23: =IF(OR( 39 <WEEKDAY(EOMONTH(N17,-1)+1,2), 39 >DAY(EOMONTH(N17,0))+WEEKDAY(EOMONTH(N17,-1)+1,3)),"", 39 -WEEKDAY(EOMONTH(N17,-1)+1,2)+1) | L23: =IF(OR( 40 <WEEKDAY(EOMONTH(N17,-1)+1,2), 40 >DAY(EOMONTH(N17,0))+WEEKDAY(EOMONTH(N17,-1)+1,3)),"", 40 -WEEKDAY(EOMONTH(N17,-1)+1,2)+1) | M23: =IF(OR( 41 <WEEKDAY(EOMONTH(N17,-1)+1,2), 41 >DAY(EOMONTH(N17,0))+WEEKDAY(EOMONTH(N17,-1)+1,3)),"", 41 -WEEKDAY(EOMONTH(N17,-1)+1,2)+1) | N23: =IF(OR( 42 <WEEKDAY(EOMONTH(N17,-1)+1,2), 42 >DAY(EOMONTH(N17,0))+WEEKDAY(EOMONTH(N17,-1)+1,3)),"", 42 -WEEKDAY(EOMONTH(N17,-1)+1,2)+1) | O23: =IF(OR( 36 <WEEKDAY(EOMONTH(U17,-1)+1,2), 36 >DAY(EOMONTH(U17,0))+WEEKDAY(EOMONTH(U17,-1)+1,3)),"", 36 -WEEKDAY(EOMONTH(U17,-1)+1,2)+1) | P23: =IF(OR( 37 <WEEKDAY(EOMONTH(U17,-1)+1,2), 37 >DAY(EOMONTH(U17,0))+WEEKDAY(EOMONTH(U17,-1)+1,3)),"", 37 -WEEKDAY(EOMONTH(U17,-1)+1,2)+1) | Q23: =IF(OR( 38 <WEEKDAY(EOMONTH(U17,-1)+1,2), 38 >DAY(EOMONTH(U17,0))+WEEKDAY(EOMONTH(U17,-1)+1,3)),"", 38 -WEEKDAY(EOMONTH(U17,-1)+1,2)+1) | R23: =IF(OR( 39 <WEEKDAY(EOMONTH(U17,-1)+1,2), 39 >DAY(EOMONTH(U17,0))+WEEKDAY(EOMONTH(U17,-1)+1,3)),"", 39 -WEEKDAY(EOMONTH(U17,-1)+1,2)+1) | S23: =IF(OR( 40 <WEEKDAY(EOMONTH(U17,-1)+1,2), 40 >DAY(EOMONTH(U17,0))+WEEKDAY(EOMONTH(U17,-1)+1,3)),"", 40 -WEEKDAY(EOMONTH(U17,-1)+1,2)+1) | T23: =IF(OR( 41 <WEEKDAY(EOMONTH(U17,-1)+1,2), 41 >DAY(EOMONTH(U17,0))+WEEKDAY(EOMONTH(U17,-1)+1,3)),"", 41 -WEEKDAY(EOMONTH(U17,-1)+1,2)+1) | U23: =IF(OR( 42 <WEEKDAY(EOMONTH(U17,-1)+1,2), 42 >DAY(EOMONTH(U17,0))+WEEKDAY(EOMONTH(U17,-1)+1,3)),"", 42 -WEEKDAY(EOMONTH(U17,-1)+1,2)+1) | AA23: =праздники!A25 -> 9.6 | AB23: =праздники!B25 -> 0 | AC23: =праздники!C25 -> 0 | AD23: =праздники!D25 -> 41799 | AE23: =праздники!E25 -> Троицу | AF23: =праздники!F25 -> 0 | AG23: =праздники!G25 -> 0
B24: =VLOOKUP(MONTH( G24 ),месяцы,2) -> Октябрь | G24: =DATE($A$1,10,1) -> 41913 | I24: =VLOOKUP(MONTH( N24 ),месяцы,2) -> Ноябрь | N24: =DATE($A$1,11,1) -> 41944 | P24: =VLOOKUP(MONTH( U24 ),месяцы,2) -> Декабрь | U24: =DATE($A$1,12,1) -> 41974 | AA24: =праздники!A28 -> 0 | AB24: =праздники!B28 -> 0 | AC24: =праздники!C28 -> 0 | AD24: =праздники!D28 -> 0 | AE24: =праздники!E28 -> 0 | AF24: =праздники!F28 -> 0 | AG24: =праздники!G28 -> 0
A25: =IF(OR( 1 <WEEKDAY(EOMONTH(G24,-1)+1,2), 1 >DAY(EOMONTH(G24,0))+WEEKDAY(EOMONTH(G24,-1)+1,3)),"", 1 -WEEKDAY(EOMONTH(G24,-1)+1,2)+1) | B25: =IF(OR( 2 <WEEKDAY(EOMONTH(G24,-1)+1,2), 2 >DAY(EOMONTH(G24,0))+WEEKDAY(EOMONTH(G24,-1)+1,3)),"", 2 -WEEKDAY(EOMONTH(G24,-1)+1,2)+1) | C25: =IF(OR( 3 <WEEKDAY(EOMONTH(G24,-1)+1,2), 3 >DAY(EOMONTH(G24,0))+WEEKDAY(EOMONTH(G24,-1)+1,3)),"", 3 -WEEKDAY(EOMONTH(G24,-1)+1,2)+1) -> 1 | D25: =IF(OR( 4 <WEEKDAY(EOMONTH(G24,-1)+1,2), 4 >DAY(EOMONTH(G24,0))+WEEKDAY(EOMONTH(G24,-1)+1,3)),"", 4 -WEEKDAY(EOMONTH(G24,-1)+1,2)+1) -> 2 | E25: =IF(OR( 5 <WEEKDAY(EOMONTH(G24,-1)+1,2), 5 >DAY(EOMONTH(G24,0))+WEEKDAY(EOMONTH(G24,-1)+1,3)),"", 5 -WEEKDAY(EOMONTH(G24,-1)+1,2)+1) -> 3 | F25: =IF(OR( 6 <WEEKDAY(EOMONTH(G24,-1)+1,2), 6 >DAY(EOMONTH(G24,0))+WEEKDAY(EOMONTH(G24,-1)+1,3)),"", 6 -WEEKDAY(EOMONTH(G24,-1)+1,2)+1) -> 4 | G25: =IF(OR( 7 <WEEKDAY(EOMONTH(G24,-1)+1,2), 7 >DAY(EOMONTH(G24,0))+WEEKDAY(EOMONTH(G24,-1)+1,3)),"", 7 -WEEKDAY(EOMONTH(G24,-1)+1,2)+1) -> 5 | H25: =IF(OR( 1 <WEEKDAY(EOMONTH(N24,-1)+1,2), 1 >DAY(EOMONTH(N24,0))+WEEKDAY(EOMONTH(N24,-1)+1,3)),"", 1 -WEEKDAY(EOMONTH(N24,-1)+1,2)+1) | I25: =IF(OR( 2 <WEEKDAY(EOMONTH(N24,-1)+1,2), 2 >DAY(EOMONTH(N24,0))+WEEKDAY(EOMONTH(N24,-1)+1,3)),"", 2 -WEEKDAY(EOMONTH(N24,-1)+1,2)+1) | J25: =IF(OR( 3 <WEEKDAY(EOMONTH(N24,-1)+1,2), 3 >DAY(EOMONTH(N24,0))+WEEKDAY(EOMONTH(N24,-1)+1,3)),"", 3 -WEEKDAY(EOMONTH(N24,-1)+1,2)+1) | K25: =IF(OR( 4 <WEEKDAY(EOMONTH(N24,-1)+1,2), 4 >DAY(EOMONTH(N24,0))+WEEKDAY(EOMONTH(N24,-1)+1,3)),"", 4 -WEEKDAY(EOMONTH(N24,-1)+1,2)+1) | L25: =IF(OR( 5 <WEEKDAY(EOMONTH(N24,-1)+1,2), 5 >DAY(EOMONTH(N24,0))+WEEKDAY(EOMONTH(N24,-1)+1,3)),"", 5 -WEEKDAY(EOMONTH(N24,-1)+1,2)+1) | M25: =IF(OR( 6 <WEEKDAY(EOMONTH(N24,-1)+1,2), 6 >DAY(EOMONTH(N24,0))+WEEKDAY(EOMONTH(N24,-1)+1,3)),"", 6 -WEEKDAY(EOMONTH(N24,-1)+1,2)+1) -> 1 | N25: =IF(OR( 7 <WEEKDAY(EOMONTH(N24,-1)+1,2), 7 >DAY(EOMONTH(N24,0))+WEEKDAY(EOMONTH(N24,-1)+1,3)),"", 7 -WEEKDAY(EOMONTH(N24,-1)+1,2)+1) -> 2 | O25: =IF(OR( 1 <WEEKDAY(EOMONTH(U24,-1)+1,2), 1 >DAY(EOMONTH(U24,0))+WEEKDAY(EOMONTH(U24,-1)+1,3)),"", 1 -WEEKDAY(EOMONTH(U24,-1)+1,2)+1) -> 1 | P25: =IF(OR( 2 <WEEKDAY(EOMONTH(U24,-1)+1,2), 2 >DAY(EOMONTH(U24,0))+WEEKDAY(EOMONTH(U24,-1)+1,3)),"", 2 -WEEKDAY(EOMONTH(U24,-1)+1,2)+1) -> 2 | Q25: =IF(OR( 3 <WEEKDAY(EOMONTH(U24,-1)+1,2), 3 >DAY(EOMONTH(U24,0))+WEEKDAY(EOMONTH(U24,-1)+1,3)),"", 3 -WEEKDAY(EOMONTH(U24,-1)+1,2)+1) -> 3 | R25: =IF(OR( 4 <WEEKDAY(EOMONTH(U24,-1)+1,2), 4 >DAY(EOMONTH(U24,0))+WEEKDAY(EOMONTH(U24,-1)+1,3)),"", 4 -WEEKDAY(EOMONTH(U24,-1)+1,2)+1) -> 4 | S25: =IF(OR( 5 <WEEKDAY(EOMONTH(U24,-1)+1,2), 5 >DAY(EOMONTH(U24,0))+WEEKDAY(EOMONTH(U24,-1)+1,3)),"", 5 -WEEKDAY(EOMONTH(U24,-1)+1,2)+1) -> 5 | T25: =IF(OR( 6 <WEEKDAY(EOMONTH(U24,-1)+1,2), 6 >DAY(EOMONTH(U24,0))+WEEKDAY(EOMONTH(U24,-1)+1,3)),"", 6 -WEEKDAY(EOMONTH(U24,-1)+1,2)+1) -> 6 | U25: =IF(OR( 7 <WEEKDAY(EOMONTH(U24,-1)+1,2), 7 >DAY(EOMONTH(U24,0))+WEEKDAY(EOMONTH(U24,-1)+1,3)),"", 7 -WEEKDAY(EOMONTH(U24,-1)+1,2)+1) -> 7
A26: =IF(OR( 8 <WEEKDAY(EOMONTH(G24,-1)+1,2), 8 >DAY(EOMONTH(G24,0))+WEEKDAY(EOMONTH(G24,-1)+1,3)),"", 8 -WEEKDAY(EOMONTH(G24,-1)+1,2)+1) -> 6 | B26: =IF(OR( 9 <WEEKDAY(EOMONTH(G24,-1)+1,2), 9 >DAY(EOMONTH(G24,0))+WEEKDAY(EOMONTH(G24,-1)+1,3)),"", 9 -WEEKDAY(EOMONTH(G24,-1)+1,2)+1) -> 7 | C26: =IF(OR( 10 <WEEKDAY(EOMONTH(G24,-1)+1,2), 10 >DAY(EOMONTH(G24,0))+WEEKDAY(EOMONTH(G24,-1)+1,3)),"", 10 -WEEKDAY(EOMONTH(G24,-1)+1,2)+1) -> 8 | D26: =IF(OR( 11 <WEEKDAY(EOMONTH(G24,-1)+1,2), 11 >DAY(EOMONTH(G24,0))+WEEKDAY(EOMONTH(G24,-1)+1,3)),"", 11 -WEEKDAY(EOMONTH(G24,-1)+1,2)+1) -> 9 | E26: =IF(OR( 12 <WEEKDAY(EOMONTH(G24,-1)+1,2), 12 >DAY(EOMONTH(G24,0))+WEEKDAY(EOMONTH(G24,-1)+1,3)),"", 12 -WEEKDAY(EOMONTH(G24,-1)+1,2)+1) -> 10 | F26: =IF(OR( 13 <WEEKDAY(EOMONTH(G24,-1)+1,2), 13 >DAY(EOMONTH(G24,0))+WEEKDAY(EOMONTH(G24,-1)+1,3)),"", 13 -WEEKDAY(EOMONTH(G24,-1)+1,2)+1) -> 11 | G26: =IF(OR( 14 <WEEKDAY(EOMONTH(G24,-1)+1,2), 14 >DAY(EOMONTH(G24,0))+WEEKDAY(EOMONTH(G24,-1)+1,3)),"", 14 -WEEKDAY(EOMONTH(G24,-1)+1,2)+1) -> 12 | H26: =IF(OR( 8 <WEEKDAY(EOMONTH(N24,-1)+1,2), 8 >DAY(EOMONTH(N24,0))+WEEKDAY(EOMONTH(N24,-1)+1,3)),"", 8 -WEEKDAY(EOMONTH(N24,-1)+1,2)+1) -> 3 | I26: =IF(OR( 9 <WEEKDAY(EOMONTH(N24,-1)+1,2), 9 >DAY(EOMONTH(N24,0))+WEEKDAY(EOMONTH(N24,-1)+1,3)),"", 9 -WEEKDAY(EOMONTH(N24,-1)+1,2)+1) -> 4 | J26: =IF(OR( 10 <WEEKDAY(EOMONTH(N24,-1)+1,2), 10 >DAY(EOMONTH(N24,0))+WEEKDAY(EOMONTH(N24,-1)+1,3)),"", 10 -WEEKDAY(EOMONTH(N24,-1)+1,2)+1) -> 5 | K26: =IF(OR( 11 <WEEKDAY(EOMONTH(N24,-1)+1,2), 11 >DAY(EOMONTH(N24,0))+WEEKDAY(EOMONTH(N24,-1)+1,3)),"", 11 -WEEKDAY(EOMONTH(N24,-1)+1,2)+1) -> 6 | L26: =IF(OR( 12 <WEEKDAY(EOMONTH(N24,-1)+1,2), 12 >DAY(EOMONTH(N24,0))+WEEKDAY(EOMONTH(N24,-1)+1,3)),"", 12 -WEEKDAY(EOMONTH(N24,-1)+1,2)+1) -> 7 | M26: =IF(OR( 13 <WEEKDAY(EOMONTH(N24,-1)+1,2), 13 >DAY(EOMONTH(N24,0))+WEEKDAY(EOMONTH(N24,-1)+1,3)),"", 13 -WEEKDAY(EOMONTH(N24,-1)+1,2)+1) -> 8 | N26: =IF(OR( 14 <WEEKDAY(EOMONTH(N24,-1)+1,2), 14 >DAY(EOMONTH(N24,0))+WEEKDAY(EOMONTH(N24,-1)+1,3)),"", 14 -WEEKDAY(EOMONTH(N24,-1)+1,2)+1) -> 9 | O26: =IF(OR( 8 <WEEKDAY(EOMONTH(U24,-1)+1,2), 8 >DAY(EOMONTH(U24,0))+WEEKDAY(EOMONTH(U24,-1)+1,3)),"", 8 -WEEKDAY(EOMONTH(U24,-1)+1,2)+1) -> 8 | P26: =IF(OR( 9 <WEEKDAY(EOMONTH(U24,-1)+1,2), 9 >DAY(EOMONTH(U24,0))+WEEKDAY(EOMONTH(U24,-1)+1,3)),"", 9 -WEEKDAY(EOMONTH(U24,-1)+1,2)+1) -> 9 | Q26: =IF(OR( 10 <WEEKDAY(EOMONTH(U24,-1)+1,2), 10 >DAY(EOMONTH(U24,0))+WEEKDAY(EOMONTH(U24,-1)+1,3)),"", 10 -WEEKDAY(EOMONTH(U24,-1)+1,2)+1) -> 10 | R26: =IF(OR( 11 <WEEKDAY(EOMONTH(U24,-1)+1,2), 11 >DAY(EOMONTH(U24,0))+WEEKDAY(EOMONTH(U24,-1)+1,3)),"", 11 -WEEKDAY(EOMONTH(U24,-1)+1,2)+1) -> 11 | S26: =IF(OR( 12 <WEEKDAY(EOMONTH(U24,-1)+1,2), 12 >DAY(EOMONTH(U24,0))+WEEKDAY(EOMONTH(U24,-1)+1,3)),"", 12 -WEEKDAY(EOMONTH(U24,-1)+1,2)+1) -> 12 | T26: =IF(OR( 13 <WEEKDAY(EOMONTH(U24,-1)+1,2), 13 >DAY(EOMONTH(U24,0))+WEEKDAY(EOMONTH(U24,-1)+1,3)),"", 13 -WEEKDAY(EOMONTH(U24,-1)+1,2)+1) -> 13 | U26: =IF(OR( 14 <WEEKDAY(EOMONTH(U24,-1)+1,2), 14 >DAY(EOMONTH(U24,0))+WEEKDAY(EOMONTH(U24,-1)+1,3)),"", 14 -WEEKDAY(EOMONTH(U24,-1)+1,2)+1) -> 14
A27: =IF(OR( 15 <WEEKDAY(EOMONTH(G24,-1)+1,2), 15 >DAY(EOMONTH(G24,0))+WEEKDAY(EOMONTH(G24,-1)+1,3)),"", 15 -WEEKDAY(EOMONTH(G24,-1)+1,2)+1) -> 13 | B27: =IF(OR( 16 <WEEKDAY(EOMONTH(G24,-1)+1,2), 16 >DAY(EOMONTH(G24,0))+WEEKDAY(EOMONTH(G24,-1)+1,3)),"", 16 -WEEKDAY(EOMONTH(G24,-1)+1,2)+1) -> 14 | C27: =IF(OR( 17 <WEEKDAY(EOMONTH(G24,-1)+1,2), 17 >DAY(EOMONTH(G24,0))+WEEKDAY(EOMONTH(G24,-1)+1,3)),"", 17 -WEEKDAY(EOMONTH(G24,-1)+1,2)+1) -> 15 | D27: =IF(OR( 18 <WEEKDAY(EOMONTH(G24,-1)+1,2), 18 >DAY(EOMONTH(G24,0))+WEEKDAY(EOMONTH(G24,-1)+1,3)),"", 18 -WEEKDAY(EOMONTH(G24,-1)+1,2)+1) -> 16 | E27: =IF(OR( 19 <WEEKDAY(EOMONTH(G24,-1)+1,2), 19 >DAY(EOMONTH(G24,0))+WEEKDAY(EOMONTH(G24,-1)+1,3)),"", 19 -WEEKDAY(EOMONTH(G24,-1)+1,2)+1) -> 17 | F27: =IF(OR( 20 <WEEKDAY(EOMONTH(G24,-1)+1,2), 20 >DAY(EOMONTH(G24,0))+WEEKDAY(EOMONTH(G24,-1)+1,3)),"", 20 -WEEKDAY(EOMONTH(G24,-1)+1,2)+1) -> 18 | G27: =IF(OR( 21 <WEEKDAY(EOMONTH(G24,-1)+1,2), 21 >DAY(EOMONTH(G24,0))+WEEKDAY(EOMONTH(G24,-1)+1,3)),"", 21 -WEEKDAY(EOMONTH(G24,-1)+1,2)+1) -> 19 | H27: =IF(OR( 15 <WEEKDAY(EOMONTH(N24,-1)+1,2), 15 >DAY(EOMONTH(N24,0))+WEEKDAY(EOMONTH(N24,-1)+1,3)),"", 15 -WEEKDAY(EOMONTH(N24,-1)+1,2)+1) -> 10 | I27: =IF(OR( 16 <WEEKDAY(EOMONTH(N24,-1)+1,2), 16 >DAY(EOMONTH(N24,0))+WEEKDAY(EOMONTH(N24,-1)+1,3)),"", 16 -WEEKDAY(EOMONTH(N24,-1)+1,2)+1) -> 11 | J27: =IF(OR( 17 <WEEKDAY(EOMONTH(N24,-1)+1,2), 17 >DAY(EOMONTH(N24,0))+WEEKDAY(EOMONTH(N24,-1)+1,3)),"", 17 -WEEKDAY(EOMONTH(N24,-1)+1,2)+1) -> 12 | K27: =IF(OR( 18 <WEEKDAY(EOMONTH(N24,-1)+1,2), 18 >DAY(EOMONTH(N24,0))+WEEKDAY(EOMONTH(N24,-1)+1,3)),"", 18 -WEEKDAY(EOMONTH(N24,-1)+1,2)+1) -> 13 | L27: =IF(OR( 19 <WEEKDAY(EOMONTH(N24,-1)+1,2), 19 >DAY(EOMONTH(N24,0))+WEEKDAY(EOMONTH(N24,-1)+1,3)),"", 19 -WEEKDAY(EOMONTH(N24,-1)+1,2)+1) -> 14 | M27: =IF(OR( 20 <WEEKDAY(EOMONTH(N24,-1)+1,2), 20 >DAY(EOMONTH(N24,0))+WEEKDAY(EOMONTH(N24,-1)+1,3)),"", 20 -WEEKDAY(EOMONTH(N24,-1)+1,2)+1) -> 15 | N27: =IF(OR( 21 <WEEKDAY(EOMONTH(N24,-1)+1,2), 21 >DAY(EOMONTH(N24,0))+WEEKDAY(EOMONTH(N24,-1)+1,3)),"", 21 -WEEKDAY(EOMONTH(N24,-1)+1,2)+1) -> 16 | O27: =IF(OR( 15 <WEEKDAY(EOMONTH(U24,-1)+1,2), 15 >DAY(EOMONTH(U24,0))+WEEKDAY(EOMONTH(U24,-1)+1,3)),"", 15 -WEEKDAY(EOMONTH(U24,-1)+1,2)+1) -> 15 | P27: =IF(OR( 16 <WEEKDAY(EOMONTH(U24,-1)+1,2), 16 >DAY(EOMONTH(U24,0))+WEEKDAY(EOMONTH(U24,-1)+1,3)),"", 16 -WEEKDAY(EOMONTH(U24,-1)+1,2)+1) -> 16 | Q27: =IF(OR( 17 <WEEKDAY(EOMONTH(U24,-1)+1,2), 17 >DAY(EOMONTH(U24,0))+WEEKDAY(EOMONTH(U24,-1)+1,3)),"", 17 -WEEKDAY(EOMONTH(U24,-1)+1,2)+1) -> 17 | R27: =IF(OR( 18 <WEEKDAY(EOMONTH(U24,-1)+1,2), 18 >DAY(EOMONTH(U24,0))+WEEKDAY(EOMONTH(U24,-1)+1,3)),"", 18 -WEEKDAY(EOMONTH(U24,-1)+1,2)+1) -> 18 | S27: =IF(OR( 19 <WEEKDAY(EOMONTH(U24,-1)+1,2), 19 >DAY(EOMONTH(U24,0))+WEEKDAY(EOMONTH(U24,-1)+1,3)),"", 19 -WEEKDAY(EOMONTH(U24,-1)+1,2)+1) -> 19 | T27: =IF(OR( 20 <WEEKDAY(EOMONTH(U24,-1)+1,2), 20 >DAY(EOMONTH(U24,0))+WEEKDAY(EOMONTH(U24,-1)+1,3)),"", 20 -WEEKDAY(EOMONTH(U24,-1)+1,2)+1) -> 20 | U27: =IF(OR( 21 <WEEKDAY(EOMONTH(U24,-1)+1,2), 21 >DAY(EOMONTH(U24,0))+WEEKDAY(EOMONTH(U24,-1)+1,3)),"", 21 -WEEKDAY(EOMONTH(U24,-1)+1,2)+1) -> 21
A28: =IF(OR( 22 <WEEKDAY(EOMONTH(G24,-1)+1,2), 22 >DAY(EOMONTH(G24,0))+WEEKDAY(EOMONTH(G24,-1)+1,3)),"", 22 -WEEKDAY(EOMONTH(G24,-1)+1,2)+1) -> 20 | B28: =IF(OR( 23 <WEEKDAY(EOMONTH(G24,-1)+1,2), 23 >DAY(EOMONTH(G24,0))+WEEKDAY(EOMONTH(G24,-1)+1,3)),"", 23 -WEEKDAY(EOMONTH(G24,-1)+1,2)+1) -> 21 | C28: =IF(OR( 24 <WEEKDAY(EOMONTH(G24,-1)+1,2), 24 >DAY(EOMONTH(G24,0))+WEEKDAY(EOMONTH(G24,-1)+1,3)),"", 24 -WEEKDAY(EOMONTH(G24,-1)+1,2)+1) -> 22 | D28: =IF(OR( 25 <WEEKDAY(EOMONTH(G24,-1)+1,2), 25 >DAY(EOMONTH(G24,0))+WEEKDAY(EOMONTH(G24,-1)+1,3)),"", 25 -WEEKDAY(EOMONTH(G24,-1)+1,2)+1) -> 23 | E28: =IF(OR( 26 <WEEKDAY(EOMONTH(G24,-1)+1,2), 26 >DAY(EOMONTH(G24,0))+WEEKDAY(EOMONTH(G24,-1)+1,3)),"", 26 -WEEKDAY(EOMONTH(G24,-1)+1,2)+1) -> 24 | F28: =IF(OR( 27 <WEEKDAY(EOMONTH(G24,-1)+1,2), 27 >DAY(EOMONTH(G24,0))+WEEKDAY(EOMONTH(G24,-1)+1,3)),"", 27 -WEEKDAY(EOMONTH(G24,-1)+1,2)+1) -> 25 | G28: =IF(OR( 28 <WEEKDAY(EOMONTH(G24,-1)+1,2), 28 >DAY(EOMONTH(G24,0))+WEEKDAY(EOMONTH(G24,-1)+1,3)),"", 28 -WEEKDAY(EOMONTH(G24,-1)+1,2)+1) -> 26 | H28: =IF(OR( 22 <WEEKDAY(EOMONTH(N24,-1)+1,2), 22 >DAY(EOMONTH(N24,0))+WEEKDAY(EOMONTH(N24,-1)+1,3)),"", 22 -WEEKDAY(EOMONTH(N24,-1)+1,2)+1) -> 17 | I28: =IF(OR( 23 <WEEKDAY(EOMONTH(N24,-1)+1,2), 23 >DAY(EOMONTH(N24,0))+WEEKDAY(EOMONTH(N24,-1)+1,3)),"", 23 -WEEKDAY(EOMONTH(N24,-1)+1,2)+1) -> 18 | J28: =IF(OR( 24 <WEEKDAY(EOMONTH(N24,-1)+1,2), 24 >DAY(EOMONTH(N24,0))+WEEKDAY(EOMONTH(N24,-1)+1,3)),"", 24 -WEEKDAY(EOMONTH(N24,-1)+1,2)+1) -> 19 | K28: =IF(OR( 25 <WEEKDAY(EOMONTH(N24,-1)+1,2), 25 >DAY(EOMONTH(N24,0))+WEEKDAY(EOMONTH(N24,-1)+1,3)),"", 25 -WEEKDAY(EOMONTH(N24,-1)+1,2)+1) -> 20 | L28: =IF(OR( 26 <WEEKDAY(EOMONTH(N24,-1)+1,2), 26 >DAY(EOMONTH(N24,0))+WEEKDAY(EOMONTH(N24,-1)+1,3)),"", 26 -WEEKDAY(EOMONTH(N24,-1)+1,2)+1) -> 21 | M28: =IF(OR( 27 <WEEKDAY(EOMONTH(N24,-1)+1,2), 27 >DAY(EOMONTH(N24,0))+WEEKDAY(EOMONTH(N24,-1)+1,3)),"", 27 -WEEKDAY(EOMONTH(N24,-1)+1,2)+1) -> 22 | N28: =IF(OR( 28 <WEEKDAY(EOMONTH(N24,-1)+1,2), 28 >DAY(EOMONTH(N24,0))+WEEKDAY(EOMONTH(N24,-1)+1,3)),"", 28 -WEEKDAY(EOMONTH(N24,-1)+1,2)+1) -> 23 | O28: =IF(OR( 22 <WEEKDAY(EOMONTH(U24,-1)+1,2), 22 >DAY(EOMONTH(U24,0))+WEEKDAY(EOMONTH(U24,-1)+1,3)),"", 22 -WEEKDAY(EOMONTH(U24,-1)+1,2)+1) -> 22 | P28: =IF(OR( 23 <WEEKDAY(EOMONTH(U24,-1)+1,2), 23 >DAY(EOMONTH(U24,0))+WEEKDAY(EOMONTH(U24,-1)+1,3)),"", 23 -WEEKDAY(EOMONTH(U24,-1)+1,2)+1) -> 23 | Q28: =IF(OR( 24 <WEEKDAY(EOMONTH(U24,-1)+1,2), 24 >DAY(EOMONTH(U24,0))+WEEKDAY(EOMONTH(U24,-1)+1,3)),"", 24 -WEEKDAY(EOMONTH(U24,-1)+1,2)+1) -> 24 | R28: =IF(OR( 25 <WEEKDAY(EOMONTH(U24,-1)+1,2), 25 >DAY(EOMONTH(U24,0))+WEEKDAY(EOMONTH(U24,-1)+1,3)),"", 25 -WEEKDAY(EOMONTH(U24,-1)+1,2)+1) -> 25 | S28: =IF(OR( 26 <WEEKDAY(EOMONTH(U24,-1)+1,2), 26 >DAY(EOMONTH(U24,0))+WEEKDAY(EOMONTH(U24,-1)+1,3)),"", 26 -WEEKDAY(EOMONTH(U24,-1)+1,2)+1) -> 26 | T28: =IF(OR( 27 <WEEKDAY(EOMONTH(U24,-1)+1,2), 27 >DAY(EOMONTH(U24,0))+WEEKDAY(EOMONTH(U24,-1)+1,3)),"", 27 -WEEKDAY(EOMONTH(U24,-1)+1,2)+1) -> 27 | U28: =IF(OR( 28 <WEEKDAY(EOMONTH(U24,-1)+1,2), 28 >DAY(EOMONTH(U24,0))+WEEKDAY(EOMONTH(U24,-1)+1,3)),"", 28 -WEEKDAY(EOMONTH(U24,-1)+1,2)+1) -> 28
A29: =IF(OR( 29 <WEEKDAY(EOMONTH(G24,-1)+1,2), 29 >DAY(EOMONTH(G24,0))+WEEKDAY(EOMONTH(G24,-1)+1,3)),"", 29 -WEEKDAY(EOMONTH(G24,-1)+1,2)+1) -> 27 | B29: =IF(OR( 30 <WEEKDAY(EOMONTH(G24,-1)+1,2), 30 >DAY(EOMONTH(G24,0))+WEEKDAY(EOMONTH(G24,-1)+1,3)),"", 30 -WEEKDAY(EOMONTH(G24,-1)+1,2)+1) -> 28 | C29: =IF(OR( 31 <WEEKDAY(EOMONTH(G24,-1)+1,2), 31 >DAY(EOMONTH(G24,0))+WEEKDAY(EOMONTH(G24,-1)+1,3)),"", 31 -WEEKDAY(EOMONTH(G24,-1)+1,2)+1) -> 29 | D29: =IF(OR( 32 <WEEKDAY(EOMONTH(G24,-1)+1,2), 32 >DAY(EOMONTH(G24,0))+WEEKDAY(EOMONTH(G24,-1)+1,3)),"", 32 -WEEKDAY(EOMONTH(G24,-1)+1,2)+1) -> 30 | E29: =IF(OR( 33 <WEEKDAY(EOMONTH(G24,-1)+1,2), 33 >DAY(EOMONTH(G24,0))+WEEKDAY(EOMONTH(G24,-1)+1,3)),"", 33 -WEEKDAY(EOMONTH(G24,-1)+1,2)+1) -> 31 | F29: =IF(OR( 34 <WEEKDAY(EOMONTH(G24,-1)+1,2), 34 >DAY(EOMONTH(G24,0))+WEEKDAY(EOMONTH(G24,-1)+1,3)),"", 34 -WEEKDAY(EOMONTH(G24,-1)+1,2)+1) | G29: =IF(OR( 35 <WEEKDAY(EOMONTH(G24,-1)+1,2), 35 >DAY(EOMONTH(G24,0))+WEEKDAY(EOMONTH(G24,-1)+1,3)),"", 35 -WEEKDAY(EOMONTH(G24,-1)+1,2)+1) | H29: =IF(OR( 29 <WEEKDAY(EOMONTH(N24,-1)+1,2), 29 >DAY(EOMONTH(N24,0))+WEEKDAY(EOMONTH(N24,-1)+1,3)),"", 29 -WEEKDAY(EOMONTH(N24,-1)+1,2)+1) -> 24 | I29: =IF(OR( 30 <WEEKDAY(EOMONTH(N24,-1)+1,2), 30 >DAY(EOMONTH(N24,0))+WEEKDAY(EOMONTH(N24,-1)+1,3)),"", 30 -WEEKDAY(EOMONTH(N24,-1)+1,2)+1) -> 25 | J29: =IF(OR( 31 <WEEKDAY(EOMONTH(N24,-1)+1,2), 31 >DAY(EOMONTH(N24,0))+WEEKDAY(EOMONTH(N24,-1)+1,3)),"", 31 -WEEKDAY(EOMONTH(N24,-1)+1,2)+1) -> 26 | K29: =IF(OR( 32 <WEEKDAY(EOMONTH(N24,-1)+1,2), 32 >DAY(EOMONTH(N24,0))+WEEKDAY(EOMONTH(N24,-1)+1,3)),"", 32 -WEEKDAY(EOMONTH(N24,-1)+1,2)+1) -> 27 | L29: =IF(OR( 33 <WEEKDAY(EOMONTH(N24,-1)+1,2), 33 >DAY(EOMONTH(N24,0))+WEEKDAY(EOMONTH(N24,-1)+1,3)),"", 33 -WEEKDAY(EOMONTH(N24,-1)+1,2)+1) -> 28 | M29: =IF(OR( 34 <WEEKDAY(EOMONTH(N24,-1)+1,2), 34 >DAY(EOMONTH(N24,0))+WEEKDAY(EOMONTH(N24,-1)+1,3)),"", 34 -WEEKDAY(EOMONTH(N24,-1)+1,2)+1) -> 29 | N29: =IF(OR( 35 <WEEKDAY(EOMONTH(N24,-1)+1,2), 35 >DAY(EOMONTH(N24,0))+WEEKDAY(EOMONTH(N24,-1)+1,3)),"", 35 -WEEKDAY(EOMONTH(N24,-1)+1,2)+1) -> 30 | O29: =IF(OR( 29 <WEEKDAY(EOMONTH(U24,-1)+1,2), 29 >DAY(EOMONTH(U24,0))+WEEKDAY(EOMONTH(U24,-1)+1,3)),"", 29 -WEEKDAY(EOMONTH(U24,-1)+1,2)+1) -> 29 | P29: =IF(OR( 30 <WEEKDAY(EOMONTH(U24,-1)+1,2), 30 >DAY(EOMONTH(U24,0))+WEEKDAY(EOMONTH(U24,-1)+1,3)),"", 30 -WEEKDAY(EOMONTH(U24,-1)+1,2)+1) -> 30 | Q29: =IF(OR( 31 <WEEKDAY(EOMONTH(U24,-1)+1,2), 31 >DAY(EOMONTH(U24,0))+WEEKDAY(EOMONTH(U24,-1)+1,3)),"", 31 -WEEKDAY(EOMONTH(U24,-1)+1,2)+1) -> 31 | R29: =IF(OR( 32 <WEEKDAY(EOMONTH(U24,-1)+1,2), 32 >DAY(EOMONTH(U24,0))+WEEKDAY(EOMONTH(U24,-1)+1,3)),"", 32 -WEEKDAY(EOMONTH(U24,-1)+1,2)+1) | S29: =IF(OR( 33 <WEEKDAY(EOMONTH(U24,-1)+1,2), 33 >DAY(EOMONTH(U24,0))+WEEKDAY(EOMONTH(U24,-1)+1,3)),"", 33 -WEEKDAY(EOMONTH(U24,-1)+1,2)+1) | T29: =IF(OR( 34 <WEEKDAY(EOMONTH(U24,-1)+1,2), 34 >DAY(EOMONTH(U24,0))+WEEKDAY(EOMONTH(U24,-1)+1,3)),"", 34 -WEEKDAY(EOMONTH(U24,-1)+1,2)+1) | U29: =IF(OR( 35 <WEEKDAY(EOMONTH(U24,-1)+1,2), 35 >DAY(EOMONTH(U24,0))+WEEKDAY(EOMONTH(U24,-1)+1,3)),"", 35 -WEEKDAY(EOMONTH(U24,-1)+1,2)+1)
A30: =IF(OR( 36 <WEEKDAY(EOMONTH(G24,-1)+1,2), 36 >DAY(EOMONTH(G24,0))+WEEKDAY(EOMONTH(G24,-1)+1,3)),"", 36 -WEEKDAY(EOMONTH(G24,-1)+1,2)+1) | B30: =IF(OR( 37 <WEEKDAY(EOMONTH(G24,-1)+1,2), 37 >DAY(EOMONTH(G24,0))+WEEKDAY(EOMONTH(G24,-1)+1,3)),"", 37 -WEEKDAY(EOMONTH(G24,-1)+1,2)+1) | C30: =IF(OR( 38 <WEEKDAY(EOMONTH(G24,-1)+1,2), 38 >DAY(EOMONTH(G24,0))+WEEKDAY(EOMONTH(G24,-1)+1,3)),"", 38 -WEEKDAY(EOMONTH(G24,-1)+1,2)+1) | D30: =IF(OR( 39 <WEEKDAY(EOMONTH(G24,-1)+1,2), 39 >DAY(EOMONTH(G24,0))+WEEKDAY(EOMONTH(G24,-1)+1,3)),"", 39 -WEEKDAY(EOMONTH(G24,-1)+1,2)+1) | E30: =IF(OR( 40 <WEEKDAY(EOMONTH(G24,-1)+1,2), 40 >DAY(EOMONTH(G24,0))+WEEKDAY(EOMONTH(G24,-1)+1,3)),"", 40 -WEEKDAY(EOMONTH(G24,-1)+1,2)+1) | F30: =IF(OR( 41 <WEEKDAY(EOMONTH(G24,-1)+1,2), 41 >DAY(EOMONTH(G24,0))+WEEKDAY(EOMONTH(G24,-1)+1,3)),"", 41 -WEEKDAY(EOMONTH(G24,-1)+1,2)+1) | G30: =IF(OR( 42 <WEEKDAY(EOMONTH(G24,-1)+1,2), 42 >DAY(EOMONTH(G24,0))+WEEKDAY(EOMONTH(G24,-1)+1,3)),"", 42 -WEEKDAY(EOMONTH(G24,-1)+1,2)+1) | H30: =IF(OR( 36 <WEEKDAY(EOMONTH(N24,-1)+1,2), 36 >DAY(EOMONTH(N24,0))+WEEKDAY(EOMONTH(N24,-1)+1,3)),"", 36 -WEEKDAY(EOMONTH(N24,-1)+1,2)+1) | I30: =IF(OR( 37 <WEEKDAY(EOMONTH(N24,-1)+1,2), 37 >DAY(EOMONTH(N24,0))+WEEKDAY(EOMONTH(N24,-1)+1,3)),"", 37 -WEEKDAY(EOMONTH(N24,-1)+1,2)+1) | J30: =IF(OR( 38 <WEEKDAY(EOMONTH(N24,-1)+1,2), 38 >DAY(EOMONTH(N24,0))+WEEKDAY(EOMONTH(N24,-1)+1,3)),"", 38 -WEEKDAY(EOMONTH(N24,-1)+1,2)+1) | K30: =IF(OR( 39 <WEEKDAY(EOMONTH(N24,-1)+1,2), 39 >DAY(EOMONTH(N24,0))+WEEKDAY(EOMONTH(N24,-1)+1,3)),"", 39 -WEEKDAY(EOMONTH(N24,-1)+1,2)+1) | L30: =IF(OR( 40 <WEEKDAY(EOMONTH(N24,-1)+1,2), 40 >DAY(EOMONTH(N24,0))+WEEKDAY(EOMONTH(N24,-1)+1,3)),"", 40 -WEEKDAY(EOMONTH(N24,-1)+1,2)+1) | M30: =IF(OR( 41 <WEEKDAY(EOMONTH(N24,-1)+1,2), 41 >DAY(EOMONTH(N24,0))+WEEKDAY(EOMONTH(N24,-1)+1,3)),"", 41 -WEEKDAY(EOMONTH(N24,-1)+1,2)+1) | N30: =IF(OR( 42 <WEEKDAY(EOMONTH(N24,-1)+1,2), 42 >DAY(EOMONTH(N24,0))+WEEKDAY(EOMONTH(N24,-1)+1,3)),"", 42 -WEEKDAY(EOMONTH(N24,-1)+1,2)+1) | O30: =IF(OR( 36 <WEEKDAY(EOMONTH(U24,-1)+1,2), 36 >DAY(EOMONTH(U24,0))+WEEKDAY(EOMONTH(U24,-1)+1,3)),"", 36 -WEEKDAY(EOMONTH(U24,-1)+1,2)+1) | P30: =IF(OR( 37 <WEEKDAY(EOMONTH(U24,-1)+1,2), 37 >DAY(EOMONTH(U24,0))+WEEKDAY(EOMONTH(U24,-1)+1,3)),"", 37 -WEEKDAY(EOMONTH(U24,-1)+1,2)+1) | Q30: =IF(OR( 38 <WEEKDAY(EOMONTH(U24,-1)+1,2), 38 >DAY(EOMONTH(U24,0))+WEEKDAY(EOMONTH(U24,-1)+1,3)),"", 38 -WEEKDAY(EOMONTH(U24,-1)+1,2)+1) | R30: =IF(OR( 39 <WEEKDAY(EOMONTH(U24,-1)+1,2), 39 >DAY(EOMONTH(U24,0))+WEEKDAY(EOMONTH(U24,-1)+1,3)),"", 39 -WEEKDAY(EOMONTH(U24,-1)+1,2)+1) | S30: =IF(OR( 40 <WEEKDAY(EOMONTH(U24,-1)+1,2), 40 >DAY(EOMONTH(U24,0))+WEEKDAY(EOMONTH(U24,-1)+1,3)),"", 40 -WEEKDAY(EOMONTH(U24,-1)+1,2)+1) | T30: =IF(OR( 41 <WEEKDAY(EOMONTH(U24,-1)+1,2), 41 >DAY(EOMONTH(U24,0))+WEEKDAY(EOMONTH(U24,-1)+1,3)),"", 41 -WEEKDAY(EOMONTH(U24,-1)+1,2)+1) | U30: =IF(OR( 42 <WEEKDAY(EOMONTH(U24,-1)+1,2), 42 >DAY(EOMONTH(U24,0))+WEEKDAY(EOMONTH(U24,-1)+1,3)),"", 42 -WEEKDAY(EOMONTH(U24,-1)+1,2)+1)
A31: пн | B31: вт | C31: ср | D31: чт | E31: пт | F31: сб | G31: вс | H31: пн | I31: вт | J31: ср | K31: чт | L31: пт | M31: сб | N31: вс | O31: пн | P31: вт | Q31: ср | R31: чт | S31: пт | T31: сб | U31: вс

Sheet планер на 42 дня
A1: сдвиг, дни | B1: 0 | E1: =CONCATENATE(VLOOKUP(MONTH( M1 ),месяцы,2)," ",YEAR(M1)) -> Январь 2014 | K1: =M1 - WEEKDAY(M1, 2) -> 41651 | M1: =TODAY()+B1*7 -> 41655
A2: =CONCATENATE(VLOOKUP(MONTH(B2),месяцы,2),",") -> Январь, | B2: =$K$1+1 -> 41652 | C2: =IF(OR(EOMONTH(D2,0)=D2,EOMONTH(D2,-1)+1=D2),CONCATENATE(VLOOKUP(MONTH(D2),месяцы,2),","),"") | D2: =$K$1+2 -> 41653 | E2: =IF(OR(EOMONTH(F2,0)=F2,EOMONTH(F2,-1)+1=F2),CONCATENATE(VLOOKUP(MONTH(F2),месяцы,2),","),"") | F2: =$K$1+3 -> 41654 | G2: =IF(OR(EOMONTH(H2,0)=H2,EOMONTH(H2,-1)+1=H2),CONCATENATE(VLOOKUP(MONTH(H2),месяцы,2),","),"") | H2: =$K$1+4 -> 41655 | I2: =IF(OR(EOMONTH(J2,0)=J2,EOMONTH(J2,-1)+1=J2),CONCATENATE(VLOOKUP(MONTH(J2),месяцы,2),","),"") | J2: =$K$1+5 -> 41656 | K2: =IF(OR(EOMONTH(L2,0)=L2,EOMONTH(L2,-1)+1=L2),CONCATENATE(VLOOKUP(MONTH(L2),месяцы,2),","),"") | L2: =$K$1+6 -> 41657 | M2: =IF(OR(EOMONTH(N2,0)=N2,EOMONTH(N2,-1)+1=N2),CONCATENATE(VLOOKUP(MONTH(N2),месяцы,2),","),"") | N2: =$K$1+7 -> 41658
A3: =IFERROR(VLOOKUP(B2,все_основные,2,FALSE),IFERROR(CONCATENATE("Выходной за ",VLOOKUP(B2,все_переносы,2,FALSE)),"")) | C3: =IFERROR(VLOOKUP(D2,все_основные,2,FALSE),IFERROR(CONCATENATE("Выходной за ",VLOOKUP(D2,все_переносы,2,FALSE)),"")) | E3: =IFERROR(VLOOKUP(F2,все_основные,2,FALSE),IFERROR(CONCATENATE("Выходной за ",VLOOKUP(F2,все_переносы,2,FALSE)),"")) | G3: =IFERROR(VLOOKUP(H2,все_основные,2,FALSE),IFERROR(CONCATENATE("Выходной за ",VLOOKUP(H2,все_переносы,2,FALSE)),"")) | I3: =IFERROR(VLOOKUP(J2,все_основные,2,FALSE),IFERROR(CONCATENATE("Выходной за ",VLOOKUP(J2,все_переносы,2,FALSE)),"")) | K3: =IFERROR(VLOOKUP(L2,все_основные,2,FALSE),IFERROR(CONCATENATE("Выходной за ",VLOOKUP(L2,все_переносы,2,FALSE)),"")) | M3: =IFERROR(VLOOKUP(N2,все_основные,2,FALSE),IFERROR(CONCATENATE("Выходной за ",VLOOKUP(N2,все_переносы,2,FALSE)),""))
A4: =IF(OR(EOMONTH(B4,0)=B4,EOMONTH(B4,-1)+1=B4),CONCATENATE(VLOOKUP(MONTH(B4),месяцы,2),","),"") | B4: =$K$1+8 -> 41659 | C4: =IF(OR(EOMONTH(D4,0)=D4,EOMONTH(D4,-1)+1=D4),CONCATENATE(VLOOKUP(MONTH(D4),месяцы,2),","),"") | D4: =$K$1+9 -> 41660 | E4: =IF(OR(EOMONTH(F4,0)=F4,EOMONTH(F4,-1)+1=F4),CONCATENATE(VLOOKUP(MONTH(F4),месяцы,2),","),"") | F4: =$K$1+10 -> 41661 | G4: =IF(OR(EOMONTH(H4,0)=H4,EOMONTH(H4,-1)+1=H4),CONCATENATE(VLOOKUP(MONTH(H4),месяцы,2),","),"") | H4: =$K$1+11 -> 41662 | I4: =IF(OR(EOMONTH(J4,0)=J4,EOMONTH(J4,-1)+1=J4),CONCATENATE(VLOOKUP(MONTH(J4),месяцы,2),","),"") | J4: =$K$1+12 -> 41663 | K4: =IF(OR(EOMONTH(L4,0)=L4,EOMONTH(L4,-1)+1=L4),CONCATENATE(VLOOKUP(MONTH(L4),месяцы,2),","),"") | L4: =$K$1+13 -> 41664 | M4: =IF(OR(EOMONTH(N4,0)=N4,EOMONTH(N4,-1)+1=N4),CONCATENATE(VLOOKUP(MONTH(N4),месяцы,2),","),"") | N4: =$K$1+14 -> 41665
A5: =IFERROR(VLOOKUP(B4,все_основные,2,FALSE),IFERROR(CONCATENATE("Выходной за ",VLOOKUP(B4,все_переносы,2,FALSE)),"")) | C5: =IFERROR(VLOOKUP(D4,все_основные,2,FALSE),IFERROR(CONCATENATE("Выходной за ",VLOOKUP(D4,все_переносы,2,FALSE)),"")) | E5: =IFERROR(VLOOKUP(F4,все_основные,2,FALSE),IFERROR(CONCATENATE("Выходной за ",VLOOKUP(F4,все_переносы,2,FALSE)),"")) | G5: =IFERROR(VLOOKUP(H4,все_основные,2,FALSE),IFERROR(CONCATENATE("Выходной за ",VLOOKUP(H4,все_переносы,2,FALSE)),"")) | I5: =IFERROR(VLOOKUP(J4,все_основные,2,FALSE),IFERROR(CONCATENATE("Выходной за ",VLOOKUP(J4,все_переносы,2,FALSE)),"")) | K5: =IFERROR(VLOOKUP(L4,все_основные,2,FALSE),IFERROR(CONCATENATE("Выходной за ",VLOOKUP(L4,все_переносы,2,FALSE)),"")) | M5: =IFERROR(VLOOKUP(N4,все_основные,2,FALSE),IFERROR(CONCATENATE("Выходной за ",VLOOKUP(N4,все_переносы,2,FALSE)),""))
A6: =IF(OR(EOMONTH(B6,0)=B6,EOMONTH(B6,-1)+1=B6),CONCATENATE(VLOOKUP(MONTH(B6),месяцы,2),","),"") | B6: =$K$1+15 -> 41666 | C6: =IF(OR(EOMONTH(D6,0)=D6,EOMONTH(D6,-1)+1=D6),CONCATENATE(VLOOKUP(MONTH(D6),месяцы,2),","),"") | D6: =$K$1+16 -> 41667 | E6: =IF(OR(EOMONTH(F6,0)=F6,EOMONTH(F6,-1)+1=F6),CONCATENATE(VLOOKUP(MONTH(F6),месяцы,2),","),"") | F6: =$K$1+17 -> 41668 | G6: =IF(OR(EOMONTH(H6,0)=H6,EOMONTH(H6,-1)+1=H6),CONCATENATE(VLOOKUP(MONTH(H6),месяцы,2),","),"") | H6: =$K$1+18 -> 41669 | I6: =IF(OR(EOMONTH(J6,0)=J6,EOMONTH(J6,-1)+1=J6),CONCATENATE(VLOOKUP(MONTH(J6),месяцы,2),","),"") -> Январь, | J6: =$K$1+19 -> 41670 | K6: =IF(OR(EOMONTH(L6,0)=L6,EOMONTH(L6,-1)+1=L6),CONCATENATE(VLOOKUP(MONTH(L6),месяцы,2),","),"") -> Февраль, | L6: =$K$1+20 -> 41671 | M6: =IF(OR(EOMONTH(N6,0)=N6,EOMONTH(N6,-1)+1=N6),CONCATENATE(VLOOKUP(MONTH(N6),месяцы,2),","),"") | N6: =$K$1+21 -> 41672
A7: =IFERROR(VLOOKUP(B6,все_основные,2,FALSE),IFERROR(CONCATENATE("Выходной за ",VLOOKUP(B6,все_переносы,2,FALSE)),"")) | C7: =IFERROR(VLOOKUP(D6,все_основные,2,FALSE),IFERROR(CONCATENATE("Выходной за ",VLOOKUP(D6,все_переносы,2,FALSE)),"")) | E7: =IFERROR(VLOOKUP(F6,все_основные,2,FALSE),IFERROR(CONCATENATE("Выходной за ",VLOOKUP(F6,все_переносы,2,FALSE)),"")) | G7: =IFERROR(VLOOKUP(H6,все_основные,2,FALSE),IFERROR(CONCATENATE("Выходной за ",VLOOKUP(H6,все_переносы,2,FALSE)),"")) | I7: =IFERROR(VLOOKUP(J6,все_основные,2,FALSE),IFERROR(CONCATENATE("Выходной за ",VLOOKUP(J6,все_переносы,2,FALSE)),"")) | K7: =IFERROR(VLOOKUP(L6,все_основные,2,FALSE),IFERROR(CONCATENATE("Выходной за ",VLOOKUP(L6,все_переносы,2,FALSE)),"")) | M7: =IFERROR(VLOOKUP(N6,все_основные,2,FALSE),IFERROR(CONCATENATE("Выходной за ",VLOOKUP(N6,все_переносы,2,FALSE)),""))
A8: =IF(OR(EOMONTH(B8,0)=B8,EOMONTH(B8,-1)+1=B8),CONCATENATE(VLOOKUP(MONTH(B8),месяцы,2),","),"") | B8: =$K$1+22 -> 41673 | C8: =IF(OR(EOMONTH(D8,0)=D8,EOMONTH(D8,-1)+1=D8),CONCATENATE(VLOOKUP(MONTH(D8),месяцы,2),","),"") | D8: =$K$1+23 -> 41674 | E8: =IF(OR(EOMONTH(F8,0)=F8,EOMONTH(F8,-1)+1=F8),CONCATENATE(VLOOKUP(MONTH(F8),месяцы,2),","),"") | F8: =$K$1+24 -> 41675 | G8: =IF(OR(EOMONTH(H8,0)=H8,EOMONTH(H8,-1)+1=H8),CONCATENATE(VLOOKUP(MONTH(H8),месяцы,2),","),"") | H8: =$K$1+25 -> 41676 | I8: =IF(OR(EOMONTH(J8,0)=J8,EOMONTH(J8,-1)+1=J8),CONCATENATE(VLOOKUP(MONTH(J8),месяцы,2),","),"") | J8: =$K$1+26 -> 41677 | K8: =IF(OR(EOMONTH(L8,0)=L8,EOMONTH(L8,-1)+1=L8),CONCATENATE(VLOOKUP(MONTH(L8),месяцы,2),","),"") | L8: =$K$1+27 -> 41678 | M8: =IF(OR(EOMONTH(N8,0)=N8,EOMONTH(N8,-1)+1=N8),CONCATENATE(VLOOKUP(MONTH(N8),месяцы,2),","),"") | N8: =$K$1+28 -> 41679
A9: =IFERROR(VLOOKUP(B8,все_основные,2,FALSE),IFERROR(CONCATENATE("Выходной за ",VLOOKUP(B8,все_переносы,2,FALSE)),"")) | C9: =IFERROR(VLOOKUP(D8,все_основные,2,FALSE),IFERROR(CONCATENATE("Выходной за ",VLOOKUP(D8,все_переносы,2,FALSE)),"")) | E9: =IFERROR(VLOOKUP(F8,все_основные,2,FALSE),IFERROR(CONCATENATE("Выходной за ",VLOOKUP(F8,все_переносы,2,FALSE)),"")) | G9: =IFERROR(VLOOKUP(H8,все_основные,2,FALSE),IFERROR(CONCATENATE("Выходной за ",VLOOKUP(H8,все_переносы,2,FALSE)),"")) | I9: =IFERROR(VLOOKUP(J8,все_основные,2,FALSE),IFERROR(CONCATENATE("Выходной за ",VLOOKUP(J8,все_переносы,2,FALSE)),"")) | K9: =IFERROR(VLOOKUP(L8,все_основные,2,FALSE),IFERROR(CONCATENATE("Выходной за ",VLOOKUP(L8,все_переносы,2,FALSE)),"")) | M9: =IFERROR(VLOOKUP(N8,все_основные,2,FALSE),IFERROR(CONCATENATE("Выходной за ",VLOOKUP(N8,все_переносы,2,FALSE)),""))
A10: =IF(OR(EOMONTH(B10,0)=B10,EOMONTH(B10,-1)+1=B10),CONCATENATE(VLOOKUP(MONTH(B10),месяцы,2),","),"") | B10: =$K$1+29 -> 41680 | C10: =IF(OR(EOMONTH(D10,0)=D10,EOMONTH(D10,-1)+1=D10),CONCATENATE(VLOOKUP(MONTH(D10),месяцы,2),","),"") | D10: =$K$1+30 -> 41681 | E10: =IF(OR(EOMONTH(F10,0)=F10,EOMONTH(F10,-1)+1=F10),CONCATENATE(VLOOKUP(MONTH(F10),месяцы,2),","),"") | F10: =$K$1+31 -> 41682 | G10: =IF(OR(EOMONTH(H10,0)=H10,EOMONTH(H10,-1)+1=H10),CONCATENATE(VLOOKUP(MONTH(H10),месяцы,2),","),"") | H10: =$K$1+32 -> 41683 | I10: =IF(OR(EOMONTH(J10,0)=J10,EOMONTH(J10,-1)+1=J10),CONCATENATE(VLOOKUP(MONTH(J10),месяцы,2),","),"") | J10: =$K$1+33 -> 41684 | K10: =IF(OR(EOMONTH(L10,0)=L10,EOMONTH(L10,-1)+1=L10),CONCATENATE(VLOOKUP(MONTH(L10),месяцы,2),","),"") | L10: =$K$1+34 -> 41685 | M10: =IF(OR(EOMONTH(N10,0)=N10,EOMONTH(N10,-1)+1=N10),CONCATENATE(VLOOKUP(MONTH(N10),месяцы,2),","),"") | N10: =$K$1+35 -> 41686
A11: =IFERROR(VLOOKUP(B10,все_основные,2,FALSE),IFERROR(CONCATENATE("Выходной за ",VLOOKUP(B10,все_переносы,2,FALSE)),"")) | C11: =IFERROR(VLOOKUP(D10,все_основные,2,FALSE),IFERROR(CONCATENATE("Выходной за ",VLOOKUP(D10,все_переносы,2,FALSE)),"")) | E11: =IFERROR(VLOOKUP(F10,все_основные,2,FALSE),IFERROR(CONCATENATE("Выходной за ",VLOOKUP(F10,все_переносы,2,FALSE)),"")) | G11: =IFERROR(VLOOKUP(H10,все_основные,2,FALSE),IFERROR(CONCATENATE("Выходной за ",VLOOKUP(H10,все_переносы,2,FALSE)),"")) | I11: =IFERROR(VLOOKUP(J10,все_основные,2,FALSE),IFERROR(CONCATENATE("Выходной за ",VLOOKUP(J10,все_переносы,2,FALSE)),"")) | K11: =IFERROR(VLOOKUP(L10,все_основные,2,FALSE),IFERROR(CONCATENATE("Выходной за ",VLOOKUP(L10,все_переносы,2,FALSE)),"")) | M11: =IFERROR(VLOOKUP(N10,все_основные,2,FALSE),IFERROR(CONCATENATE("Выходной за ",VLOOKUP(N10,все_переносы,2,FALSE)),""))
A12: =IF(OR(EOMONTH(B12,0)=B12,EOMONTH(B12,-1)+1=B12),CONCATENATE(VLOOKUP(MONTH(B12),месяцы,2),","),"") | B12: =$K$1+36 -> 41687 | C12: =IF(OR(EOMONTH(D12,0)=D12,EOMONTH(D12,-1)+1=D12),CONCATENATE(VLOOKUP(MONTH(D12),месяцы,2),","),"") | D12: =$K$1+37 -> 41688 | E12: =IF(OR(EOMONTH(F12,0)=F12,EOMONTH(F12,-1)+1=F12),CONCATENATE(VLOOKUP(MONTH(F12),месяцы,2),","),"") | F12: =$K$1+38 -> 41689 | G12: =IF(OR(EOMONTH(H12,0)=H12,EOMONTH(H12,-1)+1=H12),CONCATENATE(VLOOKUP(MONTH(H12),месяцы,2),","),"") | H12: =$K$1+39 -> 41690 | I12: =IF(OR(EOMONTH(J12,0)=J12,EOMONTH(J12,-1)+1=J12),CONCATENATE(VLOOKUP(MONTH(J12),месяцы,2),","),"") | J12: =$K$1+40 -> 41691 | K12: =IF(OR(EOMONTH(L12,0)=L12,EOMONTH(L12,-1)+1=L12),CONCATENATE(VLOOKUP(MONTH(L12),месяцы,2),","),"") | L12: =$K$1+41 -> 41692 | M12: =IF(OR(EOMONTH(N12,0)=N12,EOMONTH(N12,-1)+1=N12),CONCATENATE(VLOOKUP(MONTH(N12),месяцы,2),","),"") | N12: =$K$1+42 -> 41693
A13: =IFERROR(VLOOKUP(B12,все_основные,2,FALSE),IFERROR(CONCATENATE("Выходной за ",VLOOKUP(B12,все_переносы,2,FALSE)),"")) | C13: =IFERROR(VLOOKUP(D12,все_основные,2,FALSE),IFERROR(CONCATENATE("Выходной за ",VLOOKUP(D12,все_переносы,2,FALSE)),"")) | E13: =IFERROR(VLOOKUP(F12,все_основные,2,FALSE),IFERROR(CONCATENATE("Выходной за ",VLOOKUP(F12,все_переносы,2,FALSE)),"")) | G13: =IFERROR(VLOOKUP(H12,все_основные,2,FALSE),IFERROR(CONCATENATE("Выходной за ",VLOOKUP(H12,все_переносы,2,FALSE)),"")) | I13: =IFERROR(VLOOKUP(J12,все_основные,2,FALSE),IFERROR(CONCATENATE("Выходной за ",VLOOKUP(J12,все_переносы,2,FALSE)),"")) | K13: =IFERROR(VLOOKUP(L12,все_основные,2,FALSE),IFERROR(CONCATENATE("Выходной за ",VLOOKUP(L12,все_переносы,2,FALSE)),"")) | M13: =IFERROR(VLOOKUP(N12,все_основные,2,FALSE),IFERROR(CONCATENATE("Выходной за ",VLOOKUP(N12,все_переносы,2,FALSE)),""))

Sheet планер месяц 6 строк
A1: 0 | B1: =CONCATENATE(VLOOKUP(MONTH( G1 ),месяцы,2)," ",YEAR(G1)) -> Январь 2014 | G1: =EDATE(TODAY(),A1) -> 41655
A2: =IF(1 < WEEKDAY(EOMONTH(G1,-1)+1,2), DAY(EOMONTH(G1,-1)) - WEEKDAY(EOMONTH(G1,-1),2) + 1, IF(1 > DAY(EOMONTH(G1,0)) + WEEKDAY(EOMONTH(G1,-1)+1,3), 1 - WEEKDAY(EOMONTH(G1,-1)+1,2) - DAY(EOMONTH(G1,0)) + 1, 1 - WEEKDAY(EOMONTH(G1,-1)+1,2)+1)) -> 30 | B2: =IF(2 < WEEKDAY(EOMONTH(G1,-1)+1,2), DAY(EOMONTH(G1,-1)) - WEEKDAY(EOMONTH(G1,-1),2) + 2, IF(2 > DAY(EOMONTH(G1,0)) + WEEKDAY(EOMONTH(G1,-1)+1,3), 2 - WEEKDAY(EOMONTH(G1,-1)+1,2) - DAY(EOMONTH(G1,0)) + 1, 2 - WEEKDAY(EOMONTH(G1,-1)+1,2)+1)) -> 31 | C2: =IF(3 < WEEKDAY(EOMONTH(G1,-1)+1,2), DAY(EOMONTH(G1,-1)) - WEEKDAY(EOMONTH(G1,-1),2) + 3, IF(3 > DAY(EOMONTH(G1,0)) + WEEKDAY(EOMONTH(G1,-1)+1,3), 3 - WEEKDAY(EOMONTH(G1,-1)+1,2) - DAY(EOMONTH(G1,0)) + 1, 3 - WEEKDAY(EOMONTH(G1,-1)+1,2)+1)) -> 1 | D2: =IF(4 < WEEKDAY(EOMONTH(G1,-1)+1,2), DAY(EOMONTH(G1,-1)) - WEEKDAY(EOMONTH(G1,-1),2) + 4, IF(4 > DAY(EOMONTH(G1,0)) + WEEKDAY(EOMONTH(G1,-1)+1,3), 4 - WEEKDAY(EOMONTH(G1,-1)+1,2) - DAY(EOMONTH(G1,0)) + 1, 4 - WEEKDAY(EOMONTH(G1,-1)+1,2)+1)) -> 2 | E2: =IF(5 < WEEKDAY(EOMONTH(G1,-1)+1,2), DAY(EOMONTH(G1,-1)) - WEEKDAY(EOMONTH(G1,-1),2) + 5, IF(5 > DAY(EOMONTH(G1,0)) + WEEKDAY(EOMONTH(G1,-1)+1,3), 5 - WEEKDAY(EOMONTH(G1,-1)+1,2) - DAY(EOMONTH(G1,0)) + 1, 5 - WEEKDAY(EOMONTH(G1,-1)+1,2)+1)) -> 3 | F2: =IF(6 < WEEKDAY(EOMONTH(G1,-1)+1,2), DAY(EOMONTH(G1,-1)) - WEEKDAY(EOMONTH(G1,-1),2) + 6, IF(6 > DAY(EOMONTH(G1,0)) + WEEKDAY(EOMONTH(G1,-1)+1,3), 6 - WEEKDAY(EOMONTH(G1,-1)+1,2) - DAY(EOMONTH(G1,0)) + 1, 6 - WEEKDAY(EOMONTH(G1,-1)+1,2)+1)) -> 4 | G2: =IF(7 < WEEKDAY(EOMONTH(G1,-1)+1,2), DAY(EOMONTH(G1,-1)) - WEEKDAY(EOMONTH(G1,-1),2) + 7, IF(7 > DAY(EOMONTH(G1,0)) + WEEKDAY(EOMONTH(G1,-1)+1,3), 7 - WEEKDAY(EOMONTH(G1,-1)+1,2) - DAY(EOMONTH(G1,0)) + 1, 7 - WEEKDAY(EOMONTH(G1,-1)+1,2)+1)) -> 5
A3: =IFERROR(VLOOKUP(DATE(YEAR($G$1),MONTH($G$1) + IF(A2>7,-1,0),A2),праздники!$D$2:$E$14,2,FALSE),IFERROR(CONCATENATE("Выходной за ",VLOOKUP(DATE(YEAR($G$1),MONTH($G$1) + IF(A2>7,-1,0),A2),праздники!$D$15:$E$28,2,FALSE)),"")) | B3: =IFERROR(VLOOKUP(DATE(YEAR($G$1),MONTH($G$1) + IF(B2>7,-1,0),B2),праздники!$D$2:$E$14,2,FALSE),IFERROR(CONCATENATE("Выходной за ",VLOOKUP(DATE(YEAR($G$1),MONTH($G$1) + IF(B2>7,-1,0),B2),праздники!$D$15:$E$28,2,FALSE)),"")) | C3: =IFERROR(VLOOKUP(DATE(YEAR($G$1),MONTH($G$1) + IF(C2>7,-1,0),C2),праздники!$D$2:$E$14,2,FALSE),IFERROR(CONCATENATE("Выходной за ",VLOOKUP(DATE(YEAR($G$1),MONTH($G$1) + IF(C2>7,-1,0),C2),праздники!$D$15:$E$28,2,FALSE)),"")) -> Новый год | D3: =IFERROR(VLOOKUP(DATE(YEAR($G$1),MONTH($G$1) + IF(D2>7,-1,0),D2),праздники!$D$2:$E$14,2,FALSE),IFERROR(CONCATENATE("Выходной за ",VLOOKUP(DATE(YEAR($G$1),MONTH($G$1) + IF(D2>7,-1,0),D2),праздники!$D$15:$E$28,2,FALSE)),"")) | E3: =IFERROR(VLOOKUP(DATE(YEAR($G$1),MONTH($G$1) + IF(E2>7,-1,0),E2),праздники!$D$2:$E$14,2,FALSE),IFERROR(CONCATENATE("Выходной за ",VLOOKUP(DATE(YEAR($G$1),MONTH($G$1) + IF(E2>7,-1,0),E2),праздники!$D$15:$E$28,2,FALSE)),"")) | F3: =IFERROR(VLOOKUP(DATE(YEAR($G$1),MONTH($G$1) + IF(F2>7,-1,0),F2),праздники!$D$2:$E$14,2,FALSE),IFERROR(CONCATENATE("Выходной за ",VLOOKUP(DATE(YEAR($G$1),MONTH($G$1) + IF(F2>7,-1,0),F2),праздники!$D$15:$E$28,2,FALSE)),"")) | G3: =IFERROR(VLOOKUP(DATE(YEAR($G$1),MONTH($G$1) + IF(G2>7,-1,0),G2),праздники!$D$2:$E$14,2,FALSE),IFERROR(CONCATENATE("Выходной за ",VLOOKUP(DATE(YEAR($G$1),MONTH($G$1) + IF(G2>7,-1,0),G2),праздники!$D$15:$E$28,2,FALSE)),""))
A4: =IF(8 < WEEKDAY(EOMONTH(G1,-1)+1,2), DAY(EOMONTH(G1,-1)) - WEEKDAY(EOMONTH(G1,-1),2) + 8, IF(8 > DAY(EOMONTH(G1,0)) + WEEKDAY(EOMONTH(G1,-1)+1,3), 8 - WEEKDAY(EOMONTH(G1,-1)+1,2) - DAY(EOMONTH(G1,0)) + 1, 8 - WEEKDAY(EOMONTH(G1,-1)+1,2)+1)) -> 6 | B4: =IF(9 < WEEKDAY(EOMONTH(G1,-1)+1,2), DAY(EOMONTH(G1,-1)) - WEEKDAY(EOMONTH(G1,-1),2) + 9, IF(9 > DAY(EOMONTH(G1,0)) + WEEKDAY(EOMONTH(G1,-1)+1,3), 9 - WEEKDAY(EOMONTH(G1,-1)+1,2) - DAY(EOMONTH(G1,0)) + 1, 9 - WEEKDAY(EOMONTH(G1,-1)+1,2)+1)) -> 7 | C4: =IF(10 < WEEKDAY(EOMONTH(G1,-1)+1,2), DAY(EOMONTH(G1,-1)) - WEEKDAY(EOMONTH(G1,-1),2) + 10, IF(10 > DAY(EOMONTH(G1,0)) + WEEKDAY(EOMONTH(G1,-1)+1,3), 10 - WEEKDAY(EOMONTH(G1,-1)+1,2) - DAY(EOMONTH(G1,0)) + 1, 10 - WEEKDAY(EOMONTH(G1,-1)+1,2)+1)) -> 8 | D4: =IF(11 < WEEKDAY(EOMONTH(G1,-1)+1,2), DAY(EOMONTH(G1,-1)) - WEEKDAY(EOMONTH(G1,-1),2) + 11, IF(11 > DAY(EOMONTH(G1,0)) + WEEKDAY(EOMONTH(G1,-1)+1,3), 11 - WEEKDAY(EOMONTH(G1,-1)+1,2) - DAY(EOMONTH(G1,0)) + 1, 11 - WEEKDAY(EOMONTH(G1,-1)+1,2)+1)) -> 9 | E4: =IF(12 < WEEKDAY(EOMONTH(G1,-1)+1,2), DAY(EOMONTH(G1,-1)) - WEEKDAY(EOMONTH(G1,-1),2) + 12, IF(12 > DAY(EOMONTH(G1,0)) + WEEKDAY(EOMONTH(G1,-1)+1,3), 12 - WEEKDAY(EOMONTH(G1,-1)+1,2) - DAY(EOMONTH(G1,0)) + 1, 12 - WEEKDAY(EOMONTH(G1,-1)+1,2)+1)) -> 10 | F4: =IF(13 < WEEKDAY(EOMONTH(G1,-1)+1,2), DAY(EOMONTH(G1,-1)) - WEEKDAY(EOMONTH(G1,-1),2) + 13, IF(13 > DAY(EOMONTH(G1,0)) + WEEKDAY(EOMONTH(G1,-1)+1,3), 13 - WEEKDAY(EOMONTH(G1,-1)+1,2) - DAY(EOMONTH(G1,0)) + 1, 13 - WEEKDAY(EOMONTH(G1,-1)+1,2)+1)) -> 11 | G4: =IF(14 < WEEKDAY(EOMONTH(G1,-1)+1,2), DAY(EOMONTH(G1,-1)) - WEEKDAY(EOMONTH(G1,-1),2) + 14, IF(14 > DAY(EOMONTH(G1,0)) + WEEKDAY(EOMONTH(G1,-1)+1,3), 14 - WEEKDAY(EOMONTH(G1,-1)+1,2) - DAY(EOMONTH(G1,0)) + 1, 14 - WEEKDAY(EOMONTH(G1,-1)+1,2)+1)) -> 12
A5: =IFERROR(VLOOKUP(DATE(YEAR($G$1),MONTH($G$1),A4),праздники!$D$2:$E$14,2,FALSE),IFERROR(CONCATENATE("Выходной за ",VLOOKUP(DATE(YEAR($G$1),MONTH($G$1),A4),праздники!$D$15:$E$28,2,FALSE)),"")) | B5: =IFERROR(VLOOKUP(DATE(YEAR($G$1),MONTH($G$1),B4),праздники!$D$2:$E$14,2,FALSE),IFERROR(CONCATENATE("Выходной за ",VLOOKUP(DATE(YEAR($G$1),MONTH($G$1),B4),праздники!$D$15:$E$28,2,FALSE)),"")) -> Рождество Христово | C5: =IFERROR(VLOOKUP(DATE(YEAR($G$1),MONTH($G$1),C4),праздники!$D$2:$E$14,2,FALSE),IFERROR(CONCATENATE("Выходной за ",VLOOKUP(DATE(YEAR($G$1),MONTH($G$1),C4),праздники!$D$15:$E$28,2,FALSE)),"")) | D5: =IFERROR(VLOOKUP(DATE(YEAR($G$1),MONTH($G$1),D4),праздники!$D$2:$E$14,2,FALSE),IFERROR(CONCATENATE("Выходной за ",VLOOKUP(DATE(YEAR($G$1),MONTH($G$1),D4),праздники!$D$15:$E$28,2,FALSE)),"")) | E5: =IFERROR(VLOOKUP(DATE(YEAR($G$1),MONTH($G$1),E4),праздники!$D$2:$E$14,2,FALSE),IFERROR(CONCATENATE("Выходной за ",VLOOKUP(DATE(YEAR($G$1),MONTH($G$1),E4),праздники!$D$15:$E$28,2,FALSE)),"")) | F5: =IFERROR(VLOOKUP(DATE(YEAR($G$1),MONTH($G$1),F4),праздники!$D$2:$E$14,2,FALSE),IFERROR(CONCATENATE("Выходной за ",VLOOKUP(DATE(YEAR($G$1),MONTH($G$1),F4),праздники!$D$15:$E$28,2,FALSE)),"")) | G5: =IFERROR(VLOOKUP(DATE(YEAR($G$1),MONTH($G$1),G4),праздники!$D$2:$E$14,2,FALSE),IFERROR(CONCATENATE("Выходной за ",VLOOKUP(DATE(YEAR($G$1),MONTH($G$1),G4),праздники!$D$15:$E$28,2,FALSE)),""))
A6: =IF(15 < WEEKDAY(EOMONTH(G1,-1)+1,2), DAY(EOMONTH(G1,-1)) - WEEKDAY(EOMONTH(G1,-1),2) + 15, IF(15 > DAY(EOMONTH(G1,0)) + WEEKDAY(EOMONTH(G1,-1)+1,3), 15 - WEEKDAY(EOMONTH(G1,-1)+1,2) - DAY(EOMONTH(G1,0)) + 1, 15 - WEEKDAY(EOMONTH(G1,-1)+1,2)+1)) -> 13 | B6: =IF(16 < WEEKDAY(EOMONTH(G1,-1)+1,2), DAY(EOMONTH(G1,-1)) - WEEKDAY(EOMONTH(G1,-1),2) + 16, IF(16 > DAY(EOMONTH(G1,0)) + WEEKDAY(EOMONTH(G1,-1)+1,3), 16 - WEEKDAY(EOMONTH(G1,-1)+1,2) - DAY(EOMONTH(G1,0)) + 1, 16 - WEEKDAY(EOMONTH(G1,-1)+1,2)+1)) -> 14 | C6: =IF(17 < WEEKDAY(EOMONTH(G1,-1)+1,2), DAY(EOMONTH(G1,-1)) - WEEKDAY(EOMONTH(G1,-1),2) + 17, IF(17 > DAY(EOMONTH(G1,0)) + WEEKDAY(EOMONTH(G1,-1)+1,3), 17 - WEEKDAY(EOMONTH(G1,-1)+1,2) - DAY(EOMONTH(G1,0)) + 1, 17 - WEEKDAY(EOMONTH(G1,-1)+1,2)+1)) -> 15 | D6: =IF(18 < WEEKDAY(EOMONTH(G1,-1)+1,2), DAY(EOMONTH(G1,-1)) - WEEKDAY(EOMONTH(G1,-1),2) + 18, IF(18 > DAY(EOMONTH(G1,0)) + WEEKDAY(EOMONTH(G1,-1)+1,3), 18 - WEEKDAY(EOMONTH(G1,-1)+1,2) - DAY(EOMONTH(G1,0)) + 1, 18 - WEEKDAY(EOMONTH(G1,-1)+1,2)+1)) -> 16 | E6: =IF(19 < WEEKDAY(EOMONTH(G1,-1)+1,2), DAY(EOMONTH(G1,-1)) - WEEKDAY(EOMONTH(G1,-1),2) + 19, IF(19 > DAY(EOMONTH(G1,0)) + WEEKDAY(EOMONTH(G1,-1)+1,3), 19 - WEEKDAY(EOMONTH(G1,-1)+1,2) - DAY(EOMONTH(G1,0)) + 1, 19 - WEEKDAY(EOMONTH(G1,-1)+1,2)+1)) -> 17 | F6: =IF(20 < WEEKDAY(EOMONTH(G1,-1)+1,2), DAY(EOMONTH(G1,-1)) - WEEKDAY(EOMONTH(G1,-1),2) + 20, IF(20 > DAY(EOMONTH(G1,0)) + WEEKDAY(EOMONTH(G1,-1)+1,3), 20 - WEEKDAY(EOMONTH(G1,-1)+1,2) - DAY(EOMONTH(G1,0)) + 1, 20 - WEEKDAY(EOMONTH(G1,-1)+1,2)+1)) -> 18 | G6: =IF(21 < WEEKDAY(EOMONTH(G1,-1)+1,2), DAY(EOMONTH(G1,-1)) - WEEKDAY(EOMONTH(G1,-1),2) + 21, IF(21 > DAY(EOMONTH(G1,0)) + WEEKDAY(EOMONTH(G1,-1)+1,3), 21 - WEEKDAY(EOMONTH(G1,-1)+1,2) - DAY(EOMONTH(G1,0)) + 1, 21 - WEEKDAY(EOMONTH(G1,-1)+1,2)+1)) -> 19
A7: =IFERROR(VLOOKUP(DATE(YEAR($G$1),MONTH($G$1),A6),праздники!$D$2:$E$14,2,FALSE),IFERROR(CONCATENATE("Выходной за ",VLOOKUP(DATE(YEAR($G$1),MONTH($G$1),A6),праздники!$D$15:$E$28,2,FALSE)),"")) | B7: =IFERROR(VLOOKUP(DATE(YEAR($G$1),MONTH($G$1),B6),праздники!$D$2:$E$14,2,FALSE),IFERROR(CONCATENATE("Выходной за ",VLOOKUP(DATE(YEAR($G$1),MONTH($G$1),B6),праздники!$D$15:$E$28,2,FALSE)),"")) | C7: =IFERROR(VLOOKUP(DATE(YEAR($G$1),MONTH($G$1),C6),праздники!$D$2:$E$14,2,FALSE),IFERROR(CONCATENATE("Выходной за ",VLOOKUP(DATE(YEAR($G$1),MONTH($G$1),C6),праздники!$D$15:$E$28,2,FALSE)),"")) | D7: =IFERROR(VLOOKUP(DATE(YEAR($G$1),MONTH($G$1),D6),праздники!$D$2:$E$14,2,FALSE),IFERROR(CONCATENATE("Выходной за ",VLOOKUP(DATE(YEAR($G$1),MONTH($G$1),D6),праздники!$D$15:$E$28,2,FALSE)),"")) | E7: =IFERROR(VLOOKUP(DATE(YEAR($G$1),MONTH($G$1),E6),праздники!$D$2:$E$14,2,FALSE),IFERROR(CONCATENATE("Выходной за ",VLOOKUP(DATE(YEAR($G$1),MONTH($G$1),E6),праздники!$D$15:$E$28,2,FALSE)),"")) | F7: =IFERROR(VLOOKUP(DATE(YEAR($G$1),MONTH($G$1),F6),праздники!$D$2:$E$14,2,FALSE),IFERROR(CONCATENATE("Выходной за ",VLOOKUP(DATE(YEAR($G$1),MONTH($G$1),F6),праздники!$D$15:$E$28,2,FALSE)),"")) | G7: =IFERROR(VLOOKUP(DATE(YEAR($G$1),MONTH($G$1),G6),праздники!$D$2:$E$14,2,FALSE),IFERROR(CONCATENATE("Выходной за ",VLOOKUP(DATE(YEAR($G$1),MONTH($G$1),G6),праздники!$D$15:$E$28,2,FALSE)),""))
A8: =IF(22 < WEEKDAY(EOMONTH(G1,-1)+1,2), DAY(EOMONTH(G1,-1)) - WEEKDAY(EOMONTH(G1,-1),2) + 22, IF(22 > DAY(EOMONTH(G1,0)) + WEEKDAY(EOMONTH(G1,-1)+1,3), 22 - WEEKDAY(EOMONTH(G1,-1)+1,2) - DAY(EOMONTH(G1,0)) + 1, 22 - WEEKDAY(EOMONTH(G1,-1)+1,2)+1)) -> 20 | B8: =IF(23 < WEEKDAY(EOMONTH(G1,-1)+1,2), DAY(EOMONTH(G1,-1)) - WEEKDAY(EOMONTH(G1,-1),2) + 23, IF(23 > DAY(EOMONTH(G1,0)) + WEEKDAY(EOMONTH(G1,-1)+1,3), 23 - WEEKDAY(EOMONTH(G1,-1)+1,2) - DAY(EOMONTH(G1,0)) + 1, 23 - WEEKDAY(EOMONTH(G1,-1)+1,2)+1)) -> 21 | C8: =IF(24 < WEEKDAY(EOMONTH(G1,-1)+1,2), DAY(EOMONTH(G1,-1)) - WEEKDAY(EOMONTH(G1,-1),2) + 24, IF(24 > DAY(EOMONTH(G1,0)) + WEEKDAY(EOMONTH(G1,-1)+1,3), 24 - WEEKDAY(EOMONTH(G1,-1)+1,2) - DAY(EOMONTH(G1,0)) + 1, 24 - WEEKDAY(EOMONTH(G1,-1)+1,2)+1)) -> 22 | D8: =IF(25 < WEEKDAY(EOMONTH(G1,-1)+1,2), DAY(EOMONTH(G1,-1)) - WEEKDAY(EOMONTH(G1,-1),2) + 25, IF(25 > DAY(EOMONTH(G1,0)) + WEEKDAY(EOMONTH(G1,-1)+1,3), 25 - WEEKDAY(EOMONTH(G1,-1)+1,2) - DAY(EOMONTH(G1,0)) + 1, 25 - WEEKDAY(EOMONTH(G1,-1)+1,2)+1)) -> 23 | E8: =IF(26 < WEEKDAY(EOMONTH(G1,-1)+1,2), DAY(EOMONTH(G1,-1)) - WEEKDAY(EOMONTH(G1,-1),2) + 26, IF(26 > DAY(EOMONTH(G1,0)) + WEEKDAY(EOMONTH(G1,-1)+1,3), 26 - WEEKDAY(EOMONTH(G1,-1)+1,2) - DAY(EOMONTH(G1,0)) + 1, 26 - WEEKDAY(EOMONTH(G1,-1)+1,2)+1)) -> 24 | F8: =IF(27 < WEEKDAY(EOMONTH(G1,-1)+1,2), DAY(EOMONTH(G1,-1)) - WEEKDAY(EOMONTH(G1,-1),2) + 27, IF(27 > DAY(EOMONTH(G1,0)) + WEEKDAY(EOMONTH(G1,-1)+1,3), 27 - WEEKDAY(EOMONTH(G1,-1)+1,2) - DAY(EOMONTH(G1,0)) + 1, 27 - WEEKDAY(EOMONTH(G1,-1)+1,2)+1)) -> 25 | G8: =IF(28 < WEEKDAY(EOMONTH(G1,-1)+1,2), DAY(EOMONTH(G1,-1)) - WEEKDAY(EOMONTH(G1,-1),2) + 28, IF(28 > DAY(EOMONTH(G1,0)) + WEEKDAY(EOMONTH(G1,-1)+1,3), 28 - WEEKDAY(EOMONTH(G1,-1)+1,2) - DAY(EOMONTH(G1,0)) + 1, 28 - WEEKDAY(EOMONTH(G1,-1)+1,2)+1)) -> 26
A9: =IFERROR(VLOOKUP(DATE(YEAR($G$1),MONTH($G$1),A8),праздники!$D$2:$E$14,2,FALSE),IFERROR(CONCATENATE("Выходной за ",VLOOKUP(DATE(YEAR($G$1),MONTH($G$1),A8),праздники!$D$15:$E$28,2,FALSE)),"")) | B9: =IFERROR(VLOOKUP(DATE(YEAR($G$1),MONTH($G$1),B8),праздники!$D$2:$E$14,2,FALSE),IFERROR(CONCATENATE("Выходной за ",VLOOKUP(DATE(YEAR($G$1),MONTH($G$1),B8),праздники!$D$15:$E$28,2,FALSE)),"")) | C9: =IFERROR(VLOOKUP(DATE(YEAR($G$1),MONTH($G$1),C8),праздники!$D$2:$E$14,2,FALSE),IFERROR(CONCATENATE("Выходной за ",VLOOKUP(DATE(YEAR($G$1),MONTH($G$1),C8),праздники!$D$15:$E$28,2,FALSE)),"")) | D9: =IFERROR(VLOOKUP(DATE(YEAR($G$1),MONTH($G$1),D8),праздники!$D$2:$E$14,2,FALSE),IFERROR(CONCATENATE("Выходной за ",VLOOKUP(DATE(YEAR($G$1),MONTH($G$1),D8),праздники!$D$15:$E$28,2,FALSE)),"")) | E9: =IFERROR(VLOOKUP(DATE(YEAR($G$1),MONTH($G$1),E8),праздники!$D$2:$E$14,2,FALSE),IFERROR(CONCATENATE("Выходной за ",VLOOKUP(DATE(YEAR($G$1),MONTH($G$1),E8),праздники!$D$15:$E$28,2,FALSE)),"")) | F9: =IFERROR(VLOOKUP(DATE(YEAR($G$1),MONTH($G$1),F8),праздники!$D$2:$E$14,2,FALSE),IFERROR(CONCATENATE("Выходной за ",VLOOKUP(DATE(YEAR($G$1),MONTH($G$1),F8),праздники!$D$15:$E$28,2,FALSE)),"")) | G9: =IFERROR(VLOOKUP(DATE(YEAR($G$1),MONTH($G$1),G8),праздники!$D$2:$E$14,2,FALSE),IFERROR(CONCATENATE("Выходной за ",VLOOKUP(DATE(YEAR($G$1),MONTH($G$1),G8),праздники!$D$15:$E$28,2,FALSE)),""))
A10: =IF(29 < WEEKDAY(EOMONTH(G1,-1)+1,2), DAY(EOMONTH(G1,-1)) - WEEKDAY(EOMONTH(G1,-1),2) + 29, IF(29 > DAY(EOMONTH(G1,0)) + WEEKDAY(EOMONTH(G1,-1)+1,3), 29 - WEEKDAY(EOMONTH(G1,-1)+1,2) - DAY(EOMONTH(G1,0)) + 1, 29 - WEEKDAY(EOMONTH(G1,-1)+1,2)+1)) -> 27 | B10: =IF(30 < WEEKDAY(EOMONTH(G1,-1)+1,2), DAY(EOMONTH(G1,-1)) - WEEKDAY(EOMONTH(G1,-1),2) + 30, IF(30 > DAY(EOMONTH(G1,0)) + WEEKDAY(EOMONTH(G1,-1)+1,3), 30 - WEEKDAY(EOMONTH(G1,-1)+1,2) - DAY(EOMONTH(G1,0)) + 1, 30 - WEEKDAY(EOMONTH(G1,-1)+1,2)+1)) -> 28 | C10: =IF(31 < WEEKDAY(EOMONTH(G1,-1)+1,2), DAY(EOMONTH(G1,-1)) - WEEKDAY(EOMONTH(G1,-1),2) + 31, IF(31 > DAY(EOMONTH(G1,0)) + WEEKDAY(EOMONTH(G1,-1)+1,3), 31 - WEEKDAY(EOMONTH(G1,-1)+1,2) - DAY(EOMONTH(G1,0)) + 1, 31 - WEEKDAY(EOMONTH(G1,-1)+1,2)+1)) -> 29 | D10: =IF(32 < WEEKDAY(EOMONTH(G1,-1)+1,2), DAY(EOMONTH(G1,-1)) - WEEKDAY(EOMONTH(G1,-1),2) + 32, IF(32 > DAY(EOMONTH(G1,0)) + WEEKDAY(EOMONTH(G1,-1)+1,3), 32 - WEEKDAY(EOMONTH(G1,-1)+1,2) - DAY(EOMONTH(G1,0)) + 1, 32 - WEEKDAY(EOMONTH(G1,-1)+1,2)+1)) -> 30 | E10: =IF(33 < WEEKDAY(EOMONTH(G1,-1)+1,2), DAY(EOMONTH(G1,-1)) - WEEKDAY(EOMONTH(G1,-1),2) + 33, IF(33 > DAY(EOMONTH(G1,0)) + WEEKDAY(EOMONTH(G1,-1)+1,3), 33 - WEEKDAY(EOMONTH(G1,-1)+1,2) - DAY(EOMONTH(G1,0)) + 1, 33 - WEEKDAY(EOMONTH(G1,-1)+1,2)+1)) -> 31 | F10: =IF(34 < WEEKDAY(EOMONTH(G1,-1)+1,2), DAY(EOMONTH(G1,-1)) - WEEKDAY(EOMONTH(G1,-1),2) + 34, IF(34 > DAY(EOMONTH(G1,0)) + WEEKDAY(EOMONTH(G1,-1)+1,3), 34 - WEEKDAY(EOMONTH(G1,-1)+1,2) - DAY(EOMONTH(G1,0)) + 1, 34 - WEEKDAY(EOMONTH(G1,-1)+1,2)+1)) -> 1 | G10: =IF(35 < WEEKDAY(EOMONTH(G1,-1)+1,2), DAY(EOMONTH(G1,-1)) - WEEKDAY(EOMONTH(G1,-1),2) + 35, IF(35 > DAY(EOMONTH(G1,0)) + WEEKDAY(EOMONTH(G1,-1)+1,3), 35 - WEEKDAY(EOMONTH(G1,-1)+1,2) - DAY(EOMONTH(G1,0)) + 1, 35 - WEEKDAY(EOMONTH(G1,-1)+1,2)+1)) -> 2
A11: =IFERROR(VLOOKUP(DATE(YEAR($G$1),MONTH($G$1) + IF(A10<16,1,0),A10),праздники!$D$2:$E$14,2,FALSE),IFERROR(CONCATENATE("Выходной за ",VLOOKUP(DATE(YEAR($G$1),MONTH($G$1) + IF(A10<16,1,0),A10),праздники!$D$15:$E$28,2,FALSE)),"")) | B11: =IFERROR(VLOOKUP(DATE(YEAR($G$1),MONTH($G$1) + IF(B10<16,1,0),B10),праздники!$D$2:$E$14,2,FALSE),IFERROR(CONCATENATE("Выходной за ",VLOOKUP(DATE(YEAR($G$1),MONTH($G$1) + IF(B10<16,1,0),B10),праздники!$D$15:$E$28,2,FALSE)),"")) | C11: =IFERROR(VLOOKUP(DATE(YEAR($G$1),MONTH($G$1) + IF(C10<16,1,0),C10),праздники!$D$2:$E$14,2,FALSE),IFERROR(CONCATENATE("Выходной за ",VLOOKUP(DATE(YEAR($G$1),MONTH($G$1) + IF(C10<16,1,0),C10),праздники!$D$15:$E$28,2,FALSE)),"")) | D11: =IFERROR(VLOOKUP(DATE(YEAR($G$1),MONTH($G$1) + IF(D10<16,1,0),D10),праздники!$D$2:$E$14,2,FALSE),IFERROR(CONCATENATE("Выходной за ",VLOOKUP(DATE(YEAR($G$1),MONTH($G$1) + IF(D10<16,1,0),D10),праздники!$D$15:$E$28,2,FALSE)),"")) | E11: =IFERROR(VLOOKUP(DATE(YEAR($G$1),MONTH($G$1) + IF(E10<16,1,0),E10),праздники!$D$2:$E$14,2,FALSE),IFERROR(CONCATENATE("Выходной за ",VLOOKUP(DATE(YEAR($G$1),MONTH($G$1) + IF(E10<16,1,0),E10),праздники!$D$15:$E$28,2,FALSE)),"")) | F11: =IFERROR(VLOOKUP(DATE(YEAR($G$1),MONTH($G$1) + IF(F10<16,1,0),F10),праздники!$D$2:$E$14,2,FALSE),IFERROR(CONCATENATE("Выходной за ",VLOOKUP(DATE(YEAR($G$1),MONTH($G$1) + IF(F10<16,1,0),F10),праздники!$D$15:$E$28,2,FALSE)),"")) | G11: =IFERROR(VLOOKUP(DATE(YEAR($G$1),MONTH($G$1) + IF(G10<16,1,0),G10),праздники!$D$2:$E$14,2,FALSE),IFERROR(CONCATENATE("Выходной за ",VLOOKUP(DATE(YEAR($G$1),MONTH($G$1) + IF(G10<16,1,0),G10),праздники!$D$15:$E$28,2,FALSE)),""))
A12: =IF(36 < WEEKDAY(EOMONTH(G1,-1)+1,2), DAY(EOMONTH(G1,-1)) - WEEKDAY(EOMONTH(G1,-1),2) + 36, IF(36 > DAY(EOMONTH(G1,0)) + WEEKDAY(EOMONTH(G1,-1)+1,3), 36 - WEEKDAY(EOMONTH(G1,-1)+1,2) - DAY(EOMONTH(G1,0)) + 1, 36 - WEEKDAY(EOMONTH(G1,-1)+1,2)+1)) -> 3 | B12: =IF(37 < WEEKDAY(EOMONTH(G1,-1)+1,2), DAY(EOMONTH(G1,-1)) - WEEKDAY(EOMONTH(G1,-1),2) + 37, IF(37 > DAY(EOMONTH(G1,0)) + WEEKDAY(EOMONTH(G1,-1)+1,3), 37 - WEEKDAY(EOMONTH(G1,-1)+1,2) - DAY(EOMONTH(G1,0)) + 1, 37 - WEEKDAY(EOMONTH(G1,-1)+1,2)+1)) -> 4 | C12: =IF(38 < WEEKDAY(EOMONTH(G1,-1)+1,2), DAY(EOMONTH(G1,-1)) - WEEKDAY(EOMONTH(G1,-1),2) + 38, IF(38 > DAY(EOMONTH(G1,0)) + WEEKDAY(EOMONTH(G1,-1)+1,3), 38 - WEEKDAY(EOMONTH(G1,-1)+1,2) - DAY(EOMONTH(G1,0)) + 1, 38 - WEEKDAY(EOMONTH(G1,-1)+1,2)+1)) -> 5 | D12: =IF(39 < WEEKDAY(EOMONTH(G1,-1)+1,2), DAY(EOMONTH(G1,-1)) - WEEKDAY(EOMONTH(G1,-1),2) + 39, IF(39 > DAY(EOMONTH(G1,0)) + WEEKDAY(EOMONTH(G1,-1)+1,3), 39 - WEEKDAY(EOMONTH(G1,-1)+1,2) - DAY(EOMONTH(G1,0)) + 1, 39 - WEEKDAY(EOMONTH(G1,-1)+1,2)+1)) -> 6 | E12: =IF(40 < WEEKDAY(EOMONTH(G1,-1)+1,2), DAY(EOMONTH(G1,-1)) - WEEKDAY(EOMONTH(G1,-1),2) + 40, IF(40 > DAY(EOMONTH(G1,0)) + WEEKDAY(EOMONTH(G1,-1)+1,3), 40 - WEEKDAY(EOMONTH(G1,-1)+1,2) - DAY(EOMONTH(G1,0)) + 1, 40 - WEEKDAY(EOMONTH(G1,-1)+1,2)+1)) -> 7 | F12: =IF(41 < WEEKDAY(EOMONTH(G1,-1)+1,2), DAY(EOMONTH(G1,-1)) - WEEKDAY(EOMONTH(G1,-1),2) + 41, IF(41 > DAY(EOMONTH(G1,0)) + WEEKDAY(EOMONTH(G1,-1)+1,3), 41 - WEEKDAY(EOMONTH(G1,-1)+1,2) - DAY(EOMONTH(G1,0)) + 1, 41 - WEEKDAY(EOMONTH(G1,-1)+1,2)+1)) -> 8 | G12: =IF(42 < WEEKDAY(EOMONTH(G1,-1)+1,2), DAY(EOMONTH(G1,-1)) - WEEKDAY(EOMONTH(G1,-1),2) + 42, IF(42 > DAY(EOMONTH(G1,0)) + WEEKDAY(EOMONTH(G1,-1)+1,3), 42 - WEEKDAY(EOMONTH(G1,-1)+1,2) - DAY(EOMONTH(G1,0)) + 1, 42 - WEEKDAY(EOMONTH(G1,-1)+1,2)+1)) -> 9
A13: =IFERROR(VLOOKUP(DATE(YEAR($G$1),MONTH($G$1) + IF(A12<16,1,0),A12),праздники!$D$2:$E$14,2,FALSE),IFERROR(CONCATENATE("Выходной за ",VLOOKUP(DATE(YEAR($G$1),MONTH($G$1) + IF(A12<16,1,0),A12),праздники!$D$15:$E$28,2,FALSE)),"")) | B13: =IFERROR(VLOOKUP(DATE(YEAR($G$1),MONTH($G$1) + IF(B12<16,1,0),B12),праздники!$D$2:$E$14,2,FALSE),IFERROR(CONCATENATE("Выходной за ",VLOOKUP(DATE(YEAR($G$1),MONTH($G$1) + IF(B12<16,1,0),B12),праздники!$D$15:$E$28,2,FALSE)),"")) | C13: =IFERROR(VLOOKUP(DATE(YEAR($G$1),MONTH($G$1) + IF(C12<16,1,0),C12),праздники!$D$2:$E$14,2,FALSE),IFERROR(CONCATENATE("Выходной за ",VLOOKUP(DATE(YEAR($G$1),MONTH($G$1) + IF(C12<16,1,0),C12),праздники!$D$15:$E$28,2,FALSE)),"")) | D13: =IFERROR(VLOOKUP(DATE(YEAR($G$1),MONTH($G$1) + IF(D12<16,1,0),D12),праздники!$D$2:$E$14,2,FALSE),IFERROR(CONCATENATE("Выходной за ",VLOOKUP(DATE(YEAR($G$1),MONTH($G$1) + IF(D12<16,1,0),D12),праздники!$D$15:$E$28,2,FALSE)),"")) | E13: =IFERROR(VLOOKUP(DATE(YEAR($G$1),MONTH($G$1) + IF(E12<16,1,0),E12),праздники!$D$2:$E$14,2,FALSE),IFERROR(CONCATENATE("Выходной за ",VLOOKUP(DATE(YEAR($G$1),MONTH($G$1) + IF(E12<16,1,0),E12),праздники!$D$15:$E$28,2,FALSE)),"")) | F13: =IFERROR(VLOOKUP(DATE(YEAR($G$1),MONTH($G$1) + IF(F12<16,1,0),F12),праздники!$D$2:$E$14,2,FALSE),IFERROR(CONCATENATE("Выходной за ",VLOOKUP(DATE(YEAR($G$1),MONTH($G$1) + IF(F12<16,1,0),F12),праздники!$D$15:$E$28,2,FALSE)),"")) | G13: =IFERROR(VLOOKUP(DATE(YEAR($G$1),MONTH($G$1) + IF(G12<16,1,0),G12),праздники!$D$2:$E$14,2,FALSE),IFERROR(CONCATENATE("Выходной за ",VLOOKUP(DATE(YEAR($G$1),MONTH($G$1) + IF(G12<16,1,0),G12),праздники!$D$15:$E$28,2,FALSE)),""))

Sheet планер месяц 5 строк
A1: 0 | B1: =CONCATENATE(VLOOKUP(MONTH( G1 ),месяцы,2)," ",YEAR(G1)) -> Январь 2014 | G1: =EDATE(TODAY(),A1) -> 41655
A2: =IF(1 < WEEKDAY(EOMONTH(G1,-1)+1,2), DAY(EOMONTH(G1,-1)) - WEEKDAY(EOMONTH(G1,-1),2) + 1, IF(1 > DAY(EOMONTH(G1,0)) + WEEKDAY(EOMONTH(G1,-1)+1,3), 1 - WEEKDAY(EOMONTH(G1,-1)+1,2) - DAY(EOMONTH(G1,0)) + 1, 1 - WEEKDAY(EOMONTH(G1,-1)+1,2)+1)) -> 30 | B2: =IF(2 < WEEKDAY(EOMONTH(G1,-1)+1,2), DAY(EOMONTH(G1,-1)) - WEEKDAY(EOMONTH(G1,-1),2) + 2, IF(2 > DAY(EOMONTH(G1,0)) + WEEKDAY(EOMONTH(G1,-1)+1,3), 2 - WEEKDAY(EOMONTH(G1,-1)+1,2) - DAY(EOMONTH(G1,0)) + 1, 2 - WEEKDAY(EOMONTH(G1,-1)+1,2)+1)) -> 31 | C2: =IF(3 < WEEKDAY(EOMONTH(G1,-1)+1,2), DAY(EOMONTH(G1,-1)) - WEEKDAY(EOMONTH(G1,-1),2) + 3, IF(3 > DAY(EOMONTH(G1,0)) + WEEKDAY(EOMONTH(G1,-1)+1,3), 3 - WEEKDAY(EOMONTH(G1,-1)+1,2) - DAY(EOMONTH(G1,0)) + 1, 3 - WEEKDAY(EOMONTH(G1,-1)+1,2)+1)) -> 1 | D2: =IF(4 < WEEKDAY(EOMONTH(G1,-1)+1,2), DAY(EOMONTH(G1,-1)) - WEEKDAY(EOMONTH(G1,-1),2) + 4, IF(4 > DAY(EOMONTH(G1,0)) + WEEKDAY(EOMONTH(G1,-1)+1,3), 4 - WEEKDAY(EOMONTH(G1,-1)+1,2) - DAY(EOMONTH(G1,0)) + 1, 4 - WEEKDAY(EOMONTH(G1,-1)+1,2)+1)) -> 2 | E2: =IF(5 < WEEKDAY(EOMONTH(G1,-1)+1,2), DAY(EOMONTH(G1,-1)) - WEEKDAY(EOMONTH(G1,-1),2) + 5, IF(5 > DAY(EOMONTH(G1,0)) + WEEKDAY(EOMONTH(G1,-1)+1,3), 5 - WEEKDAY(EOMONTH(G1,-1)+1,2) - DAY(EOMONTH(G1,0)) + 1, 5 - WEEKDAY(EOMONTH(G1,-1)+1,2)+1)) -> 3 | F2: =IF(6 < WEEKDAY(EOMONTH(G1,-1)+1,2), DAY(EOMONTH(G1,-1)) - WEEKDAY(EOMONTH(G1,-1),2) + 6, IF(6 > DAY(EOMONTH(G1,0)) + WEEKDAY(EOMONTH(G1,-1)+1,3), 6 - WEEKDAY(EOMONTH(G1,-1)+1,2) - DAY(EOMONTH(G1,0)) + 1, 6 - WEEKDAY(EOMONTH(G1,-1)+1,2)+1)) -> 4 | G2: =IF(7 < WEEKDAY(EOMONTH(G1,-1)+1,2), DAY(EOMONTH(G1,-1)) - WEEKDAY(EOMONTH(G1,-1),2) + 7, IF(7 > DAY(EOMONTH(G1,0)) + WEEKDAY(EOMONTH(G1,-1)+1,3), 7 - WEEKDAY(EOMONTH(G1,-1)+1,2) - DAY(EOMONTH(G1,0)) + 1, 7 - WEEKDAY(EOMONTH(G1,-1)+1,2)+1)) -> 5
A3: =IFERROR(VLOOKUP(DATE(YEAR($G$1),MONTH($G$1) + IF(A2>7,-1,0),A2),праздники!$D$2:$E$14,2,FALSE),IFERROR(CONCATENATE("Выходной за ",VLOOKUP(DATE(YEAR($G$1),MONTH($G$1) + IF(A2>7,-1,0),A2),праздники!$D$15:$E$28,2,FALSE)),"")) | B3: =IFERROR(VLOOKUP(DATE(YEAR($G$1),MONTH($G$1) + IF(B2>7,-1,0),B2),праздники!$D$2:$E$14,2,FALSE),IFERROR(CONCATENATE("Выходной за ",VLOOKUP(DATE(YEAR($G$1),MONTH($G$1) + IF(B2>7,-1,0),B2),праздники!$D$15:$E$28,2,FALSE)),"")) | C3: =IFERROR(VLOOKUP(DATE(YEAR($G$1),MONTH($G$1) + IF(C2>7,-1,0),C2),праздники!$D$2:$E$14,2,FALSE),IFERROR(CONCATENATE("Выходной за ",VLOOKUP(DATE(YEAR($G$1),MONTH($G$1) + IF(C2>7,-1,0),C2),праздники!$D$15:$E$28,2,FALSE)),"")) -> Новый год | D3: =IFERROR(VLOOKUP(DATE(YEAR($G$1),MONTH($G$1) + IF(D2>7,-1,0),D2),праздники!$D$2:$E$14,2,FALSE),IFERROR(CONCATENATE("Выходной за ",VLOOKUP(DATE(YEAR($G$1),MONTH($G$1) + IF(D2>7,-1,0),D2),праздники!$D$15:$E$28,2,FALSE)),"")) | E3: =IFERROR(VLOOKUP(DATE(YEAR($G$1),MONTH($G$1) + IF(E2>7,-1,0),E2),праздники!$D$2:$E$14,2,FALSE),IFERROR(CONCATENATE("Выходной за ",VLOOKUP(DATE(YEAR($G$1),MONTH($G$1) + IF(E2>7,-1,0),E2),праздники!$D$15:$E$28,2,FALSE)),"")) | F3: =IFERROR(VLOOKUP(DATE(YEAR($G$1),MONTH($G$1) + IF(F2>7,-1,0),F2),праздники!$D$2:$E$14,2,FALSE),IFERROR(CONCATENATE("Выходной за ",VLOOKUP(DATE(YEAR($G$1),MONTH($G$1) + IF(F2>7,-1,0),F2),праздники!$D$15:$E$28,2,FALSE)),"")) | G3: =IFERROR(VLOOKUP(DATE(YEAR($G$1),MONTH($G$1) + IF(G2>7,-1,0),G2),праздники!$D$2:$E$14,2,FALSE),IFERROR(CONCATENATE("Выходной за ",VLOOKUP(DATE(YEAR($G$1),MONTH($G$1) + IF(G2>7,-1,0),G2),праздники!$D$15:$E$28,2,FALSE)),""))
