Workbook
Name все_основные: праздники!$K$33:$L$71
Name все_переносы: праздники!$O$33:$P$71
Name выходные: праздники!$A$2:$A$14
Name месяцы: календарь!$X$2:$Z$14
Name переносы: праздники!$A$15:$A$28
Name праздники: календарь!$AA$1:$AG$24

Sheet планер
A1: понедельник | C1: вторник | E1: среда | G1: четверг | I1: пятница | K1: суббота | M1: воскресенье | O1: пн | P1: вт | Q1: ср | R1: чт | S1: пт | T1: сб | U1: вс | V1: =TODAY()+7*M25 -> 41655 | AB1: =YEAR(V1) -> 2014 | AF1: Для Пасхи
A2: =$V$1-WEEKDAY($V$1,3)+0 -> 41652 | C2: =$V$1-WEEKDAY($V$1,3)+1 -> 41653 | E2: =$V$1-WEEKDAY($V$1,3)+2 -> 41654 | G2: =$V$1-WEEKDAY($V$1,3)+3 -> 41655 | I2: =$V$1-WEEKDAY($V$1,3)+4 -> 41656 | K2: =$V$1-WEEKDAY($V$1,3)+5 -> 41657 | M2: =$V$1-WEEKDAY($V$1,3)+6 -> 41658 | O2: =VLOOKUP(MONTH( V2 ),X3:Y14,2) -> Декабрь | T2: =YEAR(V2) -> 2013 | V2: =DATE(YEAR(V1),MONTH(V1)+W2,IF(DAY(V1)>VLOOKUP(MONTH(V1)+W2,X2:Z14,3),VLOOKUP(MONTH(V1)+W2,X2:Z14,3),DAY(V1))) -> 41624 | W2: -1 | X2: 0 | Y2: Декабрь | Z2: 31 | AA2: =CONCATENATE(DAY(AD2),".",MONTH(AD2)) -> 1.1 | AB2: 1 | AC2: 1 | AD2: =DATE($AB$1,AC2,AB2) -> 41640 | AE2: Новый год | AF2: а | AG2: =MOD(AB1,19) -> 0
O3: =IF(OR( 1 <WEEKDAY(EOMONTH(V2,-1)+1,2), 1 >DAY(EOMONTH(V2,0))+WEEKDAY(EOMONTH(V2,-1)+1,3)),"", 1 -WEEKDAY(EOMONTH(V2,-1)+1,2)+1) | P3: =IF(OR( 2 <WEEKDAY(EOMONTH(V2,-1)+1,2), 2 >DAY(EOMONTH(V2,0))+WEEKDAY(EOMONTH(V2,-1)+1,3)),"", 2 -WEEKDAY(EOMONTH(V2,-1)+1,2)+1) | Q3: =IF(OR( 3 <WEEKDAY(EOMONTH(V2,-1)+1,2), 3 >DAY(EOMONTH(V2,0))+WEEKDAY(EOMONTH(V2,-1)+1,3)),"", 3 -WEEKDAY(EOMONTH(V2,-1)+1,2)+1) | R3: =IF(OR( 4 <WEEKDAY(EOMONTH(V2,-1)+1,2), 4 >DAY(EOMONTH(V2,0))+WEEKDAY(EOMONTH(V2,-1)+1,3)),"", 4 -WEEKDAY(EOMONTH(V2,-1)+1,2)+1) | S3: =IF(OR( 5 <WEEKDAY(EOMONTH(V2,-1)+1,2), 5 >DAY(EOMONTH(V2,0))+WEEKDAY(EOMONTH(V2,-1)+1,3)),"", 5 -WEEKDAY(EOMONTH(V2,-1)+1,2)+1) | T3: =IF(OR( 6 <WEEKDAY(EOMONTH(V2,-1)+1,2), 6 >DAY(EOMONTH(V2,0))+WEEKDAY(EOMONTH(V2,-1)+1,3)),"", 6 -WEEKDAY(EOMONTH(V2,-1)+1,2)+1) | U3: =IF(OR( 7 <WEEKDAY(EOMONTH(V2,-1)+1,2), 7 >DAY(EOMONTH(V2,0))+WEEKDAY(EOMONTH(V2,-1)+1,3)),"", 7 -WEEKDAY(EOMONTH(V2,-1)+1,2)+1) -> 1 | X3: 1 | Y3: Январь | Z3: 31 | AA3: =CONCATENATE(DAY(AD3),".",MONTH(AD3)) -> 7.1 | AB3: 7 | AC3: 1 | AD3: =DATE($AB$1,AC3,AB3) -> 41646 | AE3: Рождество Христово | AF3: б | AG3: =MOD(AB1,4) -> 2
O4: =IF(OR( 8 <WEEKDAY(EOMONTH(V2,-1)+1,2), 8 >DAY(EOMONTH(V2,0))+WEEKDAY(EOMONTH(V2,-1)+1,3)),"", 8 -WEEKDAY(EOMONTH(V2,-1)+1,2)+1) -> 2 | P4: =IF(OR( 9 <WEEKDAY(EOMONTH(V2,-1)+1,2), 9 >DAY(EOMONTH(V2,0))+WEEKDAY(EOMONTH(V2,-1)+1,3)),"", 9 -WEEKDAY(EOMONTH(V2,-1)+1,2)+1) -> 3 | Q4: =IF(OR( 10 <WEEKDAY(EOMONTH(V2,-1)+1,2), 10 >DAY(EOMONTH(V2,0))+WEEKDAY(EOMONTH(V2,-1)+1,3)),"", 10 -WEEKDAY(EOMONTH(V2,-1)+1,2)+1) -> 4 | R4: =IF(OR( 11 <WEEKDAY(EOMONTH(V2,-1)+1,2), 11 >DAY(EOMONTH(V2,0))+WEEKDAY(EOMONTH(V2,-1)+1,3)),"", 11 -WEEKDAY(EOMONTH(V2,-1)+1,2)+1) -> 5 | S4: =IF(OR( 12 <WEEKDAY(EOMONTH(V2,-1)+1,2), 12 >DAY(EOMONTH(V2,0))+WEEKDAY(EOMONTH(V2,-1)+1,3)),"", 12 -WEEKDAY(EOMONTH(V2,-1)+1,2)+1) -> 6 | T4: =IF(OR( 13 <WEEKDAY(EOMONTH(V2,-1)+1,2), 13 >DAY(EOMONTH(V2,0))+WEEKDAY(EOMONTH(V2,-1)+1,3)),"", 13 -WEEKDAY(EOMONTH(V2,-1)+1,2)+1) -> 7 | U4: =IF(OR( 14 <WEEKDAY(EOMONTH(V2,-1)+1,2), 14 >DAY(EOMONTH(V2,0))+WEEKDAY(EOMONTH(V2,-1)+1,3)),"", 14 -WEEKDAY(EOMONTH(V2,-1)+1,2)+1) -> 8 | X4: 2 | Y4: Февраль | Z4: 28 | AA4: =CONCATENATE(DAY(AD4),".",MONTH(AD4)) -> 8.3 | AB4: 8 | AC4: 3 | AD4: =DATE($AB$1,AC4,AB4) -> 41706 | AE4: Женский день | AF4: в | AG4: =MOD(AB1,7) -> 5
A5: 8 | B5: 00 | C5: =A5 -> 8 | D5: 00 | E5: =C5 -> 8 | F5: 00 | G5: =E5 -> 8 | H5: 00 | I5: =G5 -> 8 | J5: 00 | K5: =A5+3 -> 11 | M5: =K5 -> 11 | O5: =IF(OR( 15 <WEEKDAY(EOMONTH(V2,-1)+1,2), 15 >DAY(EOMONTH(V2,0))+WEEKDAY(EOMONTH(V2,-1)+1,3)),"", 15 -WEEKDAY(EOMONTH(V2,-1)+1,2)+1) -> 9 | P5: =IF(OR( 16 <WEEKDAY(EOMONTH(V2,-1)+1,2), 16 >DAY(EOMONTH(V2,0))+WEEKDAY(EOMONTH(V2,-1)+1,3)),"", 16 -WEEKDAY(EOMONTH(V2,-1)+1,2)+1) -> 10 | Q5: =IF(OR( 17 <WEEKDAY(EOMONTH(V2,-1)+1,2), 17 >DAY(EOMONTH(V2,0))+WEEKDAY(EOMONTH(V2,-1)+1,3)),"", 17 -WEEKDAY(EOMONTH(V2,-1)+1,2)+1) -> 11 | R5: =IF(OR( 18 <WEEKDAY(EOMONTH(V2,-1)+1,2), 18 >DAY(EOMONTH(V2,0))+WEEKDAY(EOMONTH(V2,-1)+1,3)),"", 18 -WEEKDAY(EOMONTH(V2,-1)+1,2)+1) -> 12 | S5: =IF(OR( 19 <WEEKDAY(EOMONTH(V2,-1)+1,2), 19 >DAY(EOMONTH(V2,0))+WEEKDAY(EOMONTH(V2,-1)+1,3)),"", 19 -WEEKDAY(EOMONTH(V2,-1)+1,2)+1) -> 13 | T5: =IF(OR( 20 <WEEKDAY(EOMONTH(V2,-1)+1,2), 20 >DAY(EOMONTH(V2,0))+WEEKDAY(EOMONTH(V2,-1)+1,3)),"", 20 -WEEKDAY(EOMONTH(V2,-1)+1,2)+1) -> 14 | U5: =IF(OR( 21 <WEEKDAY(EOMONTH(V2,-1)+1,2), 21 >DAY(EOMONTH(V2,0))+WEEKDAY(EOMONTH(V2,-1)+1,3)),"", 21 -WEEKDAY(EOMONTH(V2,-1)+1,2)+1) -> 15 | X5: 3 | Y5: Март | Z5: 31 | AA5: =CONCATENATE(DAY(AD5),".",MONTH(AD5)) -> 1.5 | AB5: 1 | AC5: 5 | AD5: =DATE($AB$1,AC5,AB5) -> 41760 | AE5: День солидарности трудящихся | AF5: г | AG5: =MOD(19*AG2+15,30) -> 15
B6: 30 | D6: 30 | F6: 30 | H6: 30 | J6: 30 | K6: =IF(K5>=23,K5-24,K5)+1 -> 12 | M6: =IF(M5>=23,M5-24,M5)+1 -> 12 | O6: =IF(OR( 22 <WEEKDAY(EOMONTH(V2,-1)+1,2), 22 >DAY(EOMONTH(V2,0))+WEEKDAY(EOMONTH(V2,-1)+1,3)),"", 22 -WEEKDAY(EOMONTH(V2,-1)+1,2)+1) -> 16 | P6: =IF(OR( 23 <WEEKDAY(EOMONTH(V2,-1)+1,2), 23 >DAY(EOMONTH(V2,0))+WEEKDAY(EOMONTH(V2,-1)+1,3)),"", 23 -WEEKDAY(EOMONTH(V2,-1)+1,2)+1) -> 17 | Q6: =IF(OR( 24 <WEEKDAY(EOMONTH(V2,-1)+1,2), 24 >DAY(EOMONTH(V2,0))+WEEKDAY(EOMONTH(V2,-1)+1,3)),"", 24 -WEEKDAY(EOMONTH(V2,-1)+1,2)+1) -> 18 | R6: =IF(OR( 25 <WEEKDAY(EOMONTH(V2,-1)+1,2), 25 >DAY(EOMONTH(V2,0))+WEEKDAY(EOMONTH(V2,-1)+1,3)),"", 25 -WEEKDAY(EOMONTH(V2,-1)+1,2)+1) -> 19 | S6: =IF(OR( 26 <WEEKDAY(EOMONTH(V2,-1)+1,2), 26 >DAY(EOMONTH(V2,0))+WEEKDAY(EOMONTH(V2,-1)+1,3)),"", 26 -WEEKDAY(EOMONTH(V2,-1)+1,2)+1) -> 20 | T6: =IF(OR( 27 <WEEKDAY(EOMONTH(V2,-1)+1,2), 27 >DAY(EOMONTH(V2,0))+WEEKDAY(EOMONTH(V2,-1)+1,3)),"", 27 -WEEKDAY(EOMONTH(V2,-1)+1,2)+1) -> 21 | U6: =IF(OR( 28 <WEEKDAY(EOMONTH(V2,-1)+1,2), 28 >DAY(EOMONTH(V2,0))+WEEKDAY(EOMONTH(V2,-1)+1,3)),"", 28 -WEEKDAY(EOMONTH(V2,-1)+1,2)+1) -> 22 | X6: 4 | Y6: Апрель | Z6: 30 | AA6: =CONCATENATE(DAY(AD6),".",MONTH(AD6)) -> 2.5 | AB6: 2 | AC6: 5 | AD6: =DATE($AB$1,AC6,AB6) -> 41761 | AE6: День солидарности трудящихся | AF6: д | AG6: =MOD(2*AG3+4*AG4+6*AG5+6,7) -> 1
A7: =IF(A5>=23,A5-24,A5)+1 -> 9 | B7: 00 | C7: =IF(C5>=23,C5-24,C5)+1 -> 9 | D7: 00 | E7: =IF(E5>=23,E5-24,E5)+1 -> 9 | F7: 00 | G7: =IF(G5>=23,G5-24,G5)+1 -> 9 | H7: 00 | I7: =IF(I5>=23,I5-24,I5)+1 -> 9 | J7: 00 | K7: =IF(K6>=23,K6-24,K6)+1 -> 13 | M7: =IF(M6>=23,M6-24,M6)+1 -> 13 | O7: =IF(OR( 29 <WEEKDAY(EOMONTH(V2,-1)+1,2), 29 >DAY(EOMONTH(V2,0))+WEEKDAY(EOMONTH(V2,-1)+1,3)),"", 29 -WEEKDAY(EOMONTH(V2,-1)+1,2)+1) -> 23 | P7: =IF(OR( 30 <WEEKDAY(EOMONTH(V2,-1)+1,2), 30 >DAY(EOMONTH(V2,0))+WEEKDAY(EOMONTH(V2,-1)+1,3)),"", 30 -WEEKDAY(EOMONTH(V2,-1)+1,2)+1) -> 24 | Q7: =IF(OR( 31 <WEEKDAY(EOMONTH(V2,-1)+1,2), 31 >DAY(EOMONTH(V2,0))+WEEKDAY(EOMONTH(V2,-1)+1,3)),"", 31 -WEEKDAY(EOMONTH(V2,-1)+1,2)+1) -> 25 | R7: =IF(OR( 32 <WEEKDAY(EOMONTH(V2,-1)+1,2), 32 >DAY(EOMONTH(V2,0))+WEEKDAY(EOMONTH(V2,-1)+1,3)),"", 32 -WEEKDAY(EOMONTH(V2,-1)+1,2)+1) -> 26 | S7: =IF(OR( 33 <WEEKDAY(EOMONTH(V2,-1)+1,2), 33 >DAY(EOMONTH(V2,0))+WEEKDAY(EOMONTH(V2,-1)+1,3)),"", 33 -WEEKDAY(EOMONTH(V2,-1)+1,2)+1) -> 27 | T7: =IF(OR( 34 <WEEKDAY(EOMONTH(V2,-1)+1,2), 34 >DAY(EOMONTH(V2,0))+WEEKDAY(EOMONTH(V2,-1)+1,3)),"", 34 -WEEKDAY(EOMONTH(V2,-1)+1,2)+1) -> 28 | U7: =IF(OR( 35 <WEEKDAY(EOMONTH(V2,-1)+1,2), 35 >DAY(EOMONTH(V2,0))+WEEKDAY(EOMONTH(V2,-1)+1,3)),"", 35 -WEEKDAY(EOMONTH(V2,-1)+1,2)+1) -> 29 | X7: 5 | Y7: Май | Z7: 31 | AA7: =CONCATENATE(DAY(AD7),".",MONTH(AD7)) -> 9.5 | AB7: 9 | AC7: 5 | AD7: =DATE($AB$1,AC7,AB7) -> 41768 | AE7: День Победы
B8: 30 | D8: 30 | F8: 30 | H8: 30 | J8: 30 | K8: =IF(K7>=23,K7-24,K7)+1 -> 14 | M8: =IF(M7>=23,M7-24,M7)+1 -> 14 | O8: =IF(OR( 36 <WEEKDAY(EOMONTH(V2,-1)+1,2), 36 >DAY(EOMONTH(V2,0))+WEEKDAY(EOMONTH(V2,-1)+1,3)),"", 36 -WEEKDAY(EOMONTH(V2,-1)+1,2)+1) -> 30 | P8: =IF(OR( 37 <WEEKDAY(EOMONTH(V2,-1)+1,2), 37 >DAY(EOMONTH(V2,0))+WEEKDAY(EOMONTH(V2,-1)+1,3)),"", 37 -WEEKDAY(EOMONTH(V2,-1)+1,2)+1) -> 31 | Q8: =IF(OR( 38 <WEEKDAY(EOMONTH(V2,-1)+1,2), 38 >DAY(EOMONTH(V2,0))+WEEKDAY(EOMONTH(V2,-1)+1,3)),"", 38 -WEEKDAY(EOMONTH(V2,-1)+1,2)+1) | R8: =IF(OR( 39 <WEEKDAY(EOMONTH(V2,-1)+1,2), 39 >DAY(EOMONTH(V2,0))+WEEKDAY(EOMONTH(V2,-1)+1,3)),"", 39 -WEEKDAY(EOMONTH(V2,-1)+1,2)+1) | S8: =IF(OR( 40 <WEEKDAY(EOMONTH(V2,-1)+1,2), 40 >DAY(EOMONTH(V2,0))+WEEKDAY(EOMONTH(V2,-1)+1,3)),"", 40 -WEEKDAY(EOMONTH(V2,-1)+1,2)+1) | T8: =IF(OR( 41 <WEEKDAY(EOMONTH(V2,-1)+1,2), 41 >DAY(EOMONTH(V2,0))+WEEKDAY(EOMONTH(V2,-1)+1,3)),"", 41 -WEEKDAY(EOMONTH(V2,-1)+1,2)+1) | U8: =IF(OR( 42 <WEEKDAY(EOMONTH(V2,-1)+1,2), 42 >DAY(EOMONTH(V2,0))+WEEKDAY(EOMONTH(V2,-1)+1,3)),"", 42 -WEEKDAY(EOMONTH(V2,-1)+1,2)+1) | X8: 6 | Y8: Июнь | Z8: 30 | AA8: =CONCATENATE(DAY(AD8),".",MONTH(AD8)) -> 28.6 | AB8: 28 | AC8: 6 | AD8: =DATE($AB$1,AC8,AB8) -> 41818 | AE8: День Конституции Украины
A9: =IF(A7>=23,A7-24,A7)+1 -> 10 | B9: 00 | C9: =IF(C7>=23,C7-24,C7)+1 -> 10 | D9: 00 | E9: =IF(E7>=23,E7-24,E7)+1 -> 10 | F9: 00 | G9: =IF(G7>=23,G7-24,G7)+1 -> 10 | H9: 00 | I9: =IF(I7>=23,I7-24,I7)+1 -> 10 | J9: 00 | K9: =IF(K8>=23,K8-24,K8)+1 -> 15 | M9: =IF(M8>=23,M8-24,M8)+1 -> 15 | O9: =VLOOKUP(MONTH(V9),X3:Y14,2) -> Январь | T9: =YEAR(V9) -> 2014 | V9: =DATE(YEAR(V1),MONTH(V1)+W9,IF(DAY(V1)>VLOOKUP(MONTH(V1)+W9,X2:Z14,3),VLOOKUP(MONTH(V1)+W9,X2:Z14,3),DAY(V1))) -> 41655 | W9: 0 | X9: 7 | Y9: Июль | Z9: 31 | AA9: =CONCATENATE(DAY(AD9),".",MONTH(AD9)) -> 24.8 | AB9: 24 | AC9: 8 | AD9: =DATE($AB$1,AC9,AB9) -> 41875 | AE9: День независимости Украины
B10: 30 | D10: 30 | F10: 30 | H10: 30 | J10: 30 | K10: =IF(K9>=23,K9-24,K9)+1 -> 16 | M10: =IF(M9>=23,M9-24,M9)+1 -> 16 | O10: =IF(OR( 1 <WEEKDAY(EOMONTH(V9,-1)+1,2), 1 >DAY(EOMONTH(V9,0))+WEEKDAY(EOMONTH(V9,-1)+1,3)),"", 1 -WEEKDAY(EOMONTH(V9,-1)+1,2)+1) | P10: =IF(OR( 2 <WEEKDAY(EOMONTH(V9,-1)+1,2), 2 >DAY(EOMONTH(V9,0))+WEEKDAY(EOMONTH(V9,-1)+1,3)),"", 2 -WEEKDAY(EOMONTH(V9,-1)+1,2)+1) | Q10: =IF(OR( 3 <WEEKDAY(EOMONTH(V9,-1)+1,2), 3 >DAY(EOMONTH(V9,0))+WEEKDAY(EOMONTH(V9,-1)+1,3)),"", 3 -WEEKDAY(EOMONTH(V9,-1)+1,2)+1) -> 1 | R10: =IF(OR( 4 <WEEKDAY(EOMONTH(V9,-1)+1,2), 4 >DAY(EOMONTH(V9,0))+WEEKDAY(EOMONTH(V9,-1)+1,3)),"", 4 -WEEKDAY(EOMONTH(V9,-1)+1,2)+1) -> 2 | S10: =IF(OR( 5 <WEEKDAY(EOMONTH(V9,-1)+1,2), 5 >DAY(EOMONTH(V9,0))+WEEKDAY(EOMONTH(V9,-1)+1,3)),"", 5 -WEEKDAY(EOMONTH(V9,-1)+1,2)+1) -> 3 | T10: =IF(OR( 6 <WEEKDAY(EOMONTH(V9,-1)+1,2), 6 >DAY(EOMONTH(V9,0))+WEEKDAY(EOMONTH(V9,-1)+1,3)),"", 6 -WEEKDAY(EOMONTH(V9,-1)+1,2)+1) -> 4 | U10: =IF(OR( 7 <WEEKDAY(EOMONTH(V9,-1)+1,2), 7 >DAY(EOMONTH(V9,0))+WEEKDAY(EOMONTH(V9,-1)+1,3)),"", 7 -WEEKDAY(EOMONTH(V9,-1)+1,2)+1) -> 5 | X10: 8 | Y10: Август | Z10: 31 | AA10: =CONCATENATE(DAY(AD10),".",MONTH(AD10)) -> 20.4 | AB10: =IF(AG5+AG6<9,22+AG5+AG6,AG5+AG6-9)+13 -> 20 | AC10: =IF(AG5+AG6<9,3,4) -> 4 | AD10: =DATE($AB$1,AC10,AB10) -> 41749 | AE10: Пасха
A11: =IF(A9>=23,A9-24,A9)+1 -> 11 | B11: 00 | C11: =IF(C9>=23,C9-24,C9)+1 -> 11 | D11: 00 | E11: =IF(E9>=23,E9-24,E9)+1 -> 11 | F11: 00 | G11: =IF(G9>=23,G9-24,G9)+1 -> 11 | H11: 00 | I11: =IF(I9>=23,I9-24,I9)+1 -> 11 | J11: 00 | K11: =IF(K10>=23,K10-24,K10)+1 -> 17 | M11: =IF(M10>=23,M10-24,M10)+1 -> 17 | O11: =IF(OR( 8 <WEEKDAY(EOMONTH(V9,-1)+1,2), 8 >DAY(EOMONTH(V9,0))+WEEKDAY(EOMONTH(V9,-1)+1,3)),"", 8 -WEEKDAY(EOMONTH(V9,-1)+1,2)+1) -> 6 | P11: =IF(OR( 9 <WEEKDAY(EOMONTH(V9,-1)+1,2), 9 >DAY(EOMONTH(V9,0))+WEEKDAY(EOMONTH(V9,-1)+1,3)),"", 9 -WEEKDAY(EOMONTH(V9,-1)+1,2)+1) -> 7 | Q11: =IF(OR( 10 <WEEKDAY(EOMONTH(V9,-1)+1,2), 10 >DAY(EOMONTH(V9,0))+WEEKDAY(EOMONTH(V9,-1)+1,3)),"", 10 -WEEKDAY(EOMONTH(V9,-1)+1,2)+1) -> 8 | R11: =IF(OR( 11 <WEEKDAY(EOMONTH(V9,-1)+1,2), 11 >DAY(EOMONTH(V9,0))+WEEKDAY(EOMONTH(V9,-1)+1,3)),"", 11 -WEEKDAY(EOMONTH(V9,-1)+1,2)+1) -> 9 | S11: =IF(OR( 12 <WEEKDAY(EOMONTH(V9,-1)+1,2), 12 >DAY(EOMONTH(V9,0))+WEEKDAY(EOMONTH(V9,-1)+1,3)),"", 12 -WEEKDAY(EOMONTH(V9,-1)+1,2)+1) -> 10 | T11: =IF(OR( 13 <WEEKDAY(EOMONTH(V9,-1)+1,2), 13 >DAY(EOMONTH(V9,0))+WEEKDAY(EOMONTH(V9,-1)+1,3)),"", 13 -WEEKDAY(EOMONTH(V9,-1)+1,2)+1) -> 11 | U11: =IF(OR( 14 <WEEKDAY(EOMONTH(V9,-1)+1,2), 14 >DAY(EOMONTH(V9,0))+WEEKDAY(EOMONTH(V9,-1)+1,3)),"", 14 -WEEKDAY(EOMONTH(V9,-1)+1,2)+1) -> 12 | X11: 9 | Y11: Сентябрь | Z11: 30 | AA11: =CONCATENATE(DAY(AD11),".",MONTH(AD11)) -> 8.6 | AB11: =AB10+49 -> 69 | AC11: =AC10 -> 4 | AD11: =DATE($AB$1,AC11,AB11) -> 41798 | AE11: Троица
B12: 30 | D12: 30 | F12: 30 | H12: 30 | J12: 30 | K12: =IF(K11>=23,K11-24,K11)+1 -> 18 | M12: =IF(M11>=23,M11-24,M11)+1 -> 18 | O12: =IF(OR( 15 <WEEKDAY(EOMONTH(V9,-1)+1,2), 15 >DAY(EOMONTH(V9,0))+WEEKDAY(EOMONTH(V9,-1)+1,3)),"", 15 -WEEKDAY(EOMONTH(V9,-1)+1,2)+1) -> 13 | P12: =IF(OR( 16 <WEEKDAY(EOMONTH(V9,-1)+1,2), 16 >DAY(EOMONTH(V9,0))+WEEKDAY(EOMONTH(V9,-1)+1,3)),"", 16 -WEEKDAY(EOMONTH(V9,-1)+1,2)+1) -> 14 | Q12: =IF(OR( 17 <WEEKDAY(EOMONTH(V9,-1)+1,2), 17 >DAY(EOMONTH(V9,0))+WEEKDAY(EOMONTH(V9,-1)+1,3)),"", 17 -WEEKDAY(EOMONTH(V9,-1)+1,2)+1) -> 15 | R12: =IF(OR( 18 <WEEKDAY(EOMONTH(V9,-1)+1,2), 18 >DAY(EOMONTH(V9,0))+WEEKDAY(EOMONTH(V9,-1)+1,3)),"", 18 -WEEKDAY(EOMONTH(V9,-1)+1,2)+1) -> 16 | S12: =IF(OR( 19 <WEEKDAY(EOMONTH(V9,-1)+1,2), 19 >DAY(EOMONTH(V9,0))+WEEKDAY(EOMONTH(V9,-1)+1,3)),"", 19 -WEEKDAY(EOMONTH(V9,-1)+1,2)+1) -> 17 | T12: =IF(OR( 20 <WEEKDAY(EOMONTH(V9,-1)+1,2), 20 >DAY(EOMONTH(V9,0))+WEEKDAY(EOMONTH(V9,-1)+1,3)),"", 20 -WEEKDAY(EOMONTH(V9,-1)+1,2)+1) -> 18 | U12: =IF(OR( 21 <WEEKDAY(EOMONTH(V9,-1)+1,2), 21 >DAY(EOMONTH(V9,0))+WEEKDAY(EOMONTH(V9,-1)+1,3)),"", 21 -WEEKDAY(EOMONTH(V9,-1)+1,2)+1) -> 19 | X12: 10 | Y12: Октябрь | Z12: 31
A13: =IF(A11>=23,A11-24,A11)+1 -> 12 | B13: 00 | C13: =IF(C11>=23,C11-24,C11)+1 -> 12 | D13: 00 | E13: =IF(E11>=23,E11-24,E11)+1 -> 12 | F13: 00 | G13: =IF(G11>=23,G11-24,G11)+1 -> 12 | H13: 00 | I13: =IF(I11>=23,I11-24,I11)+1 -> 12 | J13: 00 | K13: =IF(K12>=23,K12-24,K12)+1 -> 19 | M13: =IF(M12>=23,M12-24,M12)+1 -> 19 | O13: =IF(OR( 22 <WEEKDAY(EOMONTH(V9,-1)+1,2), 22 >DAY(EOMONTH(V9,0))+WEEKDAY(EOMONTH(V9,-1)+1,3)),"", 22 -WEEKDAY(EOMONTH(V9,-1)+1,2)+1) -> 20 | P13: =IF(OR( 23 <WEEKDAY(EOMONTH(V9,-1)+1,2), 23 >DAY(EOMONTH(V9,0))+WEEKDAY(EOMONTH(V9,-1)+1,3)),"", 23 -WEEKDAY(EOMONTH(V9,-1)+1,2)+1) -> 21 | Q13: =IF(OR( 24 <WEEKDAY(EOMONTH(V9,-1)+1,2), 24 >DAY(EOMONTH(V9,0))+WEEKDAY(EOMONTH(V9,-1)+1,3)),"", 24 -WEEKDAY(EOMONTH(V9,-1)+1,2)+1) -> 22 | R13: =IF(OR( 25 <WEEKDAY(EOMONTH(V9,-1)+1,2), 25 >DAY(EOMONTH(V9,0))+WEEKDAY(EOMONTH(V9,-1)+1,3)),"", 25 -WEEKDAY(EOMONTH(V9,-1)+1,2)+1) -> 23 | S13: =IF(OR( 26 <WEEKDAY(EOMONTH(V9,-1)+1,2), 26 >DAY(EOMONTH(V9,0))+WEEKDAY(EOMONTH(V9,-1)+1,3)),"", 26 -WEEKDAY(EOMONTH(V9,-1)+1,2)+1) -> 24 | T13: =IF(OR( 27 <WEEKDAY(EOMONTH(V9,-1)+1,2), 27 >DAY(EOMONTH(V9,0))+WEEKDAY(EOMONTH(V9,-1)+1,3)),"", 27 -WEEKDAY(EOMONTH(V9,-1)+1,2)+1) -> 25 | U13: =IF(OR( 28 <WEEKDAY(EOMONTH(V9,-1)+1,2), 28 >DAY(EOMONTH(V9,0))+WEEKDAY(EOMONTH(V9,-1)+1,3)),"", 28 -WEEKDAY(EOMONTH(V9,-1)+1,2)+1) -> 26 | X13: 11 | Y13: Ноябрь | Z13: 30 | AE13: Переносы
B14: 30 | D14: 30 | F14: 30 | H14: 30 | J14: 30 | K14: =IF(K13>=23,K13-24,K13)+1 -> 20 | M14: =IF(M13>=23,M13-24,M13)+1 -> 20 | O14: =IF(OR( 29 <WEEKDAY(EOMONTH(V9,-1)+1,2), 29 >DAY(EOMONTH(V9,0))+WEEKDAY(EOMONTH(V9,-1)+1,3)),"", 29 -WEEKDAY(EOMONTH(V9,-1)+1,2)+1) -> 27 | P14: =IF(OR( 30 <WEEKDAY(EOMONTH(V9,-1)+1,2), 30 >DAY(EOMONTH(V9,0))+WEEKDAY(EOMONTH(V9,-1)+1,3)),"", 30 -WEEKDAY(EOMONTH(V9,-1)+1,2)+1) -> 28 | Q14: =IF(OR( 31 <WEEKDAY(EOMONTH(V9,-1)+1,2), 31 >DAY(EOMONTH(V9,0))+WEEKDAY(EOMONTH(V9,-1)+1,3)),"", 31 -WEEKDAY(EOMONTH(V9,-1)+1,2)+1) -> 29 | R14: =IF(OR( 32 <WEEKDAY(EOMONTH(V9,-1)+1,2), 32 >DAY(EOMONTH(V9,0))+WEEKDAY(EOMONTH(V9,-1)+1,3)),"", 32 -WEEKDAY(EOMONTH(V9,-1)+1,2)+1) -> 30 | S14: =IF(OR( 33 <WEEKDAY(EOMONTH(V9,-1)+1,2), 33 >DAY(EOMONTH(V9,0))+WEEKDAY(EOMONTH(V9,-1)+1,3)),"", 33 -WEEKDAY(EOMONTH(V9,-1)+1,2)+1) -> 31 | T14: =IF(OR( 34 <WEEKDAY(EOMONTH(V9,-1)+1,2), 34 >DAY(EOMONTH(V9,0))+WEEKDAY(EOMONTH(V9,-1)+1,3)),"", 34 -WEEKDAY(EOMONTH(V9,-1)+1,2)+1) | U14: =IF(OR( 35 <WEEKDAY(EOMONTH(V9,-1)+1,2), 35 >DAY(EOMONTH(V9,0))+WEEKDAY(EOMONTH(V9,-1)+1,3)),"", 35 -WEEKDAY(EOMONTH(V9,-1)+1,2)+1) | X14: 12 | Y14: Декабрь | Z14: 31 | AA14: =IFERROR(CONCATENATE(DAY(AD14),".",MONTH(AD14)),"") | AD14: =IF(WEEKDAY(AD2,2)>5,AD2+(8-WEEKDAY(AD2,2)),"") | AE14: Новый год
A15: =IF(A13>=23,A13-24,A13)+1 -> 13 | B15: 00 | C15: =IF(C13>=23,C13-24,C13)+1 -> 13 | D15: 00 | E15: =IF(E13>=23,E13-24,E13)+1 -> 13 | F15: 00 | G15: =IF(G13>=23,G13-24,G13)+1 -> 13 | H15: 00 | I15: =IF(I13>=23,I13-24,I13)+1 -> 13 | J15: 00 | K15: =IF(K14>=23,K14-24,K14)+1 -> 21 | M15: =IF(M14>=23,M14-24,M14)+1 -> 21 | O15: =IF(OR( 36 <WEEKDAY(EOMONTH(V9,-1)+1,2), 36 >DAY(EOMONTH(V9,0))+WEEKDAY(EOMONTH(V9,-1)+1,3)),"", 36 -WEEKDAY(EOMONTH(V9,-1)+1,2)+1) | P15: =IF(OR( 37 <WEEKDAY(EOMONTH(V9,-1)+1,2), 37 >DAY(EOMONTH(V9,0))+WEEKDAY(EOMONTH(V9,-1)+1,3)),"", 37 -WEEKDAY(EOMONTH(V9,-1)+1,2)+1) | Q15: =IF(OR( 38 <WEEKDAY(EOMONTH(V9,-1)+1,2), 38 >DAY(EOMONTH(V9,0))+WEEKDAY(EOMONTH(V9,-1)+1,3)),"", 38 -WEEKDAY(EOMONTH(V9,-1)+1,2)+1) | R15: =IF(OR( 39 <WEEKDAY(EOMONTH(V9,-1)+1,2), 39 >DAY(EOMONTH(V9,0))+WEEKDAY(EOMONTH(V9,-1)+1,3)),"", 39 -WEEKDAY(EOMONTH(V9,-1)+1,2)+1) | S15: =IF(OR( 40 <WEEKDAY(EOMONTH(V9,-1)+1,2), 40 >DAY(EOMONTH(V9,0))+WEEKDAY(EOMONTH(V9,-1)+1,3)),"", 40 -WEEKDAY(EOMONTH(V9,-1)+1,2)+1) | T15: =IF(OR( 41 <WEEKDAY(EOMONTH(V9,-1)+1,2), 41 >DAY(EOMONTH(V9,0))+WEEKDAY(EOMONTH(V9,-1)+1,3)),"", 41 -WEEKDAY(EOMONTH(V9,-1)+1,2)+1) | U15: =IF(OR( 42 <WEEKDAY(EOMONTH(V9,-1)+1,2), 42 >DAY(EOMONTH(V9,0))+WEEKDAY(EOMONTH(V9,-1)+1,3)),"", 42 -WEEKDAY(EOMONTH(V9,-1)+1,2)+1) | AA15: =IFERROR(CONCATENATE(DAY(AD15),".",MONTH(AD15)),"") | AD15: =IF(WEEKDAY(AD3,2)>5,AD3+(8-WEEKDAY(AD3,2)),"") | AE15: Рождество Христово
B16: 30 | D16: 30 | F16: 30 | H16: 30 | J16: 30 | K16: =IF(K15>=23,K15-24,K15)+1 -> 22 | M16: =IF(M15>=23,M15-24,M15)+1 -> 22 | O16: =VLOOKUP(MONTH(V16),X3:Y14,2) -> Февраль | T16: =YEAR(V16) -> 2014 | V16: =DATE(YEAR(V1),MONTH(V1)+W16,IF(DAY(V1)>VLOOKUP(MONTH(V1)+W16,X2:Z14,3),VLOOKUP(MONTH(V1)+W16,X2:Z14,3),DAY(V1))) -> 41686 | W16: 1 | AA16: =IFERROR(CONCATENATE(DAY(AD16),".",MONTH(AD16)),"") -> 10.3 | AD16: =IF(WEEKDAY(AD4,2)>5,AD4+(8-WEEKDAY(AD4,2)),"") -> 41708 | AE16: Женский день
A17: =IF(A15>=23,A15-24,A15)+1 -> 14 | B17: 00 | C17: =IF(C15>=23,C15-24,C15)+1 -> 14 | D17: 00 | E17: =IF(E15>=23,E15-24,E15)+1 -> 14 | F17: 00 | G17: =IF(G15>=23,G15-24,G15)+1 -> 14 | H17: 00 | I17: =IF(I15>=23,I15-24,I15)+1 -> 14 | J17: 00 | K17: =IF(K16>=23,K16-24,K16)+1 -> 23 | M17: =IF(M16>=23,M16-24,M16)+1 -> 23 | O17: =IF(OR( 1 <WEEKDAY(EOMONTH(V16,-1)+1,2), 1 >DAY(EOMONTH(V16,0))+WEEKDAY(EOMONTH(V16,-1)+1,3)),"", 1 -WEEKDAY(EOMONTH(V16,-1)+1,2)+1) | P17: =IF(OR( 2 <WEEKDAY(EOMONTH(V16,-1)+1,2), 2 >DAY(EOMONTH(V16,0))+WEEKDAY(EOMONTH(V16,-1)+1,3)),"", 2 -WEEKDAY(EOMONTH(V16,-1)+1,2)+1) | Q17: =IF(OR( 3 <WEEKDAY(EOMONTH(V16,-1)+1,2), 3 >DAY(EOMONTH(V16,0))+WEEKDAY(EOMONTH(V16,-1)+1,3)),"", 3 -WEEKDAY(EOMONTH(V16,-1)+1,2)+1) | R17: =IF(OR( 4 <WEEKDAY(EOMONTH(V16,-1)+1,2), 4 >DAY(EOMONTH(V16,0))+WEEKDAY(EOMONTH(V16,-1)+1,3)),"", 4 -WEEKDAY(EOMONTH(V16,-1)+1,2)+1) | S17: =IF(OR( 5 <WEEKDAY(EOMONTH(V16,-1)+1,2), 5 >DAY(EOMONTH(V16,0))+WEEKDAY(EOMONTH(V16,-1)+1,3)),"", 5 -WEEKDAY(EOMONTH(V16,-1)+1,2)+1) | T17: =IF(OR( 6 <WEEKDAY(EOMONTH(V16,-1)+1,2), 6 >DAY(EOMONTH(V16,0))+WEEKDAY(EOMONTH(V16,-1)+1,3)),"", 6 -WEEKDAY(EOMONTH(V16,-1)+1,2)+1) -> 1 | U17: =IF(OR( 7 <WEEKDAY(EOMONTH(V16,-1)+1,2), 7 >DAY(EOMONTH(V16,0))+WEEKDAY(EOMONTH(V16,-1)+1,3)),"", 7 -WEEKDAY(EOMONTH(V16,-1)+1,2)+1) -> 2 | AA17: =IFERROR(CONCATENATE(DAY(AD17),".",MONTH(AD17)),"") | AD17: =IF(WEEKDAY(AD5,2)>5,AD5+(8-WEEKDAY(AD5,2)),"") | AE17: День солидарности трудящихся
B18: 30 | D18: 30 | F18: 30 | H18: 30 | J18: 30 | K18: =IFERROR(INDIRECT(ADDRESS(MATCH(CONCATENATE(DAY(K$2),".",MONTH(K$2)),$AA$2:$AA$12,0)+1,31)),"Дела на день") -> Дела на день | M18: =IFERROR(INDIRECT(ADDRESS(MATCH(CONCATENATE(DAY(M$2),".",MONTH(M$2)),$AA$2:$AA$12,0)+1,31)),"Дела на день") -> Дела на день | O18: =IF(OR( 8 <WEEKDAY(EOMONTH(V16,-1)+1,2), 8 >DAY(EOMONTH(V16,0))+WEEKDAY(EOMONTH(V16,-1)+1,3)),"", 8 -WEEKDAY(EOMONTH(V16,-1)+1,2)+1) -> 3 | P18: =IF(OR( 9 <WEEKDAY(EOMONTH(V16,-1)+1,2), 9 >DAY(EOMONTH(V16,0))+WEEKDAY(EOMONTH(V16,-1)+1,3)),"", 9 -WEEKDAY(EOMONTH(V16,-1)+1,2)+1) -> 4 | Q18: =IF(OR( 10 <WEEKDAY(EOMONTH(V16,-1)+1,2), 10 >DAY(EOMONTH(V16,0))+WEEKDAY(EOMONTH(V16,-1)+1,3)),"", 10 -WEEKDAY(EOMONTH(V16,-1)+1,2)+1) -> 5 | R18: =IF(OR( 11 <WEEKDAY(EOMONTH(V16,-1)+1,2), 11 >DAY(EOMONTH(V16,0))+WEEKDAY(EOMONTH(V16,-1)+1,3)),"", 11 -WEEKDAY(EOMONTH(V16,-1)+1,2)+1) -> 6 | S18: =IF(OR( 12 <WEEKDAY(EOMONTH(V16,-1)+1,2), 12 >DAY(EOMONTH(V16,0))+WEEKDAY(EOMONTH(V16,-1)+1,3)),"", 12 -WEEKDAY(EOMONTH(V16,-1)+1,2)+1) -> 7 | T18: =IF(OR( 13 <WEEKDAY(EOMONTH(V16,-1)+1,2), 13 >DAY(EOMONTH(V16,0))+WEEKDAY(EOMONTH(V16,-1)+1,3)),"", 13 -WEEKDAY(EOMONTH(V16,-1)+1,2)+1) -> 8 | U18: =IF(OR( 14 <WEEKDAY(EOMONTH(V16,-1)+1,2), 14 >DAY(EOMONTH(V16,0))+WEEKDAY(EOMONTH(V16,-1)+1,3)),"", 14 -WEEKDAY(EOMONTH(V16,-1)+1,2)+1) -> 9 | AA18: =IFERROR(CONCATENATE(DAY(AD18),".",MONTH(AD18)),"") | AD18: =IF(WEEKDAY(AD6,2)>5,AD6+(8-WEEKDAY(AD6,2)),"") | AE18: День солидарности трудящихся
A19: =IF(A17>=23,A17-24,A17)+1 -> 15 | B19: 00 | C19: =IF(C17>=23,C17-24,C17)+1 -> 15 | D19: 00 | E19: =IF(E17>=23,E17-24,E17)+1 -> 15 | F19: 00 | G19: =IF(G17>=23,G17-24,G17)+1 -> 15 | H19: 00 | I19: =IF(I17>=23,I17-24,I17)+1 -> 15 | J19: 00 | O19: =IF(OR( 15 <WEEKDAY(EOMONTH(V16,-1)+1,2), 15 >DAY(EOMONTH(V16,0))+WEEKDAY(EOMONTH(V16,-1)+1,3)),"", 15 -WEEKDAY(EOMONTH(V16,-1)+1,2)+1) -> 10 | P19: =IF(OR( 16 <WEEKDAY(EOMONTH(V16,-1)+1,2), 16 >DAY(EOMONTH(V16,0))+WEEKDAY(EOMONTH(V16,-1)+1,3)),"", 16 -WEEKDAY(EOMONTH(V16,-1)+1,2)+1) -> 11 | Q19: =IF(OR( 17 <WEEKDAY(EOMONTH(V16,-1)+1,2), 17 >DAY(EOMONTH(V16,0))+WEEKDAY(EOMONTH(V16,-1)+1,3)),"", 17 -WEEKDAY(EOMONTH(V16,-1)+1,2)+1) -> 12 | R19: =IF(OR( 18 <WEEKDAY(EOMONTH(V16,-1)+1,2), 18 >DAY(EOMONTH(V16,0))+WEEKDAY(EOMONTH(V16,-1)+1,3)),"", 18 -WEEKDAY(EOMONTH(V16,-1)+1,2)+1) -> 13 | S19: =IF(OR( 19 <WEEKDAY(EOMONTH(V16,-1)+1,2), 19 >DAY(EOMONTH(V16,0))+WEEKDAY(EOMONTH(V16,-1)+1,3)),"", 19 -WEEKDAY(EOMONTH(V16,-1)+1,2)+1) -> 14 | T19: =IF(OR( 20 <WEEKDAY(EOMONTH(V16,-1)+1,2), 20 >DAY(EOMONTH(V16,0))+WEEKDAY(EOMONTH(V16,-1)+1,3)),"", 20 -WEEKDAY(EOMONTH(V16,-1)+1,2)+1) -> 15 | U19: =IF(OR( 21 <WEEKDAY(EOMONTH(V16,-1)+1,2), 21 >DAY(EOMONTH(V16,0))+WEEKDAY(EOMONTH(V16,-1)+1,3)),"", 21 -WEEKDAY(EOMONTH(V16,-1)+1,2)+1) -> 16 | AA19: =IFERROR(CONCATENATE(DAY(AD19),".",MONTH(AD19)),"") | AD19: =IF(WEEKDAY(AD7,2)>5,AD7+(8-WEEKDAY(AD7,2)),"") | AE19: День Победы
B20: 30 | D20: 30 | F20: 30 | H20: 30 | J20: 30 | O20: =IF(OR( 22 <WEEKDAY(EOMONTH(V16,-1)+1,2), 22 >DAY(EOMONTH(V16,0))+WEEKDAY(EOMONTH(V16,-1)+1,3)),"", 22 -WEEKDAY(EOMONTH(V16,-1)+1,2)+1) -> 17 | P20: =IF(OR( 23 <WEEKDAY(EOMONTH(V16,-1)+1,2), 23 >DAY(EOMONTH(V16,0))+WEEKDAY(EOMONTH(V16,-1)+1,3)),"", 23 -WEEKDAY(EOMONTH(V16,-1)+1,2)+1) -> 18 | Q20: =IF(OR( 24 <WEEKDAY(EOMONTH(V16,-1)+1,2), 24 >DAY(EOMONTH(V16,0))+WEEKDAY(EOMONTH(V16,-1)+1,3)),"", 24 -WEEKDAY(EOMONTH(V16,-1)+1,2)+1) -> 19 | R20: =IF(OR( 25 <WEEKDAY(EOMONTH(V16,-1)+1,2), 25 >DAY(EOMONTH(V16,0))+WEEKDAY(EOMONTH(V16,-1)+1,3)),"", 25 -WEEKDAY(EOMONTH(V16,-1)+1,2)+1) -> 20 | S20: =IF(OR( 26 <WEEKDAY(EOMONTH(V16,-1)+1,2), 26 >DAY(EOMONTH(V16,0))+WEEKDAY(EOMONTH(V16,-1)+1,3)),"", 26 -WEEKDAY(EOMONTH(V16,-1)+1,2)+1) -> 21 | T20: =IF(OR( 27 <WEEKDAY(EOMONTH(V16,-1)+1,2), 27 >DAY(EOMONTH(V16,0))+WEEKDAY(EOMONTH(V16,-1)+1,3)),"", 27 -WEEKDAY(EOMONTH(V16,-1)+1,2)+1) -> 22 | U20: =IF(OR( 28 <WEEKDAY(EOMONTH(V16,-1)+1,2), 28 >DAY(EOMONTH(V16,0))+WEEKDAY(EOMONTH(V16,-1)+1,3)),"", 28 -WEEKDAY(EOMONTH(V16,-1)+1,2)+1) -> 23 | AA20: =IFERROR(CONCATENATE(DAY(AD20),".",MONTH(AD20)),"") -> 30.6 | AD20: =IF(WEEKDAY(AD8,2)>5,AD8+(8-WEEKDAY(AD8,2)),"") -> 41820 | AE20: День Конституции Украины
A21: =IF(A19>=23,A19-24,A19)+1 -> 16 | B21: 00 | C21: =IF(C19>=23,C19-24,C19)+1 -> 16 | D21: 00 | E21: =IF(E19>=23,E19-24,E19)+1 -> 16 | F21: 00 | G21: =IF(G19>=23,G19-24,G19)+1 -> 16 | H21: 00 | I21: =IF(I19>=23,I19-24,I19)+1 -> 16 | J21: 00 | O21: =IF(OR( 29 <WEEKDAY(EOMONTH(V16,-1)+1,2), 29 >DAY(EOMONTH(V16,0))+WEEKDAY(EOMONTH(V16,-1)+1,3)),"", 29 -WEEKDAY(EOMONTH(V16,-1)+1,2)+1) -> 24 | P21: =IF(OR( 30 <WEEKDAY(EOMONTH(V16,-1)+1,2), 30 >DAY(EOMONTH(V16,0))+WEEKDAY(EOMONTH(V16,-1)+1,3)),"", 30 -WEEKDAY(EOMONTH(V16,-1)+1,2)+1) -> 25 | Q21: =IF(OR( 31 <WEEKDAY(EOMONTH(V16,-1)+1,2), 31 >DAY(EOMONTH(V16,0))+WEEKDAY(EOMONTH(V16,-1)+1,3)),"", 31 -WEEKDAY(EOMONTH(V16,-1)+1,2)+1) -> 26 | R21: =IF(OR( 32 <WEEKDAY(EOMONTH(V16,-1)+1,2), 32 >DAY(EOMONTH(V16,0))+WEEKDAY(EOMONTH(V16,-1)+1,3)),"", 32 -WEEKDAY(EOMONTH(V16,-1)+1,2)+1) -> 27 | S21: =IF(OR( 33 <WEEKDAY(EOMONTH(V16,-1)+1,2), 33 >DAY(EOMONTH(V16,0))+WEEKDAY(EOMONTH(V16,-1)+1,3)),"", 33 -WEEKDAY(EOMONTH(V16,-1)+1,2)+1) -> 28 | T21: =IF(OR( 34 <WEEKDAY(EOMONTH(V16,-1)+1,2), 34 >DAY(EOMONTH(V16,0))+WEEKDAY(EOMONTH(V16,-1)+1,3)),"", 34 -WEEKDAY(EOMONTH(V16,-1)+1,2)+1) | U21: =IF(OR( 35 <WEEKDAY(EOMONTH(V16,-1)+1,2), 35 >DAY(EOMONTH(V16,0))+WEEKDAY(EOMONTH(V16,-1)+1,3)),"", 35 -WEEKDAY(EOMONTH(V16,-1)+1,2)+1) | AA21: =IFERROR(CONCATENATE(DAY(AD21),".",MONTH(AD21)),"") -> 25.8 | AD21: =IF(WEEKDAY(AD9,2)>5,AD9+(8-WEEKDAY(AD9,2)),"") -> 41876 | AE21: День независимости Украины
B22: 30 | D22: 30 | F22: 30 | H22: 30 | J22: 30 | O22: =IF(OR( 36 <WEEKDAY(EOMONTH(V16,-1)+1,2), 36 >DAY(EOMONTH(V16,0))+WEEKDAY(EOMONTH(V16,-1)+1,3)),"", 36 -WEEKDAY(EOMONTH(V16,-1)+1,2)+1) | P22: =IF(OR( 37 <WEEKDAY(EOMONTH(V16,-1)+1,2), 37 >DAY(EOMONTH(V16,0))+WEEKDAY(EOMONTH(V16,-1)+1,3)),"", 37 -WEEKDAY(EOMONTH(V16,-1)+1,2)+1) | Q22: =IF(OR( 38 <WEEKDAY(EOMONTH(V16,-1)+1,2), 38 >DAY(EOMONTH(V16,0))+WEEKDAY(EOMONTH(V16,-1)+1,3)),"", 38 -WEEKDAY(EOMONTH(V16,-1)+1,2)+1) | R22: =IF(OR( 39 <WEEKDAY(EOMONTH(V16,-1)+1,2), 39 >DAY(EOMONTH(V16,0))+WEEKDAY(EOMONTH(V16,-1)+1,3)),"", 39 -WEEKDAY(EOMONTH(V16,-1)+1,2)+1) | S22: =IF(OR( 40 <WEEKDAY(EOMONTH(V16,-1)+1,2), 40 >DAY(EOMONTH(V16,0))+WEEKDAY(EOMONTH(V16,-1)+1,3)),"", 40 -WEEKDAY(EOMONTH(V16,-1)+1,2)+1) | T22: =IF(OR( 41 <WEEKDAY(EOMONTH(V16,-1)+1,2), 41 >DAY(EOMONTH(V16,0))+WEEKDAY(EOMONTH(V16,-1)+1,3)),"", 41 -WEEKDAY(EOMONTH(V16,-1)+1,2)+1) | U22: =IF(OR( 42 <WEEKDAY(EOMONTH(V16,-1)+1,2), 42 >DAY(EOMONTH(V16,0))+WEEKDAY(EOMONTH(V16,-1)+1,3)),"", 42 -WEEKDAY(EOMONTH(V16,-1)+1,2)+1) | AA22: =IFERROR(CONCATENATE(DAY(AD22),".",MONTH(AD22)),"") -> 21.4 | AD22: =IF(WEEKDAY(AD10,2)>5,AD10+(8-WEEKDAY(AD10,2)),"") -> 41750 | AE22: Пасху
A23: =IF(A21>=23,A21-24,A21)+1 -> 17 | B23: 00 | C23: =IF(C21>=23,C21-24,C21)+1 -> 17 | D23: 00 | E23: =IF(E21>=23,E21-24,E21)+1 -> 17 | F23: 00 | G23: =IF(G21>=23,G21-24,G21)+1 -> 17 | H23: 00 | I23: =IF(I21>=23,I21-24,I21)+1 -> 17 | J23: 00 | M23: 1 | N23: закрасить сверху | O23: =VLOOKUP(MONTH( V23 ),X3:Y14,2) -> Март | T23: =YEAR(V23) -> 2014 | V23: =DATE(YEAR(V1),MONTH(V1)+W23,IF(DAY(V1)>VLOOKUP(MONTH(V1)+W23,X2:Z14,3),VLOOKUP(MONTH(V1)+W23,X2:Z14,3),DAY(V1))) -> 41714 | W23: 2 | AA23: =IFERROR(CONCATENATE(DAY(AD23),".",MONTH(AD23)),"") -> 9.6 | AD23: =IF(WEEKDAY(AD11,2)>5,AD11+(8-WEEKDAY(AD11,2)),"") -> 41799 | AE23: Троицу
B24: 30 | D24: 30 | F24: 30 | H24: 30 | J24: 30 | M24: 3 | N24: закрасить снизу | O24: =IF(OR( 1 <WEEKDAY(EOMONTH(V23,-1)+1,2), 1 >DAY(EOMONTH(V23,0))+WEEKDAY(EOMONTH(V23,-1)+1,3)),"", 1 -WEEKDAY(EOMONTH(V23,-1)+1,2)+1) | P24: =IF(OR( 2 <WEEKDAY(EOMONTH(V23,-1)+1,2), 2 >DAY(EOMONTH(V23,0))+WEEKDAY(EOMONTH(V23,-1)+1,3)),"", 2 -WEEKDAY(EOMONTH(V23,-1)+1,2)+1) | Q24: =IF(OR( 3 <WEEKDAY(EOMONTH(V23,-1)+1,2), 3 >DAY(EOMONTH(V23,0))+WEEKDAY(EOMONTH(V23,-1)+1,3)),"", 3 -WEEKDAY(EOMONTH(V23,-1)+1,2)+1) | R24: =IF(OR( 4 <WEEKDAY(EOMONTH(V23,-1)+1,2), 4 >DAY(EOMONTH(V23,0))+WEEKDAY(EOMONTH(V23,-1)+1,3)),"", 4 -WEEKDAY(EOMONTH(V23,-1)+1,2)+1) | S24: =IF(OR( 5 <WEEKDAY(EOMONTH(V23,-1)+1,2), 5 >DAY(EOMONTH(V23,0))+WEEKDAY(EOMONTH(V23,-1)+1,3)),"", 5 -WEEKDAY(EOMONTH(V23,-1)+1,2)+1) | T24: =IF(OR( 6 <WEEKDAY(EOMONTH(V23,-1)+1,2), 6 >DAY(EOMONTH(V23,0))+WEEKDAY(EOMONTH(V23,-1)+1,3)),"", 6 -WEEKDAY(EOMONTH(V23,-1)+1,2)+1) -> 1 | U24: =IF(OR( 7 <WEEKDAY(EOMONTH(V23,-1)+1,2), 7 >DAY(EOMONTH(V23,0))+WEEKDAY(EOMONTH(V23,-1)+1,3)),"", 7 -WEEKDAY(EOMONTH(V23,-1)+1,2)+1) -> 2
A25: =IF(A23>=23,A23-24,A23)+1 -> 18 | B25: 00 | C25: =IF(C23>=23,C23-24,C23)+1 -> 18 | D25: 00 | E25: =IF(E23>=23,E23-24,E23)+1 -> 18 | F25: 00 | G25: =IF(G23>=23,G23-24,G23)+1 -> 18 | H25: 00 | I25: =IF(I23>=23,I23-24,I23)+1 -> 18 | J25: 00 | M25: 0 | N25: сдвиг недели | O25: =IF(OR( 8 <WEEKDAY(EOMONTH(V23,-1)+1,2), 8 >DAY(EOMONTH(V23,0))+WEEKDAY(EOMONTH(V23,-1)+1,3)),"", 8 -WEEKDAY(EOMONTH(V23,-1)+1,2)+1) -> 3 | P25: =IF(OR( 9 <WEEKDAY(EOMONTH(V23,-1)+1,2), 9 >DAY(EOMONTH(V23,0))+WEEKDAY(EOMONTH(V23,-1)+1,3)),"", 9 -WEEKDAY(EOMONTH(V23,-1)+1,2)+1) -> 4 | Q25: =IF(OR( 10 <WEEKDAY(EOMONTH(V23,-1)+1,2), 10 >DAY(EOMONTH(V23,0))+WEEKDAY(EOMONTH(V23,-1)+1,3)),"", 10 -WEEKDAY(EOMONTH(V23,-1)+1,2)+1) -> 5 | R25: =IF(OR( 11 <WEEKDAY(EOMONTH(V23,-1)+1,2), 11 >DAY(EOMONTH(V23,0))+WEEKDAY(EOMONTH(V23,-1)+1,3)),"", 11 -WEEKDAY(EOMONTH(V23,-1)+1,2)+1) -> 6 | S25: =IF(OR( 12 <WEEKDAY(EOMONTH(V23,-1)+1,2), 12 >DAY(EOMONTH(V23,0))+WEEKDAY(EOMONTH(V23,-1)+1,3)),"", 12 -WEEKDAY(EOMONTH(V23,-1)+1,2)+1) -> 7 | T25: =IF(OR( 13 <WEEKDAY(EOMONTH(V23,-1)+1,2), 13 >DAY(EOMONTH(V23,0))+WEEKDAY(EOMONTH(V23,-1)+1,3)),"", 13 -WEEKDAY(EOMONTH(V23,-1)+1,2)+1) -> 8 | U25: =IF(OR( 14 <WEEKDAY(EOMONTH(V23,-1)+1,2), 14 >DAY(EOMONTH(V23,0))+WEEKDAY(EOMONTH(V23,-1)+1,3)),"", 14 -WEEKDAY(EOMONTH(V23,-1)+1,2)+1) -> 9
B26: 30 | D26: 30 | F26: 30 | H26: 30 | J26: 30 | K26: II важно не срочно | M26: I важно срочно | O26: =IF(OR( 15 <WEEKDAY(EOMONTH(V23,-1)+1,2), 15 >DAY(EOMONTH(V23,0))+WEEKDAY(EOMONTH(V23,-1)+1,3)),"", 15 -WEEKDAY(EOMONTH(V23,-1)+1,2)+1) -> 10 | P26: =IF(OR( 16 <WEEKDAY(EOMONTH(V23,-1)+1,2), 16 >DAY(EOMONTH(V23,0))+WEEKDAY(EOMONTH(V23,-1)+1,3)),"", 16 -WEEKDAY(EOMONTH(V23,-1)+1,2)+1) -> 11 | Q26: =IF(OR( 17 <WEEKDAY(EOMONTH(V23,-1)+1,2), 17 >DAY(EOMONTH(V23,0))+WEEKDAY(EOMONTH(V23,-1)+1,3)),"", 17 -WEEKDAY(EOMONTH(V23,-1)+1,2)+1) -> 12 | R26: =IF(OR( 18 <WEEKDAY(EOMONTH(V23,-1)+1,2), 18 >DAY(EOMONTH(V23,0))+WEEKDAY(EOMONTH(V23,-1)+1,3)),"", 18 -WEEKDAY(EOMONTH(V23,-1)+1,2)+1) -> 13 | S26: =IF(OR( 19 <WEEKDAY(EOMONTH(V23,-1)+1,2), 19 >DAY(EOMONTH(V23,0))+WEEKDAY(EOMONTH(V23,-1)+1,3)),"", 19 -WEEKDAY(EOMONTH(V23,-1)+1,2)+1) -> 14 | T26: =IF(OR( 20 <WEEKDAY(EOMONTH(V23,-1)+1,2), 20 >DAY(EOMONTH(V23,0))+WEEKDAY(EOMONTH(V23,-1)+1,3)),"", 20 -WEEKDAY(EOMONTH(V23,-1)+1,2)+1) -> 15 | U26: =IF(OR( 21 <WEEKDAY(EOMONTH(V23,-1)+1,2), 21 >DAY(EOMONTH(V23,0))+WEEKDAY(EOMONTH(V23,-1)+1,3)),"", 21 -WEEKDAY(EOMONTH(V23,-1)+1,2)+1) -> 16
A27: =IF(A25>=23,A25-24,A25)+1 -> 19 | B27: 00 | C27: =IF(C25>=23,C25-24,C25)+1 -> 19 | D27: 00 | E27: =IF(E25>=23,E25-24,E25)+1 -> 19 | F27: 00 | G27: =IF(G25>=23,G25-24,G25)+1 -> 19 | H27: 00 | I27: =IF(I25>=23,I25-24,I25)+1 -> 19 | J27: 00 | O27: =IF(OR( 22 <WEEKDAY(EOMONTH(V23,-1)+1,2), 22 >DAY(EOMONTH(V23,0))+WEEKDAY(EOMONTH(V23,-1)+1,3)),"", 22 -WEEKDAY(EOMONTH(V23,-1)+1,2)+1) -> 17 | P27: =IF(OR( 23 <WEEKDAY(EOMONTH(V23,-1)+1,2), 23 >DAY(EOMONTH(V23,0))+WEEKDAY(EOMONTH(V23,-1)+1,3)),"", 23 -WEEKDAY(EOMONTH(V23,-1)+1,2)+1) -> 18 | Q27: =IF(OR( 24 <WEEKDAY(EOMONTH(V23,-1)+1,2), 24 >DAY(EOMONTH(V23,0))+WEEKDAY(EOMONTH(V23,-1)+1,3)),"", 24 -WEEKDAY(EOMONTH(V23,-1)+1,2)+1) -> 19 | R27: =IF(OR( 25 <WEEKDAY(EOMONTH(V23,-1)+1,2), 25 >DAY(EOMONTH(V23,0))+WEEKDAY(EOMONTH(V23,-1)+1,3)),"", 25 -WEEKDAY(EOMONTH(V23,-1)+1,2)+1) -> 20 | S27: =IF(OR( 26 <WEEKDAY(EOMONTH(V23,-1)+1,2), 26 >DAY(EOMONTH(V23,0))+WEEKDAY(EOMONTH(V23,-1)+1,3)),"", 26 -WEEKDAY(EOMONTH(V23,-1)+1,2)+1) -> 21 | T27: =IF(OR( 27 <WEEKDAY(EOMONTH(V23,-1)+1,2), 27 >DAY(EOMONTH(V23,0))+WEEKDAY(EOMONTH(V23,-1)+1,3)),"", 27 -WEEKDAY(EOMONTH(V23,-1)+1,2)+1) -> 22 | U27: =IF(OR( 28 <WEEKDAY(EOMONTH(V23,-1)+1,2), 28 >DAY(EOMONTH(V23,0))+WEEKDAY(EOMONTH(V23,-1)+1,3)),"", 28 -WEEKDAY(EOMONTH(V23,-1)+1,2)+1) -> 23
B28: 30 | D28: 30 | F28: 30 | H28: 30 | J28: 30 | O28: =IF(OR( 29 <WEEKDAY(EOMONTH(V23,-1)+1,2), 29 >DAY(EOMONTH(V23,0))+WEEKDAY(EOMONTH(V23,-1)+1,3)),"", 29 -WEEKDAY(EOMONTH(V23,-1)+1,2)+1) -> 24 | P28: =IF(OR( 30 <WEEKDAY(EOMONTH(V23,-1)+1,2), 30 >DAY(EOMONTH(V23,0))+WEEKDAY(EOMONTH(V23,-1)+1,3)),"", 30 -WEEKDAY(EOMONTH(V23,-1)+1,2)+1) -> 25 | Q28: =IF(OR( 31 <WEEKDAY(EOMONTH(V23,-1)+1,2), 31 >DAY(EOMONTH(V23,0))+WEEKDAY(EOMONTH(V23,-1)+1,3)),"", 31 -WEEKDAY(EOMONTH(V23,-1)+1,2)+1) -> 26 | R28: =IF(OR( 32 <WEEKDAY(EOMONTH(V23,-1)+1,2), 32 >DAY(EOMONTH(V23,0))+WEEKDAY(EOMONTH(V23,-1)+1,3)),"", 32 -WEEKDAY(EOMONTH(V23,-1)+1,2)+1) -> 27 | S28: =IF(OR( 33 <WEEKDAY(EOMONTH(V23,-1)+1,2), 33 >DAY(EOMONTH(V23,0))+WEEKDAY(EOMONTH(V23,-1)+1,3)),"", 33 -WEEKDAY(EOMONTH(V23,-1)+1,2)+1) -> 28 | T28: =IF(OR( 34 <WEEKDAY(EOMONTH(V23,-1)+1,2), 34 >DAY(EOMONTH(V23,0))+WEEKDAY(EOMONTH(V23,-1)+1,3)),"", 34 -WEEKDAY(EOMONTH(V23,-1)+1,2)+1) -> 29 | U28: =IF(OR( 35 <WEEKDAY(EOMONTH(V23,-1)+1,2), 35 >DAY(EOMONTH(V23,0))+WEEKDAY(EOMONTH(V23,-1)+1,3)),"", 35 -WEEKDAY(EOMONTH(V23,-1)+1,2)+1) -> 30
A29: =IF(A27>=23,A27-24,A27)+1 -> 20 | B29: 00 | C29: =IF(C27>=23,C27-24,C27)+1 -> 20 | D29: 00 | E29: =IF(E27>=23,E27-24,E27)+1 -> 20 | F29: 00 | G29: =IF(G27>=23,G27-24,G27)+1 -> 20 | H29: 00 | I29: =IF(I27>=23,I27-24,I27)+1 -> 20 | J29: 00 | O29: =IF(OR( 36 <WEEKDAY(EOMONTH(V23,-1)+1,2), 36 >DAY(EOMONTH(V23,0))+WEEKDAY(EOMONTH(V23,-1)+1,3)),"", 36 -WEEKDAY(EOMONTH(V23,-1)+1,2)+1) -> 31 | P29: =IF(OR( 37 <WEEKDAY(EOMONTH(V23,-1)+1,2), 37 >DAY(EOMONTH(V23,0))+WEEKDAY(EOMONTH(V23,-1)+1,3)),"", 37 -WEEKDAY(EOMONTH(V23,-1)+1,2)+1) | Q29: =IF(OR( 38 <WEEKDAY(EOMONTH(V23,-1)+1,2), 38 >DAY(EOMONTH(V23,0))+WEEKDAY(EOMONTH(V23,-1)+1,3)),"", 38 -WEEKDAY(EOMONTH(V23,-1)+1,2)+1) | R29: =IF(OR( 39 <WEEKDAY(EOMONTH(V23,-1)+1,2), 39 >DAY(EOMONTH(V23,0))+WEEKDAY(EOMONTH(V23,-1)+1,3)),"", 39 -WEEKDAY(EOMONTH(V23,-1)+1,2)+1) | S29: =IF(OR( 40 <WEEKDAY(EOMONTH(V23,-1)+1,2), 40 >DAY(EOMONTH(V23,0))+WEEKDAY(EOMONTH(V23,-1)+1,3)),"", 40 -WEEKDAY(EOMONTH(V23,-1)+1,2)+1) | T29: =IF(OR( 41 <WEEKDAY(EOMONTH(V23,-1)+1,2), 41 >DAY(EOMONTH(V23,0))+WEEKDAY(EOMONTH(V23,-1)+1,3)),"", 41 -WEEKDAY(EOMONTH(V23,-1)+1,2)+1) | U29: =IF(OR( 42 <WEEKDAY(EOMONTH(V23,-1)+1,2), 42 >DAY(EOMONTH(V23,0))+WEEKDAY(EOMONTH(V23,-1)+1,3)),"", 42 -WEEKDAY(EOMONTH(V23,-1)+1,2)+1)
B30: 30 | D30: 30 | F30: 30 | H30: 30 | J30: 30 | O30: =VLOOKUP(MONTH( V30 ),X3:Y14,2) -> Апрель | T30: =YEAR(V30) -> 2014 | V30: =DATE(YEAR(V1),MONTH(V1)+W30,IF(DAY(V1)>VLOOKUP(MONTH(V1)+W30,X2:Z14,3),VLOOKUP(MONTH(V1)+W30,X2:Z14,3),DAY(V1))) -> 41745 | W30: 3
A31: =IFERROR(INDIRECT(ADDRESS(MATCH(CONCATENATE(DAY(A$2),".",MONTH(A$2)),$AA$2:$AA$12,0)+1,31)),IFERROR(CONCATENATE("Выходной за ",INDIRECT(ADDRESS(MATCH(CONCATENATE(DAY(A$2),".",MONTH(A$2)),$AA$14:$AA$24,0)+13,31))),"Дела на день")) -> Дела на день | C31: =IFERROR(INDIRECT(ADDRESS(MATCH(CONCATENATE(DAY(C$2),".",MONTH(C$2)),$AA$2:$AA$12,0)+1,31)),IFERROR(CONCATENATE("Выходной за ",INDIRECT(ADDRESS(MATCH(CONCATENATE(DAY(C$2),".",MONTH(C$2)),$AA$14:$AA$24,0)+13,31))),"Дела на день")) -> Дела на день | E31: =IFERROR(INDIRECT(ADDRESS(MATCH(CONCATENATE(DAY(E$2),".",MONTH(E$2)),$AA$2:$AA$12,0)+1,31)),IFERROR(CONCATENATE("Выходной за ",INDIRECT(ADDRESS(MATCH(CONCATENATE(DAY(E$2),".",MONTH(E$2)),$AA$14:$AA$24,0)+13,31))),"Дела на день")) -> Дела на день | G31: =IFERROR(INDIRECT(ADDRESS(MATCH(CONCATENATE(DAY(G$2),".",MONTH(G$2)),$AA$2:$AA$12,0)+1,31)),IFERROR(CONCATENATE("Выходной за ",INDIRECT(ADDRESS(MATCH(CONCATENATE(DAY(G$2),".",MONTH(G$2)),$AA$14:$AA$24,0)+13,31))),"Дела на день")) -> Дела на день | I31: =IFERROR(INDIRECT(ADDRESS(MATCH(CONCATENATE(DAY(I$2),".",MONTH(I$2)),$AA$2:$AA$12,0)+1,31)),IFERROR(CONCATENATE("Выходной за ",INDIRECT(ADDRESS(MATCH(CONCATENATE(DAY(I$2),".",MONTH(I$2)),$AA$14:$AA$24,0)+13,31))),"Дела на день")) -> Дела на день | O31: =IF(OR( 1 <WEEKDAY(EOMONTH(V30,-1)+1,2), 1 >DAY(EOMONTH(V30,0))+WEEKDAY(EOMONTH(V30,-1)+1,3)),"", 1 -WEEKDAY(EOMONTH(V30,-1)+1,2)+1) | P31: =IF(OR( 2 <WEEKDAY(EOMONTH(V30,-1)+1,2), 2 >DAY(EOMONTH(V30,0))+WEEKDAY(EOMONTH(V30,-1)+1,3)),"", 2 -WEEKDAY(EOMONTH(V30,-1)+1,2)+1) -> 1 | Q31: =IF(OR( 3 <WEEKDAY(EOMONTH(V30,-1)+1,2), 3 >DAY(EOMONTH(V30,0))+WEEKDAY(EOMONTH(V30,-1)+1,3)),"", 3 -WEEKDAY(EOMONTH(V30,-1)+1,2)+1) -> 2 | R31: =IF(OR( 4 <WEEKDAY(EOMONTH(V30,-1)+1,2), 4 >DAY(EOMONTH(V30,0))+WEEKDAY(EOMONTH(V30,-1)+1,3)),"", 4 -WEEKDAY(EOMONTH(V30,-1)+1,2)+1) -> 3 | S31: =IF(OR( 5 <WEEKDAY(EOMONTH(V30,-1)+1,2), 5 >DAY(EOMONTH(V30,0))+WEEKDAY(EOMONTH(V30,-1)+1,3)),"", 5 -WEEKDAY(EOMONTH(V30,-1)+1,2)+1) -> 4 | T31: =IF(OR( 6 <WEEKDAY(EOMONTH(V30,-1)+1,2), 6 >DAY(EOMONTH(V30,0))+WEEKDAY(EOMONTH(V30,-1)+1,3)),"", 6 -WEEKDAY(EOMONTH(V30,-1)+1,2)+1) -> 5 | U31: =IF(OR( 7 <WEEKDAY(EOMONTH(V30,-1)+1,2), 7 >DAY(EOMONTH(V30,0))+WEEKDAY(EOMONTH(V30,-1)+1,3)),"", 7 -WEEKDAY(EOMONTH(V30,-1)+1,2)+1) -> 6
O32: =IF(OR( 8 <WEEKDAY(EOMONTH(V30,-1)+1,2), 8 >DAY(EOMONTH(V30,0))+WEEKDAY(EOMONTH(V30,-1)+1,3)),"", 8 -WEEKDAY(EOMONTH(V30,-1)+1,2)+1) -> 7 | P32: =IF(OR( 9 <WEEKDAY(EOMONTH(V30,-1)+1,2), 9 >DAY(EOMONTH(V30,0))+WEEKDAY(EOMONTH(V30,-1)+1,3)),"", 9 -WEEKDAY(EOMONTH(V30,-1)+1,2)+1) -> 8 | Q32: =IF(OR( 10 <WEEKDAY(EOMONTH(V30,-1)+1,2), 10 >DAY(EOMONTH(V30,0))+WEEKDAY(EOMONTH(V30,-1)+1,3)),"", 10 -WEEKDAY(EOMONTH(V30,-1)+1,2)+1) -> 9 | R32: =IF(OR( 11 <WEEKDAY(EOMONTH(V30,-1)+1,2), 11 >DAY(EOMONTH(V30,0))+WEEKDAY(EOMONTH(V30,-1)+1,3)),"", 11 -WEEKDAY(EOMONTH(V30,-1)+1,2)+1) -> 10 | S32: =IF(OR( 12 <WEEKDAY(EOMONTH(V30,-1)+1,2), 12 >DAY(EOMONTH(V30,0))+WEEKDAY(EOMONTH(V30,-1)+1,3)),"", 12 -WEEKDAY(EOMONTH(V30,-1)+1,2)+1) -> 11 | T32: =IF(OR( 13 <WEEKDAY(EOMONTH(V30,-1)+1,2), 13 >DAY(EOMONTH(V30,0))+WEEKDAY(EOMONTH(V30,-1)+1,3)),"", 13 -WEEKDAY(EOMONTH(V30,-1)+1,2)+1) -> 12 | U32: =IF(OR( 14 <WEEKDAY(EOMONTH(V30,-1)+1,2), 14 >DAY(EOMONTH(V30,0))+WEEKDAY(EOMONTH(V30,-1)+1,3)),"", 14 -WEEKDAY(EOMONTH(V30,-1)+1,2)+1) -> 13
K33: IV не важно не срочно | M33: III не важно срочно | O33: =IF(OR( 15 <WEEKDAY(EOMONTH(V30,-1)+1,2), 15 >DAY(EOMONTH(V30,0))+WEEKDAY(EOMONTH(V30,-1)+1,3)),"", 15 -WEEKDAY(EOMONTH(V30,-1)+1,2)+1) -> 14 | P33: =IF(OR( 16 <WEEKDAY(EOMONTH(V30,-1)+1,2), 16 >DAY(EOMONTH(V30,0))+WEEKDAY(EOMONTH(V30,-1)+1,3)),"", 16 -WEEKDAY(EOMONTH(V30,-1)+1,2)+1) -> 15 | Q33: =IF(OR( 17 <WEEKDAY(EOMONTH(V30,-1)+1,2), 17 >DAY(EOMONTH(V30,0))+WEEKDAY(EOMONTH(V30,-1)+1,3)),"", 17 -WEEKDAY(EOMONTH(V30,-1)+1,2)+1) -> 16 | R33: =IF(OR( 18 <WEEKDAY(EOMONTH(V30,-1)+1,2), 18 >DAY(EOMONTH(V30,0))+WEEKDAY(EOMONTH(V30,-1)+1,3)),"", 18 -WEEKDAY(EOMONTH(V30,-1)+1,2)+1) -> 17 | S33: =IF(OR( 19 <WEEKDAY(EOMONTH(V30,-1)+1,2), 19 >DAY(EOMONTH(V30,0))+WEEKDAY(EOMONTH(V30,-1)+1,3)),"", 19 -WEEKDAY(EOMONTH(V30,-1)+1,2)+1) -> 18 | T33: =IF(OR( 20 <WEEKDAY(EOMONTH(V30,-1)+1,2), 20 >DAY(EOMONTH(V30,0))+WEEKDAY(EOMONTH(V30,-1)+1,3)),"", 20 -WEEKDAY(EOMONTH(V30,-1)+1,2)+1) -> 19 | U33: =IF(OR( 21 <WEEKDAY(EOMONTH(V30,-1)+1,2), 21 >DAY(EOMONTH(V30,0))+WEEKDAY(EOMONTH(V30,-1)+1,3)),"", 21 -WEEKDAY(EOMONTH(V30,-1)+1,2)+1) -> 20
O34: =IF(OR( 22 <WEEKDAY(EOMONTH(V30,-1)+1,2), 22 >DAY(EOMONTH(V30,0))+WEEKDAY(EOMONTH(V30,-1)+1,3)),"", 22 -WEEKDAY(EOMONTH(V30,-1)+1,2)+1) -> 21 | P34: =IF(OR( 23 <WEEKDAY(EOMONTH(V30,-1)+1,2), 23 >DAY(EOMONTH(V30,0))+WEEKDAY(EOMONTH(V30,-1)+1,3)),"", 23 -WEEKDAY(EOMONTH(V30,-1)+1,2)+1) -> 22 | Q34: =IF(OR( 24 <WEEKDAY(EOMONTH(V30,-1)+1,2), 24 >DAY(EOMONTH(V30,0))+WEEKDAY(EOMONTH(V30,-1)+1,3)),"", 24 -WEEKDAY(EOMONTH(V30,-1)+1,2)+1) -> 23 | R34: =IF(OR( 25 <WEEKDAY(EOMONTH(V30,-1)+1,2), 25 >DAY(EOMONTH(V30,0))+WEEKDAY(EOMONTH(V30,-1)+1,3)),"", 25 -WEEKDAY(EOMONTH(V30,-1)+1,2)+1) -> 24 | S34: =IF(OR( 26 <WEEKDAY(EOMONTH(V30,-1)+1,2), 26 >DAY(EOMONTH(V30,0))+WEEKDAY(EOMONTH(V30,-1)+1,3)),"", 26 -WEEKDAY(EOMONTH(V30,-1)+1,2)+1) -> 25 | T34: =IF(OR( 27 <WEEKDAY(EOMONTH(V30,-1)+1,2), 27 >DAY(EOMONTH(V30,0))+WEEKDAY(EOMONTH(V30,-1)+1,3)),"", 27 -WEEKDAY(EOMONTH(V30,-1)+1,2)+1) -> 26 | U34: =IF(OR( 28 <WEEKDAY(EOMONTH(V30,-1)+1,2), 28 >DAY(EOMONTH(V30,0))+WEEKDAY(EOMONTH(V30,-1)+1,3)),"", 28 -WEEKDAY(EOMONTH(V30,-1)+1,2)+1) -> 27
O35: =IF(OR( 29 <WEEKDAY(EOMONTH(V30,-1)+1,2), 29 >DAY(EOMONTH(V30,0))+WEEKDAY(EOMONTH(V30,-1)+1,3)),"", 29 -WEEKDAY(EOMONTH(V30,-1)+1,2)+1) -> 28 | P35: =IF(OR( 30 <WEEKDAY(EOMONTH(V30,-1)+1,2), 30 >DAY(EOMONTH(V30,0))+WEEKDAY(EOMONTH(V30,-1)+1,3)),"", 30 -WEEKDAY(EOMONTH(V30,-1)+1,2)+1) -> 29 | Q35: =IF(OR( 31 <WEEKDAY(EOMONTH(V30,-1)+1,2), 31 >DAY(EOMONTH(V30,0))+WEEKDAY(EOMONTH(V30,-1)+1,3)),"", 31 -WEEKDAY(EOMONTH(V30,-1)+1,2)+1) -> 30 | R35: =IF(OR( 32 <WEEKDAY(EOMONTH(V30,-1)+1,2), 32 >DAY(EOMONTH(V30,0))+WEEKDAY(EOMONTH(V30,-1)+1,3)),"", 32 -WEEKDAY(EOMONTH(V30,-1)+1,2)+1) | S35: =IF(OR( 33 <WEEKDAY(EOMONTH(V30,-1)+1,2), 33 >DAY(EOMONTH(V30,0))+WEEKDAY(EOMONTH(V30,-1)+1,3)),"", 33 -WEEKDAY(EOMONTH(V30,-1)+1,2)+1) | T35: =IF(OR( 34 <WEEKDAY(EOMONTH(V30,-1)+1,2), 34 >DAY(EOMONTH(V30,0))+WEEKDAY(EOMONTH(V30,-1)+1,3)),"", 34 -WEEKDAY(EOMONTH(V30,-1)+1,2)+1) | U35: =IF(OR( 35 <WEEKDAY(EOMONTH(V30,-1)+1,2), 35 >DAY(EOMONTH(V30,0))+WEEKDAY(EOMONTH(V30,-1)+1,3)),"", 35 -WEEKDAY(EOMONTH(V30,-1)+1,2)+1)
O36: =IF(OR( 36 <WEEKDAY(EOMONTH(V30,-1)+1,2), 36 >DAY(EOMONTH(V30,0))+WEEKDAY(EOMONTH(V30,-1)+1,3)),"", 36 -WEEKDAY(EOMONTH(V30,-1)+1,2)+1) | P36: =IF(OR( 37 <WEEKDAY(EOMONTH(V30,-1)+1,2), 37 >DAY(EOMONTH(V30,0))+WEEKDAY(EOMONTH(V30,-1)+1,3)),"", 37 -WEEKDAY(EOMONTH(V30,-1)+1,2)+1) | Q36: =IF(OR( 38 <WEEKDAY(EOMONTH(V30,-1)+1,2), 38 >DAY(EOMONTH(V30,0))+WEEKDAY(EOMONTH(V30,-1)+1,3)),"", 38 -WEEKDAY(EOMONTH(V30,-1)+1,2)+1) | R36: =IF(OR( 39 <WEEKDAY(EOMONTH(V30,-1)+1,2), 39 >DAY(EOMONTH(V30,0))+WEEKDAY(EOMONTH(V30,-1)+1,3)),"", 39 -WEEKDAY(EOMONTH(V30,-1)+1,2)+1) | S36: =IF(OR( 40 <WEEKDAY(EOMONTH(V30,-1)+1,2), 40 >DAY(EOMONTH(V30,0))+WEEKDAY(EOMONTH(V30,-1)+1,3)),"", 40 -WEEKDAY(EOMONTH(V30,-1)+1,2)+1) | T36: =IF(OR( 41 <WEEKDAY(EOMONTH(V30,-1)+1,2), 41 >DAY(EOMONTH(V30,0))+WEEKDAY(EOMONTH(V30,-1)+1,3)),"", 41 -WEEKDAY(EOMONTH(V30,-1)+1,2)+1) | U36: =IF(OR( 42 <WEEKDAY(EOMONTH(V30,-1)+1,2), 42 >DAY(EOMONTH(V30,0))+WEEKDAY(EOMONTH(V30,-1)+1,3)),"", 42 -WEEKDAY(EOMONTH(V30,-1)+1,2)+1)
O37: =VLOOKUP(MONTH( V37 ),X3:Y14,2) -> Май | T37: =YEAR(V37) -> 2014 | V37: =DATE(YEAR(V1),MONTH(V1)+W37,IF(DAY(V1)>VLOOKUP(MONTH(V1)+W37,X2:Z14,3),VLOOKUP(MONTH(V1)+W37,X2:Z14,3),DAY(V1))) -> 41775 | W37: 4
O38: =IF(OR( 1 <WEEKDAY(EOMONTH(V37,-1)+1,2), 1 >DAY(EOMONTH(V37,0))+WEEKDAY(EOMONTH(V37,-1)+1,3)),"", 1 -WEEKDAY(EOMONTH(V37,-1)+1,2)+1) | P38: =IF(OR( 2 <WEEKDAY(EOMONTH(V37,-1)+1,2), 2 >DAY(EOMONTH(V37,0))+WEEKDAY(EOMONTH(V37,-1)+1,3)),"", 2 -WEEKDAY(EOMONTH(V37,-1)+1,2)+1) | Q38: =IF(OR( 3 <WEEKDAY(EOMONTH(V37,-1)+1,2), 3 >DAY(EOMONTH(V37,0))+WEEKDAY(EOMONTH(V37,-1)+1,3)),"", 3 -WEEKDAY(EOMONTH(V37,-1)+1,2)+1) | R38: =IF(OR( 4 <WEEKDAY(EOMONTH(V37,-1)+1,2), 4 >DAY(EOMONTH(V37,0))+WEEKDAY(EOMONTH(V37,-1)+1,3)),"", 4 -WEEKDAY(EOMONTH(V37,-1)+1,2)+1) -> 1 | S38: =IF(OR( 5 <WEEKDAY(EOMONTH(V37,-1)+1,2), 5 >DAY(EOMONTH(V37,0))+WEEKDAY(EOMONTH(V37,-1)+1,3)),"", 5 -WEEKDAY(EOMONTH(V37,-1)+1,2)+1) -> 2 | T38: =IF(OR( 6 <WEEKDAY(EOMONTH(V37,-1)+1,2), 6 >DAY(EOMONTH(V37,0))+WEEKDAY(EOMONTH(V37,-1)+1,3)),"", 6 -WEEKDAY(EOMONTH(V37,-1)+1,2)+1) -> 3 | U38: =IF(OR( 7 <WEEKDAY(EOMONTH(V37,-1)+1,2), 7 >DAY(EOMONTH(V37,0))+WEEKDAY(EOMONTH(V37,-1)+1,3)),"", 7 -WEEKDAY(EOMONTH(V37,-1)+1,2)+1) -> 4
O39: =IF(OR( 8 <WEEKDAY(EOMONTH(V37,-1)+1,2), 8 >DAY(EOMONTH(V37,0))+WEEKDAY(EOMONTH(V37,-1)+1,3)),"", 8 -WEEKDAY(EOMONTH(V37,-1)+1,2)+1) -> 5 | P39: =IF(OR( 9 <WEEKDAY(EOMONTH(V37,-1)+1,2), 9 >DAY(EOMONTH(V37,0))+WEEKDAY(EOMONTH(V37,-1)+1,3)),"", 9 -WEEKDAY(EOMONTH(V37,-1)+1,2)+1) -> 6 | Q39: =IF(OR( 10 <WEEKDAY(EOMONTH(V37,-1)+1,2), 10 >DAY(EOMONTH(V37,0))+WEEKDAY(EOMONTH(V37,-1)+1,3)),"", 10 -WEEKDAY(EOMONTH(V37,-1)+1,2)+1) -> 7 | R39: =IF(OR( 11 <WEEKDAY(EOMONTH(V37,-1)+1,2), 11 >DAY(EOMONTH(V37,0))+WEEKDAY(EOMONTH(V37,-1)+1,3)),"", 11 -WEEKDAY(EOMONTH(V37,-1)+1,2)+1) -> 8 | S39: =IF(OR( 12 <WEEKDAY(EOMONTH(V37,-1)+1,2), 12 >DAY(EOMONTH(V37,0))+WEEKDAY(EOMONTH(V37,-1)+1,3)),"", 12 -WEEKDAY(EOMONTH(V37,-1)+1,2)+1) -> 9 | T39: =IF(OR( 13 <WEEKDAY(EOMONTH(V37,-1)+1,2), 13 >DAY(EOMONTH(V37,0))+WEEKDAY(EOMONTH(V37,-1)+1,3)),"", 13 -WEEKDAY(EOMONTH(V37,-1)+1,2)+1) -> 10 | U39: =IF(OR( 14 <WEEKDAY(EOMONTH(V37,-1)+1,2), 14 >DAY(EOMONTH(V37,0))+WEEKDAY(EOMONTH(V37,-1)+1,3)),"", 14 -WEEKDAY(EOMONTH(V37,-1)+1,2)+1) -> 11

Sheet планер 45-15
A1: понедельник | D1: =$N$1-WEEKDAY($N$1,3)+0 -> 41652 | E1: вторник | H1: =$N$1-WEEKDAY($N$1,3)+1 -> 41653 | I1: среда | L1: =$N$1-WEEKDAY($N$1,3)+2 -> 41654 | M1: 0 | N1: =TODAY()+7*M1 -> 41655 | O1: четверг | R1: =$N$1-WEEKDAY($N$1,3)+3 -> 41655 | S1: пятница | V1: =$N$1-WEEKDAY($N$1,3)+4 -> 41656 | W1: суббота | AB1: =$N$1-WEEKDAY($N$1,3)+5 -> 41657 | AF1: =YEAR($N$1) -> 2014 | AJ1: Для Пасхи
A2: =IFERROR(INDIRECT(ADDRESS(MATCH(CONCATENATE(DAY(D1),".",MONTH(D1)),$AE$2:$AE$12,0)+1,35)),IFERROR(CONCATENATE("Выходной за ",INDIRECT(ADDRESS(MATCH(CONCATENATE(DAY(D1),".",MONTH(D1)),$AE$14:$AE$24,0)+13,35))),"")) | E2: =IFERROR(INDIRECT(ADDRESS(MATCH(CONCATENATE(DAY(H1),".",MONTH(H1)),$AE$2:$AE$12,0)+1,35)),IFERROR(CONCATENATE("Выходной за ",INDIRECT(ADDRESS(MATCH(CONCATENATE(DAY(H1),".",MONTH(H1)),$AE$14:$AE$24,0)+13,35))),"")) | I2: =IFERROR(INDIRECT(ADDRESS(MATCH(CONCATENATE(DAY(L1),".",MONTH(L1)),$AE$2:$AE$12,0)+1,35)),IFERROR(CONCATENATE("Выходной за ",INDIRECT(ADDRESS(MATCH(CONCATENATE(DAY(L1),".",MONTH(L1)),$AE$14:$AE$24,0)+13,35))),"")) | O2: =IFERROR(INDIRECT(ADDRESS(MATCH(CONCATENATE(DAY(R1),".",MONTH(R1)),$AE$2:$AE$12,0)+1,35)),IFERROR(CONCATENATE("Выходной за ",INDIRECT(ADDRESS(MATCH(CONCATENATE(DAY(R1),".",MONTH(R1)),$AE$14:$AE$24,0)+13,35))),"")) | S2: =IFERROR(INDIRECT(ADDRESS(MATCH(CONCATENATE(DAY(V1),".",MONTH(V1)),$AE$2:$AE$12,0)+1,35)),IFERROR(CONCATENATE("Выходной за ",INDIRECT(ADDRESS(MATCH(CONCATENATE(DAY(V1),".",MONTH(V1)),$AE$14:$AE$24,0)+13,35))),"")) | W2: =IFERROR(INDIRECT(ADDRESS(MATCH(CONCATENATE(DAY(Z1),".",MONTH(Z1)),$AE$2:$AE$12,0)+1,35)),IFERROR(CONCATENATE("Выходной за ",INDIRECT(ADDRESS(MATCH(CONCATENATE(DAY(Z1),".",MONTH(Z1)),$AE$14:$AE$24,0)+13,35))),"")) | AE2: =CONCATENATE(AF2,".",AG2) -> 1.1 | AF2: 1 | AG2: 1 | AH2: =DATE(AF$1,AG2,AF2) -> 41640 | AI2: Новый год | AJ2: а | AK2: =MOD(AF1,19) -> 0
AE3: =CONCATENATE(AF3,".",AG3) -> 7.1 | AF3: 7 | AG3: 1 | AH3: =DATE(AF$1,AG3,AF3) -> 41646 | AI3: Рождество Христово | AJ3: б | AK3: =MOD(AF1,4) -> 2
AE4: =CONCATENATE(AF4,".",AG4) -> 8.3 | AF4: 8 | AG4: 3 | AH4: =DATE(AF$1,AG4,AF4) -> 41706 | AI4: Женский день | AJ4: в | AK4: =MOD(AF1,7) -> 5
A5: 9 | B5: 00 | E5: =$A5 -> 9 | F5: 00 | I5: =$A5 -> 9 | J5: 00 | O5: =$A5 -> 9 | P5: 00 | S5: =$A5 -> 9 | T5: 00 | W5: =$A5+3 -> 12 | X5: 00 | AE5: =CONCATENATE(AF5,".",AG5) -> 1.5 | AF5: 1 | AG5: 5 | AH5: =DATE(AF$1,AG5,AF5) -> 41760 | AI5: День солидарности трудящихся | AJ5: г | AK5: =MOD(19*AK2+15,30) -> 15
B6: 15 | F6: 15 | J6: 15 | P6: 15 | T6: 15 | X6: 15 | AE6: =CONCATENATE(AF6,".",AG6) -> 2.5 | AF6: 2 | AG6: 5 | AH6: =DATE(AF$1,AG6,AF6) -> 41761 | AI6: День солидарности трудящихся | AJ6: д | AK6: =MOD(2*AK3+4*AK4+6*AK5+6,7) -> 1
B7: 30 | F7: 30 | J7: 30 | P7: 30 | T7: 30 | X7: 30 | AE7: =CONCATENATE(AF7,".",AG7) -> 9.5 | AF7: 9 | AG7: 5 | AH7: =DATE(AF$1,AG7,AF7) -> 41768 | AI7: День Победы
B8: 45 | F8: 45 | J8: 45 | P8: 45 | T8: 45 | X8: 45 | AE8: =CONCATENATE(AF8,".",AG8) -> 28.6 | AF8: 28 | AG8: 6 | AH8: =DATE(AF$1,AG8,AF8) -> 41818 | AI8: День Конституции Украины
A9: =IF(A5>=23,A5-24,A5)+1 -> 10 | B9: 00 | E9: =IF(E5>=23,E5-24,E5)+1 -> 10 | F9: 00 | I9: =IF(I5>=23,I5-24,I5)+1 -> 10 | J9: 00 | O9: =IF(O5>=23,O5-24,O5)+1 -> 10 | P9: 00 | S9: =IF(S5>=23,S5-24,S5)+1 -> 10 | T9: 00 | W9: =IF(W5>=23,W5-24,W5)+1 -> 13 | X9: 00 | AE9: =CONCATENATE(AF9,".",AG9) -> 24.8 | AF9: 24 | AG9: 8 | AH9: =DATE(AF$1,AG9,AF9) -> 41875 | AI9: День независимости Украины
B10: 15 | F10: 15 | J10: 15 | P10: 15 | T10: 15 | X10: 15 | AE10: =CONCATENATE(DAY(AH10),".",MONTH(AH10)) -> 20.4 | AF10: =IF(AK5+AK6<9,22+AK5+AK6,AK5+AK6-9)+13 -> 20 | AG10: =IF(AK5+AK6<9,3,4) -> 4 | AH10: =DATE(AF$1,AG10,AF10) -> 41749 | AI10: Пасха
B11: 30 | F11: 30 | J11: 30 | P11: 30 | T11: 30 | X11: 30 | AE11: =CONCATENATE(DAY(AH11),".",MONTH(AH11)) -> 8.6 | AF11: =AF10+49 -> 69 | AG11: =AG10 -> 4 | AH11: =DATE(AF$1,AG11,AF11) -> 41798 | AI11: Троица
B12: 45 | F12: 45 | J12: 45 | P12: 45 | T12: 45 | X12: 45
A13: =IF(A9>=23,A9-24,A9)+1 -> 11 | B13: 00 | E13: =IF(E9>=23,E9-24,E9)+1 -> 11 | F13: 00 | I13: =IF(I9>=23,I9-24,I9)+1 -> 11 | J13: 00 | O13: =IF(O9>=23,O9-24,O9)+1 -> 11 | P13: 00 | S13: =IF(S9>=23,S9-24,S9)+1 -> 11 | T13: 00 | W13: =IF(W9>=23,W9-24,W9)+1 -> 14 | X13: 00 | AI13: Переносы
B14: 15 | F14: 15 | J14: 15 | P14: 15 | T14: 15 | X14: 15 | AE14: =IFERROR(CONCATENATE(DAY(AH14),".",MONTH(AH14)),"") | AH14: =IF(WEEKDAY(AH2,2)>5,AH2+(8-WEEKDAY(AH2,2)),"") | AI14: =AI2 -> Новый год
B15: 30 | F15: 30 | J15: 30 | P15: 30 | T15: 30 | X15: 30 | AE15: =IFERROR(CONCATENATE(DAY(AH15),".",MONTH(AH15)),"") | AH15: =IF(WEEKDAY(AH3,2)>5,AH3+(8-WEEKDAY(AH3,2)),"") | AI15: =AI3 -> Рождество Христово
B16: 45 | F16: 45 | J16: 45 | P16: 45 | T16: 45 | X16: 45 | AE16: =IFERROR(CONCATENATE(DAY(AH16),".",MONTH(AH16)),"") -> 10.3 | AH16: =IF(WEEKDAY(AH4,2)>5,AH4+(8-WEEKDAY(AH4,2)),"") -> 41708 | AI16: =AI4 -> Женский день
A17: =IF(A13>=23,A13-24,A13)+1 -> 12 | B17: 00 | E17: =IF(E13>=23,E13-24,E13)+1 -> 12 | F17: 00 | I17: =IF(I13>=23,I13-24,I13)+1 -> 12 | J17: 00 | O17: =IF(O13>=23,O13-24,O13)+1 -> 12 | P17: 00 | S17: =IF(S13>=23,S13-24,S13)+1 -> 12 | T17: 00 | W17: =IF(W13>=23,W13-24,W13)+1 -> 15 | X17: 00 | AE17: =IFERROR(CONCATENATE(DAY(AH17),".",MONTH(AH17)),"") | AH17: =IF(WEEKDAY(AH5,2)>5,AH5+2,"") | AI17: =AI5 -> День солидарности трудящихся
B18: 15 | F18: 15 | J18: 15 | P18: 15 | T18: 15 | X18: 15 | AE18: =IFERROR(CONCATENATE(DAY(AH18),".",MONTH(AH18)),"") | AH18: =IF(WEEKDAY(AH6,2)>5,AH6+2,"") | AI18: =AI6 -> День солидарности трудящихся
B19: 30 | F19: 30 | J19: 30 | P19: 30 | T19: 30 | X19: 30 | AE19: =IFERROR(CONCATENATE(DAY(AH19),".",MONTH(AH19)),"") | AH19: =IF(WEEKDAY(AH7,2)>5,AH7+(8-WEEKDAY(AH7,2)),"") | AI19: =AI7 -> День Победы
B20: 45 | F20: 45 | J20: 45 | P20: 45 | T20: 45 | X20: 45 | AE20: =IFERROR(CONCATENATE(DAY(AH20),".",MONTH(AH20)),"") -> 30.6 | AH20: =IF(WEEKDAY(AH8,2)>5,AH8+(8-WEEKDAY(AH8,2)),"") -> 41820 | AI20: =AI8 -> День Конституции Украины
A21: =IF(A17>=23,A17-24,A17)+1 -> 13 | B21: 00 | E21: =IF(E17>=23,E17-24,E17)+1 -> 13 | F21: 00 | I21: =IF(I17>=23,I17-24,I17)+1 -> 13 | J21: 00 | O21: =IF(O17>=23,O17-24,O17)+1 -> 13 | P21: 00 | S21: =IF(S17>=23,S17-24,S17)+1 -> 13 | T21: 00 | W21: =IF(W17>=23,W17-24,W17)+1 -> 16 | X21: 00 | AE21: =IFERROR(CONCATENATE(DAY(AH21),".",MONTH(AH21)),"") -> 25.8 | AH21: =IF(WEEKDAY(AH9,2)>5,AH9+(8-WEEKDAY(AH9,2)),"") -> 41876 | AI21: =AI9 -> День независимости Украины
B22: 15 | F22: 15 | J22: 15 | P22: 15 | T22: 15 | X22: 15 | AE22: =IFERROR(CONCATENATE(DAY(AH22),".",MONTH(AH22)),"") -> 21.4 | AH22: =IF(WEEKDAY(AH10,2)>5,AH10+(8-WEEKDAY(AH10,2)),"") -> 41750 | AI22: Пасху
B23: 30 | F23: 30 | J23: 30 | P23: 30 | T23: 30 | X23: 30 | AE23: =IFERROR(CONCATENATE(DAY(AH23),".",MONTH(AH23)),"") -> 9.6 | AH23: =IF(WEEKDAY(AH11,2)>5,AH11+(8-WEEKDAY(AH11,2)),"") -> 41799 | AI23: Троицу
B24: 45 | F24: 45 | J24: 45 | P24: 45 | T24: 45 | X24: 45
A25: =IF(A21>=23,A21-24,A21)+1 -> 14 | B25: 00 | E25: =IF(E21>=23,E21-24,E21)+1 -> 14 | F25: 00 | I25: =IF(I21>=23,I21-24,I21)+1 -> 14 | J25: 00 | O25: =IF(O21>=23,O21-24,O21)+1 -> 14 | P25: 00 | S25: =IF(S21>=23,S21-24,S21)+1 -> 14 | T25: 00
B26: 15 | F26: 15 | J26: 15 | P26: 15 | T26: 15
B27: 30 | F27: 30 | J27: 30 | P27: 30 | T27: 30
B28: 45 | F28: 45 | J28: 45 | P28: 45 | T28: 45
A30: =IF(A25>=23,A25-24,A25)+1 -> 15 | B30: 00 | E30: =IF(E25>=23,E25-24,E25)+1 -> 15 | F30: 00 | I30: =IF(I25>=23,I25-24,I25)+1 -> 15 | J30: 00 | O30: =IF(O25>=23,O25-24,O25)+1 -> 15 | P30: 00 | S30: =IF(S25>=23,S25-24,S25)+1 -> 15 | T30: 00
B31: 15 | F31: 15 | J31: 15 | P31: 15 | T31: 15
B32: 30 | F32: 30 | J32: 30 | P32: 30 | T32: 30
B33: 45 | F33: 45 | J33: 45 | P33: 45 | T33: 45
A34: =IF(A30>=23,A30-24,A30)+1 -> 16 | B34: 00 | E34: =IF(E30>=23,E30-24,E30)+1 -> 16 | F34: 00 | I34: =IF(I30>=23,I30-24,I30)+1 -> 16 | J34: 00 | O34: =IF(O30>=23,O30-24,O30)+1 -> 16 | P34: 00 | S34: =IF(S30>=23,S30-24,S30)+1 -> 16 | T34: 00 | W34: воскресенье | AB34: =$N$1-WEEKDAY($N$1,3)+6 -> 41658
B35: 15 | F35: 15 | J35: 15 | P35: 15 | T35: 15 | W35: =IFERROR(INDIRECT(ADDRESS(MATCH(CONCATENATE(DAY(AB34),".",MONTH(AB34)),$AE$2:$AE$12,0)+1,35)),IFERROR(CONCATENATE("Выходной за ",INDIRECT(ADDRESS(MATCH(CONCATENATE(DAY(AB34),".",MONTH(AB34)),$AE$14:$AE$24,0)+13,35))),""))
B36: 30 | F36: 30 | J36: 30 | P36: 30 | T36: 30
B37: 45 | F37: 45 | J37: 45 | P37: 45 | T37: 45
A38: =IF(A34>=23,A34-24,A34)+1 -> 17 | B38: 00 | E38: =IF(E34>=23,E34-24,E34)+1 -> 17 | F38: 00 | I38: =IF(I34>=23,I34-24,I34)+1 -> 17 | J38: 00 | O38: =IF(O34>=23,O34-24,O34)+1 -> 17 | P38: 00 | S38: =IF(S34>=23,S34-24,S34)+1 -> 17 | T38: 00 | W38: =$A$5+3 -> 12 | X38: 00
B39: 15 | F39: 15 | J39: 15 | P39: 15 | T39: 15 | X39: 15
B40: 30 | F40: 30 | J40: 30 | P40: 30 | T40: 30 | X40: 30
B41: 45 | F41: 45 | J41: 45 | P41: 45 | T41: 45 | X41: 45
...

Sheet планер простая неделя
A1: =CONCATENATE("понедельник") -> понедельник | B1: вторник | C1: среда | F1: четверг | G1: пятница | J1: =TODAY()+E4*7 -> 41655
A2: =$J$1-WEEKDAY($J$1,3)+0 -> 41652 | B2: =$J$1-WEEKDAY($J$1,3)+1 -> 41653 | C2: =$J$1-WEEKDAY($J$1,3)+2 -> 41654 | F2: =$J$1-WEEKDAY($J$1,3)+3 -> 41655 | G2: =$J$1-WEEKDAY($J$1,3)+4 -> 41656
A3: =IFERROR(VLOOKUP(A2,праздники!$D$2:$E$14,2,FALSE),IFERROR(CONCATENATE("Выходной за ",VLOOKUP(A2,праздники!$D$15:$E$28,2,FALSE)),"")) | B3: =IFERROR(VLOOKUP(B2,праздники!$D$2:$E$14,2,FALSE),IFERROR(CONCATENATE("Выходной за ",VLOOKUP(B2,праздники!$D$15:$E$28,2,FALSE)),"")) | C3: =IFERROR(VLOOKUP(C2,праздники!$D$2:$E$14,2,FALSE),IFERROR(CONCATENATE("Выходной за ",VLOOKUP(C2,праздники!$D$15:$E$28,2,FALSE)),"")) | F3: =IFERROR(VLOOKUP(F2,праздники!$D$2:$E$14,2,FALSE),IFERROR(CONCATENATE("Выходной за ",VLOOKUP(F2,праздники!$D$15:$E$28,2,FALSE)),"")) | G3: =IFERROR(VLOOKUP(G2,праздники!$D$2:$E$14,2,FALSE),IFERROR(CONCATENATE("Выходной за ",VLOOKUP(G2,праздники!$D$15:$E$28,2,FALSE)),""))
A4: =IFERROR(VLOOKUP(C4,праздники!$D$2:$E$14,2,FALSE),IFERROR(CONCATENATE("Выходной за ",VLOOKUP(C4,праздники!$D$15:$E$28,2,FALSE)),"")) | C4: =$J$1-WEEKDAY($J$1,3)+6 -> 41658 | D4: воскресенье | E4: 0 | F4: =IFERROR(VLOOKUP(H4,праздники!$D$2:$E$14,2,FALSE),IFERROR(CONCATENATE("Выходной за ",VLOOKUP(H4,праздники!$D$15:$E$28,2,FALSE)),"")) | H4: =$J$1-WEEKDAY($J$1,3)+5 -> 41657 | I4: суббота

Sheet праздники
B1: =календарь!A1 -> 2014 | F1: Для Пасхи | I1: =B1-1 -> 2013 | M1: =B1+1 -> 2015
A2: =CONCATENATE(B2,".",C2) -> 1.1 | B2: 1 | C2: 1 | D2: =DATE($B$1,C2,B2) -> 41640 | E2: Новый год | F2: а | G2: =MOD(B1,19) -> 0 | I2: а | J2: =MOD(I1,19) -> 18 | K2: =IF(D2<>"",DATE(I$1,MONTH(D2),DAY(D2)),"") -> 41275 | L2: =IF(E2<>"",E2,"") -> Новый год | M2: а | N2: =MOD(M1,19) -> 1 | O2: =IF(D2<>"",DATE(M$1,MONTH(D2),DAY(D2)),"") -> 42005 | P2: =IF(E2<>"",E2,"") -> Новый год
A3: =CONCATENATE(B3,".",C3) -> 7.1 | B3: 7 | C3: 1 | D3: =DATE($B$1,C3,B3) -> 41646 | E3: Рождество Христово | F3: б | G3: =MOD(B1,4) -> 2 | I3: б | J3: =MOD(I1,4) -> 1 | K3: =IF(D3<>"",DATE(I$1,MONTH(D3),DAY(D3)),"") -> 41281 | L3: =IF(E3<>"",E3,"") -> Рождество Христово | M3: б | N3: =MOD(M1,4) -> 3 | O3: =IF(D3<>"",DATE(M$1,MONTH(D3),DAY(D3)),"") -> 42011 | P3: =IF(E3<>"",E3,"") -> Рождество Христово
A4: =CONCATENATE(B4,".",C4) -> 8.3 | B4: 8 | C4: 3 | D4: =DATE($B$1,C4,B4) -> 41706 | E4: Женский день | F4: в | G4: =MOD(B1,7) -> 5 | I4: в | J4: =MOD(I1,7) -> 4 | K4: =IF(D4<>"",DATE(I$1,MONTH(D4),DAY(D4)),"") -> 41341 | L4: =IF(E4<>"",E4,"") -> Женский день | M4: в | N4: =MOD(M1,7) -> 6 | O4: =IF(D4<>"",DATE(M$1,MONTH(D4),DAY(D4)),"") -> 42071 | P4: =IF(E4<>"",E4,"") -> Женский день
A5: =CONCATENATE(B5,".",C5) -> 1.5 | B5: 1 | C5: 5 | D5: =DATE($B$1,C5,B5) -> 41760 | E5: День солидарности трудящихся | F5: г | G5: =MOD(19*G2+15,30) -> 15 | I5: г | J5: =MOD(19*J2+15,30) -> 27 | K5: =IF(D5<>"",DATE(I$1,MONTH(D5),DAY(D5)),"") -> 41395 | L5: =IF(E5<>"",E5,"") -> День солидарности трудящихся | M5: г | N5: =MOD(19*N2+15,30) -> 4 | O5: =IF(D5<>"",DATE(M$1,MONTH(D5),DAY(D5)),"") -> 42125 | P5: =IF(E5<>"",E5,"") -> День солидарности трудящихся
A6: =CONCATENATE(B6,".",C6) -> 2.5 | B6: 2 | C6: 5 | D6: =DATE($B$1,C6,B6) -> 41761 | E6: День солидарности трудящихся | F6: д | G6: =MOD(2*G3+4*G4+6*G5+6,7) -> 1 | I6: д | J6: =MOD(2*J3+4*J4+6*J5+6,7) -> 4 | K6: =IF(D6<>"",DATE(I$1,MONTH(D6),DAY(D6)),"") -> 41396 | L6: =IF(E6<>"",E6,"") -> День солидарности трудящихся | M6: д | N6: =MOD(2*N3+4*N4+6*N5+6,7) -> 4 | O6: =IF(D6<>"",DATE(M$1,MONTH(D6),DAY(D6)),"") -> 42126 | P6: =IF(E6<>"",E6,"") -> День солидарности трудящихся
A7: =CONCATENATE(B7,".",C7) -> 9.5 | B7: 9 | C7: 5 | D7: =DATE($B$1,C7,B7) -> 41768 | E7: День Победы | K7: =IF(D7<>"",DATE(I$1,MONTH(D7),DAY(D7)),"") -> 41403 | L7: =IF(E7<>"",E7,"") -> День Победы | O7: =IF(D7<>"",DATE(M$1,MONTH(D7),DAY(D7)),"") -> 42133 | P7: =IF(E7<>"",E7,"") -> День Победы
A8: =CONCATENATE(B8,".",C8) -> 28.6 | B8: 28 | C8: 6 | D8: =DATE($B$1,C8,B8) -> 41818 | E8: День Конституции Украины | K8: =IF(D8<>"",DATE(I$1,MONTH(D8),DAY(D8)),"") -> 41453 | L8: =IF(E8<>"",E8,"") -> День Конституции Украины | O8: =IF(D8<>"",DATE(M$1,MONTH(D8),DAY(D8)),"") -> 42183 | P8: =IF(E8<>"",E8,"") -> День Конституции Украины
A9: =CONCATENATE(B9,".",C9) -> 24.8 | B9: 24 | C9: 8 | D9: =DATE($B$1,C9,B9) -> 41875 | E9: День независимости Украины | K9: =IF(D9<>"",DATE(I$1,MONTH(D9),DAY(D9)),"") -> 41510 | L9: =IF(E9<>"",E9,"") -> День независимости Украины | O9: =IF(D9<>"",DATE(M$1,MONTH(D9),DAY(D9)),"") -> 42240 | P9: =IF(E9<>"",E9,"") -> День независимости Украины
A10: =CONCATENATE(DAY(D10),".",MONTH(D10)) -> 20.4 | B10: =IF(G5+G6<9,22+G5+G6,G5+G6-9)+13 -> 20 | C10: =IF(G5+G6<9,3,4) -> 4 | D10: =DATE($B$1,C10,B10) -> 41749 | E10: Пасха | I10: =IF(J5+J6<9,22+J5+J6,J5+J6-9)+13 -> 35 | J10: =IF(J5+J6<9,3,4) -> 4 | K10: =DATE($I$1,J10,I10) -> 41399 | L10: =IF(E10<>"",E10,"") -> Пасха | M10: =IF(N5+N6<9,22+N5+N6,N5+N6-9)+13 -> 43 | N10: =IF(N5+N6<9,3,4) -> 3 | O10: =DATE($M$1,N10,M10) -> 42106 | P10: =IF(E10<>"",E10,"") -> Пасха
A11: =CONCATENATE(DAY(D11),".",MONTH(D11)) -> 8.6 | B11: =B10+49 -> 69 | C11: =C10 -> 4 | D11: =DATE($B$1,C11,B11) -> 41798 | E11: Троица | I11: =I10+49 -> 84 | J11: =J10 -> 4 | K11: =DATE($I$1,J11,I11) -> 41448 | L11: =IF(E11<>"",E11,"") -> Троица | M11: =M10+49 -> 92 | N11: =N10 -> 3 | O11: =DATE($M$1,N11,M11) -> 42155 | P11: =IF(E11<>"",E11,"") -> Троица
A12: =CONCATENATE(DAY(D12),".",MONTH(D12)) -> 25.5 | B12: =31-WEEKDAY(EOMONTH(DATE(B1,5,1),0),2) -> 25 | C12: 5 | D12: =DATE($B$1,C12,B12) -> 41784 | E12: День Киева | I12: =31-WEEKDAY(EOMONTH(DATE(I1,5,1),0),2) -> 26 | J12: 5 | K12: =DATE($I$1,J12,I12) -> 41420 | L12: =IF(E12<>"",E12,"") -> День Киева | M12: =31-WEEKDAY(EOMONTH(DATE(M1,5,1),0),2) -> 24 | N12: 5 | O12: =DATE($M$1,N12,M12) -> 42148 | P12: =IF(E12<>"",E12,"") -> День Киева
K13: =IF(D13<>"",DATE(I$1,MONTH(D13),DAY(D13)),"") | L13: =IF(E13<>"",E13,"") | P13: =IF(E13<>"",E13,"")
K14: =IF(D14<>"",DATE(I$1,MONTH(D14),DAY(D14)),"") | L14: =IF(E14<>"",E14,"") | P14: =IF(E14<>"",E14,"")
E15: Переносы | K15: =IF(D15<>"",DATE(I$1,MONTH(D15),DAY(D15)),"") | L15: =IF(E15<>"",E15,"") -> Переносы | P15: =IF(E15<>"",E15,"") -> Переносы
A16: =IFERROR(CONCATENATE(DAY(D16),".",MONTH(D16)),"") | D16: =IF(WEEKDAY(D2,2)>5,D2+(8-WEEKDAY(D2,2)),"") | E16: =E2 -> Новый год | K16: =IF(WEEKDAY(K2,2)>5,K2+(8-WEEKDAY(K2,2)),"") | L16: =IF(E16<>"",E16,"") -> Новый год | O16: =IF(WEEKDAY(O2,2)>5,O2+(8-WEEKDAY(O2,2)),"") | P16: =IF(E16<>"",E16,"") -> Новый год
A17: =IFERROR(CONCATENATE(DAY(D17),".",MONTH(D17)),"") | D17: =IF(WEEKDAY(D3,2)>5,D3+(8-WEEKDAY(D3,2)),"") | E17: =E3 -> Рождество Христово | K17: =IF(WEEKDAY(K3,2)>5,K3+(8-WEEKDAY(K3,2)),"") | L17: =IF(E17<>"",E17,"") -> Рождество Христово | O17: =IF(WEEKDAY(O3,2)>5,O3+(8-WEEKDAY(O3,2)),"") | P17: =IF(E17<>"",E17,"") -> Рождество Христово
